Workbook

Sheet akrual rocny
A1: Vybrané výdavky verejnej správy na ročnej báze - akruálna metodika (ESA2010, v tis. eur)
B2: 2005 | C2: 2006 | D2: 2007 | E2: 2008 | F2: 2009 | G2: 2010 | H2: 2011 | I2: 2012 | J2: 2013 | K2: 2014 | L2: 2015 | M2: 2016 | N2: 2017 | O2: 2018 | P2: 2019 | Q2: 2020 | R2: 2021 | S2: 2022 | T2: 2023 | U2: 2024 | V2: 2025
A3: Vybrané výdavky SP spolu | B3: =B4+B15+B17 -> 3629563.8 | C3: =C4+C15+C17 -> 3998467 | D3: =D4+D15+D17 -> 4400161.7 | E3: =E4+E15+E17 -> 4778999.4 | F3: =F4+F15+F17 -> 5352303.7 | G3: =G4+G15+G17 -> 5583871.8 | H3: =H4+H15+H17 -> 5772058.4 | I3: =I4+I15+I17 -> 6068252.7 | ... V3: =V4+V15+V17 -> 13794117
A4: Nemocenské dávky | B4: =SUM(B5:B13) -> 157357.77 | C4: =SUM(C5:C13) -> 176686.06 | D4: =SUM(D5:D13) -> 200439.64 | E4: =SUM(E5:E13) -> 246616 | F4: =SUM(F5:F13) -> 316960.09 | G4: =SUM(G5:G13) -> 338785.07 | H4: =SUM(H5:H13) -> 381763.9 | I4: =SUM(I5:I13) -> 428458.69 | ... V4: =SUM(V5:V13) -> 1069920.2
A5: - z toho dávka nemocenské | B5: =SUM('cash mesacny NEM'!C4:C15) -> 113879.87 | C5: =SUM('cash mesacny NEM'!C16:C27) -> 129756.52 | D5: =SUM('cash mesacny NEM'!C28:C39) -> 147652.08 | E5: =SUM('cash mesacny NEM'!C40:C51) -> 183203.03 | F5: =SUM('cash mesacny NEM'!C52:C63) -> 240494.97 | G5: =SUM('cash mesacny NEM'!C64:C75) -> 252929.81 | H5: =SUM('cash mesacny NEM'!C76:C87) -> 263778.01 | I5: =SUM('cash mesacny NEM'!C88:C99) -> 289664.64 | J5: =SUM('cash mesacny NEM'!C100:C111) -> 264304.61 | K5: =SUM('cash mesacny NEM'!C112:C123) -> 254748.75 | L5: =SUM('cash mesacny NEM'!C124:C135) -> 278792.15 | M5: =SUM('cash mesacny NEM'!C136:C147) -> 310819.37 | N5: =SUM('cash mesacny NEM'!C148:C159) -> 350794.23 | O5: =SUM('cash mesacny NEM'!C160:C171) -> 390343.37 | P5: =SUM('cash mesacny NEM'!C172:C183) -> 440098.19 | Q5: =SUM('cash mesacny NEM'!C184:C195) -> 580305.12 | R5: =SUM('cash mesacny NEM'!C196:C207) -> 707278.7 | S5: =SUM('cash mesacny NEM'!C208:C219) -> 598455.59 | T5: =SUM('cash mesacny NEM'!C220:C231) -> 592599.26 | U5: =SUM('cash mesacny NEM'!C232:C243) -> 634397.1 | V5: =SUM('cash mesacny NEM'!C244:C255) -> 622314.05
A6: - z toho dávka ošetrovné | B6: =SUM('cash mesacny NEM'!D4:D15) -> 4520.7266 | C6: =SUM('cash mesacny NEM'!D16:D27) -> 5090.336 | D6: =SUM('cash mesacny NEM'!D28:D39) -> 6266.2836 | E6: =SUM('cash mesacny NEM'!D40:D51) -> 7408.9612 | F6: =SUM('cash mesacny NEM'!D52:D63) -> 8203.0253 | G6: =SUM('cash mesacny NEM'!D64:D75) -> 8843.6024 | H6: =SUM('cash mesacny NEM'!D76:D87) -> 10481.161 | I6: =SUM('cash mesacny NEM'!D88:D99) -> 9570.0595 | J6: =SUM('cash mesacny NEM'!D100:D111) -> 8987.9359 | K6: =SUM('cash mesacny NEM'!D112:D123) -> 8721.7676 | L6: =SUM('cash mesacny NEM'!D124:D135) -> 10516.321 | M6: =SUM('cash mesacny NEM'!D136:D147) -> 12163.15 | N6: =SUM('cash mesacny NEM'!D148:D159) -> 14806.934 | O6: =SUM('cash mesacny NEM'!D160:D171) -> 17223.835 | P6: =SUM('cash mesacny NEM'!D172:D183) -> 19880.748 | Q6: =SUM('cash mesacny NEM'!D184:D195) -> 154493.59 | R6: =SUM('cash mesacny NEM'!D196:D207) -> 63218.634 | S6: =SUM('cash mesacny NEM'!D208:D219) -> 39376.737 | T6: =SUM('cash mesacny NEM'!D220:D231) -> 35395.51 | U6: =SUM('cash mesacny NEM'!D232:D243) -> 36826.754 | V6: =SUM('cash mesacny NEM'!D244:D255) -> 41249.987
A7: - z toho dávka materské | B7: =SUM('cash mesacny NEM'!E4:E15) -> 38923.487 | C7: =SUM('cash mesacny NEM'!E16:E27) -> 41808.161 | D7: =SUM('cash mesacny NEM'!E28:E39) -> 46355.908 | E7: =SUM('cash mesacny NEM'!E40:E51) -> 55887.886 | F7: =SUM('cash mesacny NEM'!E52:E63) -> 67933.017 | G7: =SUM('cash mesacny NEM'!E64:E75) -> 76649.938 | H7: =SUM('cash mesacny NEM'!E76:E87) -> 107124.36 | I7: =SUM('cash mesacny NEM'!E88:E99) -> 128873.31 | J7: =SUM('cash mesacny NEM'!E100:E111) -> 126098.15 | K7: =SUM('cash mesacny NEM'!E112:E123) -> 117269.5 | L7: =SUM('cash mesacny NEM'!E124:E135) -> 125732.29 | M7: =SUM('cash mesacny NEM'!E136:E147) -> 150852.6 | N7: =SUM('cash mesacny NEM'!E148:E159) -> 199154.59 | O7: =SUM('cash mesacny NEM'!E160:E171) -> 253582.17 | P7: =SUM('cash mesacny NEM'!E172:E183) -> 299597.63 | Q7: =SUM('cash mesacny NEM'!E184:E195) -> 308528.23 | R7: =SUM('cash mesacny NEM'!E196:E207) -> 316354.37 | S7: =SUM('cash mesacny NEM'!E208:E219) -> 335682.81 | T7: =SUM('cash mesacny NEM'!E220:E231) -> 341281.28 | U7: =SUM('cash mesacny NEM'!E232:E243) -> 344406.16 | V7: =SUM('cash mesacny NEM'!E244:E255) -> 344270.74
A8: - z toho dávka otcovské | B8: n/a | C8: n/a | D8: n/a | E8: n/a | F8: n/a | G8: n/a | H8: n/a | I8: n/a | J8: n/a | K8: n/a | L8: n/a | M8: n/a | N8: n/a | O8: n/a | P8: n/a | Q8: n/a | R8: n/a | S8: n/a | T8: =SUM('cash mesacny NEM'!F220:F231) -> 8725.4444 | U8: =SUM('cash mesacny NEM'!F232:F243) -> 8894.0726 | V8: =SUM('cash mesacny NEM'!F244:F255) -> 8879.3138
A9: - z toho vyrovnávacia dávka | B9: =SUM('cash mesacny NEM'!G4:G15) -> 33.683828 | C9: =SUM('cash mesacny NEM'!G16:G27) -> 31.209985 | D9: =SUM('cash mesacny NEM'!G28:G39) -> 24.838711 | E9: =SUM('cash mesacny NEM'!G40:G51) -> 35.840437 | F9: =SUM('cash mesacny NEM'!G52:G63) -> 48.69354 | G9: =SUM('cash mesacny NEM'!G64:G75) -> 46.80317 | H9: =SUM('cash mesacny NEM'!G76:G87) -> 58.06362 | I9: =SUM('cash mesacny NEM'!G88:G99) -> 52.53157 | J9: =SUM('cash mesacny NEM'!G100:G111) -> 43.72269 | K9: =SUM('cash mesacny NEM'!G112:G123) -> 71.93841 | L9: =SUM('cash mesacny NEM'!G124:G135) -> 49.4137 | M9: =SUM('cash mesacny NEM'!G136:G147) -> 55.408074 | N9: =SUM('cash mesacny NEM'!G148:G159) -> 74.71488 | O9: =SUM('cash mesacny NEM'!G160:G171) -> 86.045 | P9: =SUM('cash mesacny NEM'!G172:G183) -> 83.6353 | Q9: =SUM('cash mesacny NEM'!G184:G195) -> 62.1373 | R9: =SUM('cash mesacny NEM'!G196:G207) -> 62.5433 | S9: =SUM('cash mesacny NEM'!G208:G219) -> 71.9693 | T9: =SUM('cash mesacny NEM'!G220:G231) -> 72.2582 | U9: =SUM('cash mesacny NEM'!G232:G243) -> 56.4922 | V9: =SUM('cash mesacny NEM'!G244:G255) -> 79.5999
A10: - z toho dlhodobé ošetrovné | B10: n/a | C10: n/a | D10: n/a | E10: n/a | F10: n/a | G10: n/a | H10: n/a | I10: n/a | J10: n/a | K10: n/a | L10: n/a | M10: n/a | N10: n/a | O10: n/a | P10: n/a | Q10: n/a | R10: =SUM('cash mesacny NEM'!H196:H207) -> 998.19165 | S10: =SUM('cash mesacny NEM'!H208:H219) -> 2248.4888 | T10: =SUM('cash mesacny NEM'!H220:H231) -> 3233.3752 | U10: =SUM('cash mesacny NEM'!H232:H243) -> 4305.0802 | V10: =SUM('cash mesacny NEM'!H244:H255) -> 5717.2835
A11: - z toho dávka tehotenské | B11: n/a | C11: n/a | D11: n/a | E11: n/a | F11: n/a | G11: n/a | H11: n/a | I11: n/a | J11: n/a | K11: n/a | L11: n/a | M11: n/a | N11: n/a | O11: n/a | P11: n/a | Q11: n/a | R11: =SUM('cash mesacny NEM'!I196:I207) -> 31962.819 | S11: =SUM('cash mesacny NEM'!I208:I219) -> 46644.88 | T11: =SUM('cash mesacny NEM'!I220:I231) -> 46849.292 | U11: =SUM('cash mesacny NEM'!I232:I243) -> 46152.668 | V11: =SUM('cash mesacny NEM'!I244:I255) -> 46117.172
A12: - z toho zúčtovanie dávok | B12: =SUM('cash mesacny NEM'!J4:J15) -> 0 | C12: =SUM('cash mesacny NEM'!J16:J27) -> -0.16109 | D12: =SUM('cash mesacny NEM'!J28:J39) -> -46.812554 | E12: =SUM('cash mesacny NEM'!J40:J51) -> -135.54265 | F12: =SUM('cash mesacny NEM'!J52:J63) -> -9.10271 | G12: =SUM('cash mesacny NEM'!J64:J75) -> -8.2245 | H12: =SUM('cash mesacny NEM'!J76:J87) -> -5.71133 | I12: =SUM('cash mesacny NEM'!J88:J99) -> 0.4362 | J12: =SUM('cash mesacny NEM'!J100:J111) -> 0 | K12: =SUM('cash mesacny NEM'!J112:J123) -> -0.00724 | L12: =SUM('cash mesacny NEM'!J124:J135) -> -3.75209 | M12: =SUM('cash mesacny NEM'!J136:J147) -> -4.83232 | N12: =SUM('cash mesacny NEM'!J148:J159) -> -18.3564 | O12: =SUM('cash mesacny NEM'!J160:J171) -> -11.79037 | P12: =SUM('cash mesacny NEM'!J172:J183) -> -2.2124 | Q12: =SUM('cash mesacny NEM'!J184:J195) -> -0.8967 | R12: =SUM('cash mesacny NEM'!J196:J207) -> -3.4722 | S12: =SUM('cash mesacny NEM'!J208:J219) -> -6.54591 | T12: =SUM('cash mesacny NEM'!J220:J231) -> 2.3238 | U12: =SUM('cash mesacny NEM'!J232:J243) -> -19.72462 | V12: =SUM('cash mesacny NEM'!J244:J255) -> -1.8432
A13: - z toho zúčtované v triede 1090 (výdavky Správneho fondu) | B13: 0 | C13: 0 | D13: 187.34263 | E13: 215.82398 | F13: 289.48554 | G13: 323.14665 | H13: 328.01446 | I13: 297.71225 | J13: 307.59068 | K13: 296.90501 | L13: 368.3966 | M13: 368.18728 | N13: 564.8626 | O13: 674.41428 | P13: 729.62144 | Q13: 814.14419 | R13: 616.01825 | S13: 1393.19 | T13: 1150.6208 | U13: 1324.9135 | V13: 1293.9321
A14: Dávka v nezamestnanosti | B14: =SUM('cash mesacny DvN'!J3:J14) -> 82.084112 | C14: =SUM('cash mesacny DvN'!J15:J26) -> 63.983 | D14: =SUM('cash mesacny DvN'!J27:J38) -> 59.615898 | E14: =E15+E16 -> 66.121344 | F14: =F15+F16 -> 172.42967 | G14: =G15+G16 -> 150.33907 | H14: =H15+H16 -> 163.3339 | I14: =I15+I16 -> 175.77322 | J14: =J15+J16 -> 174.3076 | K14: =K15+K16 -> 154.72125 | L14: =L15+L16 -> 158.6245 | ... V14: =V15+V16 -> 337.30121
A15: - z toho výdavky na dávku v nezamestnanosti | B15: =SUM('cash mesacny DvN'!B3:B14) -> 80.984926 | C15: =SUM('cash mesacny DvN'!B15:B26) -> 63.98176 | D15: =SUM('cash mesacny DvN'!B27:B38) -> 59.653716 | E15: =SUM('cash mesacny DvN'!B39:B50) -> 66.27343 | F15: =SUM('cash mesacny DvN'!B51:B62) -> 172.57856 | G15: =SUM('cash mesacny DvN'!B63:B74) -> 150.68194 | H15: =SUM('cash mesacny DvN'!B75:B86) -> 163.51325 | I15: =SUM('cash mesacny DvN'!B87:B98) -> 175.82758 | J15: =SUM('cash mesacny DvN'!B99:B110) -> 174.40691 | K15: =SUM('cash mesacny DvN'!B111:B122) -> 155.5968 | L15: =SUM('cash mesacny DvN'!B123:B134) -> 158.61966 | M15: =SUM('cash mesacny DvN'!B135:B146) -> 171.41084 | N15: =SUM('cash mesacny DvN'!B147:B158) -> 167.62064 | O15: =SUM('cash mesacny DvN'!B159:B170) -> 183.72278 | P15: =SUM('cash mesacny DvN'!B171:B182) -> 214.07334 | Q15: =SUM('cash mesacny DvN'!B183:B194) -> 329.09384 | R15: =SUM('cash mesacny DvN'!B195:B206) -> 290.2018 | S15: =SUM('cash mesacny DvN'!B207:B218) -> 239.39326 | T15: =SUM('cash mesacny DvN'!B219:B230) -> 268.12931 | U15: =SUM('cash mesacny DvN'!B231:B242) -> 296.41476 | V15: =SUM('cash mesacny DvN'!B243:B254) -> 336.5668
A16: - z toho zúčtovanie dávok+refundované dávky do krajín EÚ+záväzky z titulu vyplatených dávok do EÚ | B16: =B14-B15 -> 1.099186 | C16: =C14-C15 -> 0.00124 | D16: =D14-D15 -> -0.037818 | E16: =(SUM('cash mesacny DvN'!E39:E50)+SUM('cash mesacny DvN'!F39:F50)) -> -0.152086 | F16: =(SUM('cash mesacny DvN'!E51:E62)+SUM('cash mesacny DvN'!F51:F62)) -> -0.14888453 | G16: =(SUM('cash mesacny DvN'!E63:E74)+SUM('cash mesacny DvN'!F63:F74)) -> -0.34286591 | H16: =(SUM('cash mesacny DvN'!E75:E86)+SUM('cash mesacny DvN'!F75:F86)+SUM('cash mesacny DvN'!G75:G86)) -> -0.17934875 | I16: =(SUM('cash mesacny DvN'!E87:E98)+SUM('cash mesacny DvN'!F87:F98)+SUM('cash mesacny DvN'!G87:G98)) -> -0.05436567 | J16: =(SUM('cash mesacny DvN'!E99:E110)+SUM('cash mesacny DvN'!F99:F110)+SUM('cash mesacny DvN'!G99:G110)) -> -0.0993113 | K16: =(SUM('cash mesacny DvN'!E111:E122)+SUM('cash mesacny DvN'!F111:F122)+SUM('cash mesacny DvN'!G111:G122)) -> -0.87554162 | L16: =(SUM('cash mesacny DvN'!E123:E134)+SUM('cash mesacny DvN'!F123:F134)+SUM('cash mesacny DvN'!G123:G134)) -> 0.00483848 | M16: =(SUM('cash mesacny DvN'!E135:E146)+SUM('cash mesacny DvN'!F135:F146)+SUM('cash mesacny DvN'!G135:G146)) -> 0.21903128 | N16: =(SUM('cash mesacny DvN'!E147:E158)+SUM('cash mesacny DvN'!F147:F158)+SUM('cash mesacny DvN'!G147:G158)) -> 0.03481265 | O16: =(SUM('cash mesacny DvN'!E159:E170)+SUM('cash mesacny DvN'!F159:F170)+SUM('cash mesacny DvN'!G159:G170)) -> 0.02249897 | P16: =(SUM('cash mesacny DvN'!E171:E182)+SUM('cash mesacny DvN'!F171:F182)+SUM('cash mesacny DvN'!G171:G182)) -> 0.12121422 | Q16: =(SUM('cash mesacny DvN'!E183:E194)+SUM('cash mesacny DvN'!F183:F194)+SUM('cash mesacny DvN'!G183:G194)) -> 0.11769322 | R16: =SUM('cash mesacny DvN'!E195:G206) -> -0.36153628 | S16: =SUM('cash mesacny DvN'!E207:I218) -> -0.18289648 | T16: =SUM('cash mesacny DvN'!E219:I230) -> -0.63909875 | U16: =SUM('cash mesacny DvN'!E231:I242) -> -1.9556952 | V16: =SUM('cash mesacny DvN'!E243:E254) -> 0.73441067
A17: Dôchodkové dávky zo starobného a invalidného poistenia | B17: =SUM(B18:B21) -> 3472125 | C17: =SUM(C18:C21) -> 3821717 | D17: =SUM(D18:D21) -> 4199662.4 | E17: =SUM(E18:E21) -> 4532317.1 | F17: =SUM(F18:F21) -> 5035171 | G17: =SUM(G18:G21) -> 5244936 | H17: =SUM(H18:H21) -> 5390131 | I17: =SUM(I18:I21) -> 5639618.1 | ... V17: =SUM(V18:V21) -> 12723861
A18: - Základný fond starobného poistenia (hotovostný výdavok) | B18: 2958677.1 | C18: 3258170.3 | D18: 3568126.6 | E18: 3839895.7 | F18: 4265785 | G18: 4436637 | H18: 4547850 | I18: 4760341 | J18: 4992741 | K18: 5328096 | L18: 5501141 | M18: 5571328 | N18: 5838508 | O18: 6116494 | P18: 6412409 | Q18: 6788614 | R18: 7058191 | S18: 7302068 | T18: 9174841 | U18: 11256320 | V18: 11371868
A19: - Základný fond invalidného poistenia (hotovostný výdavok) | B19: 513447.92 | C19: 563546.67 | D19: 631535.79 | E19: 692421.36 | F19: 769386 | G19: 808299 | H19: 843229 | I19: 879489 | J19: 901454 | K19: 913914 | L19: 913340 | M19: 914066 | N19: 927753 | O19: 931103 | P19: 944499 | Q19: 970437 | R19: 958059 | S19: 968516 | T19: 1144925 | U19: 1375777 | V19: 1388334
A20: - imputácia výdavku zaplateného v roku t-1 patriaceho do t | B20: n/a | C20: n/a | D20: n/a | E20: n/a | F20: n/a | G20: n/a | H20: 37627.142 | I20: 38575.148 | J20: 38787.002 | K20: 38700.217 | L20: 39286.148 | M20: 96240.934 | N20: 37389.696 | O20: 37133.382 | P20: 37807.893 | Q20: 41699.062 | R20: 113473.29 | S20: 43319 | T20: 47326.836 | U20: 43112.888 | V20: 54553.765
A21: - imputácia výdavku zaplateného v roku t patriaceho do t+1 | B21: n/a | C21: n/a | D21: n/a | E21: n/a | F21: n/a | G21: n/a | H21: -38575.148 | I21: -38787.002 | J21: -38700.217 | K21: -39286.148 | L21: -96240.934 | M21: -37389.696 | N21: -37133.382 | O21: -37807.893 | P21: -41699.062 | Q21: -113473.29 | R21: -43319 | S21: -47326.836 | T21: -43112.888 | U21: -54553.765 | V21: -90895.09

Sheet cash mesacny NEM
A1: Vybrané výdavky verejnej správy na mesačnej báze - hotovostná metodika (tis.)
C2: Výdavky (tis. EUR) | K2: Počty vyplatených dávok | R2: Priemerná mesačná výška dávky (EUR)
A3: Mesiac | B3: Spolu | C3: Nemocenské | D3: Ošetrovné | E3: Materské | F3: Otcovské | G3: Vyrovnávacia dávka | H3: Dlhodobé ošetrovné | I3: Tehotenské | J3: Zúčtovanie dávok | K3: Nemocenské | L3: Ošetrovné | M3: Materské | N3: Otcovské | O3: Vyrovnávacia dávka | P3: Dlhodobé ošetrovné | Q3: Tehotenské | R3: Nemocenské | S3: Ošetrovné | T3: Materské | U3: Otcovské | V3: Vyrovnávacia dávka | W3: Dlhodobé ošetrovné | X3: Tehotenské
A4: 38353 | B4: =SUM(C4:G4)+J4 -> 13857.949 | C4: 10161.623 | D4: 499.08438 | E4: 3197.2419 | G4: 0 | J4: 0 | K4: 91.886 | L4: 13.899 | M4: 16.552 | O4: 0.082 | R4: 110.58946 | S4: 35.907934 | T4: 193.16348
A5: 38384 | B5: =SUM(C5:G5)+J5 -> 13833.706 | C5: 10241.348 | D5: 380.38014 | E5: 3209.7104 | G5: 2.2676426 | J5: 0 | K5: 101.11 | L5: 10.13 | M5: 15.314 | O5: 0.071 | R5: 101.28917 | S5: 37.549865 | T5: 209.59321 | V5: 31.938628
A6: 38412 | B6: =SUM(C6:G6)+J6 -> 13157.415 | C6: 10018.708 | D6: 418.64804 | E6: 2716.8018 | G6: 3.2571533 | J6: 0 | K6: 94.386 | L6: 10.612 | M6: 15.508 | O6: 0.094 | R6: 106.14612 | S6: 39.450438 | T6: 175.18711 | V6: 34.650567
A7: 38443 | B7: =SUM(C7:G7)+J7 -> 14762.073 | C7: 11286.835 | D7: 510.00943 | E7: 2962.5842 | G7: 2.6449578 | J7: 0 | K7: 99.701 | L7: 12.877 | M7: 14.769 | O7: 0.082 | R7: 113.20684 | S7: 39.60623 | T7: 200.59477 | V7: 32.255583
A8: 38473 | B8: =SUM(C8:G8)+J8 -> 13330.325 | C8: 9940.5518 | D8: 412.10154 | E8: 2974.5878 | G8: 3.0836819 | J8: 0 | K8: 86.498 | L8: 10.604 | M8: 15.11 | O8: 0.085 | R8: 114.92233 | S8: 38.862839 | T8: 196.8622 | V8: 36.27861
A9: 38504 | B9: =SUM(C9:G9)+J9 -> 13216.922 | C9: 9579.5845 | D9: 368.89341 | E9: 3262.8441 | G9: 5.5997809 | J9: 0 | K9: 78.991 | L9: 10.014 | M9: 15.525 | O9: 0.183 | R9: 121.27438 | S9: 36.837769 | T9: 210.16709 | V9: 30.599896
A10: 38534 | B10: =SUM(C10:G10)+J10 -> 11991.085 | C10: 8491.3831 | D10: 322.30167 | E10: 3175.5845 | G10: 1.8155414 | J10: 0 | K10: 67.737 | L10: 7.8 | M10: 16.248 | O10: 0.068 | R10: 125.35812 | S10: 41.320726 | T10: 195.44464 | V10: 26.699138
A11: 38565 | B11: =SUM(C11:G11)+J11 -> 12364.255 | C11: 8682.7408 | D11: 251.72804 | E11: 3426.8114 | G11: 2.9743411 | J11: 0 | K11: 64.063 | L11: 5.706 | M11: 16.282 | O11: 0.088 | R11: 135.53441 | S11: 44.116376 | T11: 210.46624 | V11: 33.799331
A12: 38596 | B12: =SUM(C12:G12)+J12 -> 12101.138 | C12: 8250.3115 | D12: 260.46979 | E12: 3588.1297 | G12: 2.2266149 | J12: 0 | K12: 61.148 | L12: 5.668 | M12: 18.408 | O12: 0.064 | R12: 134.92365 | S12: 45.954445 | T12: 194.9223 | V12: 34.790858
A13: 38626 | B13: =SUM(C13:G13)+J13 -> 12214.562 | C13: 8469.0075 | D13: 250.76622 | E13: 3492.614 | G13: 2.1747992 | J13: 0 | K13: 65.563 | L13: 6.29 | M13: 17.22 | O13: 0.072 | R13: 129.17358 | S13: 39.867443 | T13: 202.82311 | V13: 30.205544
A14: 38657 | B14: =SUM(C14:G14)+J14 -> 13355.963 | C14: 9389.0419 | D14: 414.70116 | E14: 3549.5612 | G14: 2.6589989 | J14: 0 | K14: 76.041 | L14: 10.197 | M14: 17.11 | O14: 0.045 | R14: 123.47341 | S14: 40.668937 | T14: 207.45536 | V14: 59.088864
A15: 38687 | B15: =SUM(C15:G15)+J15 -> 13172.376 | C15: 9368.737 | D15: 431.64278 | E15: 3367.0162 | G15: 4.980316 | J15: 0 | K15: 80.28 | L15: 10.345 | M15: 18.186 | O15: 0.082 | R15: 116.70076 | S15: 41.724773 | T15: 185.14331 | V15: 60.735561
A16: 38718 | B16: =SUM(C16:G16)+J16 -> 14173.715 | C16: 10362.575 | D16: 484.16839 | E16: 3324.2252 | G16: 2.74683 | J16: 0 | K16: 79.033 | L16: 11.091 | M16: 16.428 | O16: 0.062 | R16: 131.11706 | S16: 43.654169 | T16: 202.35118 | V16: 44.303709
... A195: 44166 | B195: =SUM(C195:G195)+J195 -> 91885.614 | C195: 63704.664 | D195: 3044.3746 | E195: 25129.256 | G195: 7.3196 | J195: 0 | K195: 232.849 | L195: 20.608 | M195: 32.051 | O195: 0.047 | R195: 274.37 | S195: 148.2 | T195: 784.52 | V195: 155.74
A196: 44197 | B196: =SUM(C196,D196,E196,G196)+J196 -> 96642.473 | C196: 67202.009 | D196: 3734.5607 | E196: 25703.174 | G196: 2.7294 | J196: 0 | K196: 229.471 | L196: 22.25 | M196: 31.981 | O196: 0.024 | R196: 294.01 | S196: 168.49 | T196: 804.31 | V196: 113.73
A197: 44228 | B197: =SUM(C197,D197,E197,G197)+J197 -> 110749.95 | C197: 72858.15 | D197: 12191.657 | E197: 25698.284 | G197: 1.8618 | J197: 0 | K197: 247.805 | L197: 52.48 | M197: 32.127 | O197: 0.016 | R197: 294.66 | S197: 233.19 | T197: 800.26 | V197: 116.36
A198: 44256 | B198: =SUM(C198,D198,E198,G198)+J198 -> 108664.99 | C198: 74686.67 | D198: 10702.195 | E198: 23270.423 | G198: 5.6988 | J198: 0 | K198: 259.956 | L198: 55.261 | M198: 31.561 | O198: 0.048 | R198: 288.59 | S198: 194.42 | T198: 738.03 | V198: 118.73
A199: 44287 | B199: =SUM(C199,D199,E199,G199)+J199 -> 113401.42 | C199: 79268.369 | D199: 8445.6876 | E199: 25682.474 | G199: 4.8919 | J199: 0 | K199: 248.966 | L199: 38.92 | M199: 31.35 | O199: 0.042 | R199: 319.08 | S199: 217.65 | T199: 819.74 | V199: 116.47
A200: 44317 | B200: =SUM(C200,D200,E200,G200,H200,I200)+J200 -> 97755.337 | C200: 63862.395 | D200: 5152.9878 | E200: 24993.751 | G200: 7.14062 | H200: 15.0487 | I200: 3724.0146 | J200: 0 | K200: 182.325 | L200: 23.892 | M200: 31.3 | O200: 0.051 | P200: 0.045 | Q200: 17.633 | R200: 351.36 | S200: 215.16 | T200: 798.58 | V200: 142.89 | W200: 334.42 | X200: 211.35
A201: 44348 | B201: =SUM(C201,D201,E201,G201,H201,I201)+J201 -> 85055.914 | C201: 51585.187 | D201: 2649.9328 | E201: 26276.277 | G201: 5.99228 | H201: 93.7536 | I201: 4444.7701 | J201: 0 | K201: 145.724 | L201: 16.213 | M201: 31.364 | O201: 0.033 | P201: 0.239 | Q201: 21.386 | R201: 355.08 | S201: 164.18 | T201: 837.93 | V201: 177.14 | W201: 392.5 | X201: 207.98
A202: 44378 | B202: =SUM(C202,D202,E202,G202,H202,I202)+J202 -> 77469.128 | C202: 44813.712 | D202: 2095.875 | E202: 26223.206 | G202: 7.4659 | H202: 136.4651 | I202: 4192.404 | J202: 0 | K202: 121.485 | L202: 11.905 | M202: 31.762 | O202: 0.048 | P202: 0.319 | Q202: 21.113 | R202: 370.06 | S202: 176.63 | T202: 826.11 | V202: 155.54 | W202: 427.79 | X202: 198.71
A203: 44409 | B203: =SUM(C203,D203,E203,G203,H203,I203)+J203 -> 78095.436 | C203: 43900.589 | D203: 2044.8719 | E203: 27852.637 | G203: 5.1234 | H203: 151.05546 | I203: 4144.6313 | J203: -3.4722 | K203: 115.337 | L203: 10.284 | M203: 32.368 | O203: 0.036 | P203: 0.354 | Q203: 20.367 | R203: 381.85 | S203: 199.58 | T203: 860.76 | V203: 142.32 | W203: 426.71 | X203: 203.68
A204: 44440 | B204: =SUM(C204,D204,E204,G204,H204,I204)+J204 -> 77806.127 | C204: 42701.183 | D204: 2637.3918 | E204: 28336.62 | G204: 3.5107 | H204: 136.96636 | I204: 3990.4555 | J204: 0 | K204: 114.76 | L204: 11.635 | M204: 32.901 | O204: 0.025 | P204: 0.35 | Q204: 19.69 | R204: 373.15 | S204: 227.33 | T204: 861.6 | V204: 140.43 | W204: 391.33 | X204: 202.84
A205: 44470 | B205: =SUM(C205,D205,E205,G205,H205,I205)+J205 -> 77626.023 | C205: 43474.86 | D205: 2940.0901 | E205: 27263.005 | G205: 7.62772 | H205: 134.62207 | I205: 3805.8181 | J205: 0 | K205: 127.411 | L205: 19.45 | M205: 32.692 | O205: 0.044 | P205: 0.338 | Q205: 19.325 | R205: 342.55 | S205: 151.75 | T205: 835.13 | V205: 176.66 | W205: 398.29 | X205: 197.14
A206: 44501 | B206: =SUM(C206,D206,E206,G206,H206,I206)+J206 -> 90817.115 | C206: 53491.697 | D206: 5138.1824 | E206: 28089.511 | G206: 7.62818 | H206: 159.92891 | I206: 3930.1675 | J206: 0 | K206: 168.486 | L206: 35.325 | M206: 32.35 | O206: 0.05 | P206: 0.378 | Q206: 19.641 | R206: 318 | S206: 145.88 | T206: 867.86 | V206: 149.65 | W206: 423.09 | X206: 200.2
A207: 44531 | B207: =SUM(C207,D207,E207,G207,H207,I207)+J207 -> 105787.87 | C207: 69433.878 | D207: 5485.2018 | E207: 26965.008 | G207: 2.8726 | H207: 170.35145 | I207: 3730.5579 | J207: 0 | K207: 243.557 | L207: 41.012 | M207: 32.125 | O207: 0.023 | P207: 0.396 | Q207: 19.038 | R207: 285.76 | S207: 134.27 | T207: 839.59 | V207: 124.9 | W207: 430.18 | X207: 196.13
A208: 44562 | B208: =SUM(C208,D208,E208,G208,H208,I208)+J208 -> 101193.35 | C208: 64946.596 | D208: 4672.3272 | E208: 27532.7 | G208: 2.2828 | H208: 176.87637 | I208: 3862.5723 | J208: 0 | K208: 215.399 | L208: 32.155 | M208: 32.008 | O208: 0.022 | P208: 0.412 | Q208: 19.235 | R208: 300.53101 | S208: 145.06231 | T208: 860.20261 | V208: 103.76364 | W208: 429.59993 | X208: 200.81619
A209: 44593 | B209: =SUM(C209,D209,E209,G209,H209,I209)+J209 -> 89501.354 | C209: 54189.701 | D209: 3742.3369 | E209: 27430.052 | G209: 1.9108 | H209: 170.53251 | I209: 3966.8206 | J209: 0 | K209: 162.328 | L209: 27.642 | M209: 31.897 | O209: 0.02 | P209: 0.409 | Q209: 19.649 | R209: 334.7674 | S209: 135.882 | T209: 860.18028 | V209: 95.54 | W209: 416.9499 | X209: 202.0374
A210: 44621 | B210: =SUM(C210,D210,E210,G210,H210,I210)+J210 -> 86486.364 | C210: 52886.706 | D210: 5202.2654 | E210: 24597.216 | G210: 5.2485 | H210: 159.2406 | I210: 3635.6875 | J210: 0 | K210: 184.402 | L210: 43.464 | M210: 31.008 | O210: 0.038 | P210: 0.397 | Q210: 19.231 | R210: 287.83679 | S210: 120.07968 | T210: 793.45635 | V210: 138.11842 | W210: 401.10982 | X210: 189.16895
A211: 44652 | B211: =SUM(C211,D211,E211,G211,H211,I211)+J211 -> 89634.928 | C211: 54436.454 | D211: 3673.5772 | E211: 27184.864 | G211: 4.3804 | H211: 192.204 | I211: 4145.7303 | J211: -2.28181 | K211: 168.02 | L211: 25.712 | M211: 31.079 | O211: 0.028 | P211: 0.453 | Q211: 20.119 | R211: 324.979 | S211: 143.47153 | T211: 874.98417 | V211: 156.44286 | W211: 424.29139 | X211: 206.24071
... A219: 44896 | B219: =SUM(C219,D219,E219,G219,H219,I219)+J219 -> 82675.732 | C219: 47021.056 | D219: 2966.3865 | E219: 28868.68 | G219: 5.3914 | H219: 227.069 | I219: 3587.1499 | J219: 0 | K219: 122.102 | L219: 21.055 | M219: 33.476 | O219: 0.029 | P219: 0.491 | Q219: 17.528 | R219: 386.29237 | S219: 141.2672 | T219: 862.63398 | V219: 185.91034 | W219: 462.46232 | X219: 204.94861
A220: 44927 | B220: =SUM(C220,D220,E220,G220,H220,I220)+J220+F220 -> 92041.245 | C220: 53740.704 | D220: 5330.6817 | E220: 28327.793 | F220: 599.43552 | G220: 9.7698 | H220: 246.8357 | I220: 3782.5982 | J220: 3.4272 | K220: 146.758 | L220: 35.368 | M220: 30.971 | N220: 1.686 | O220: 0.055 | P220: 0.534 | Q220: 17.977 | R220: 367.40787 | S220: 151.0558 | T220: 915.05089 | U220: 355.69081 | V220: 177.63273 | W220: 462.72266 | X220: 210.87907
A221: 44958 | B221: =SUM(C221,D221,E221,G221,H221,I221)+J221+F221 -> 90106.222 | C221: 54501.527 | D221: 2382.668 | E221: 28251.9 | F221: 796.00737 | G221: 6.2698 | H221: 237.8395 | I221: 3930.0104 | J221: 0 | K221: 146.271 | L221: 16.059 | M221: 30.94 | N221: 2.066 | O221: 0.039 | P221: 0.544 | Q221: 18.609 | R221: 373.82993 | S221: 148.7655 | T221: 913.30515 | U221: 385.36772 | V221: 160.7641 | W221: 437.20496 | X221: 211.41849
A222: 44986 | B222: =SUM(C222,D222,E222,G222,H222,I222)+J222+F222 -> 84249.831 | C222: 50805.746 | D222: 3341.0659 | E222: 25499.893 | F222: 681.50905 | G222: 9.0181 | H222: 239.9974 | I222: 3672.6017 | J222: 0 | K222: 138.333 | L222: 22.584 | M222: 30.14 | N222: 1.853 | O222: 0.057 | P222: 0.557 | Q222: 18.537 | R222: 368.62812 | S222: 148.31127 | T222: 846.39347 | U222: 367.93695 | V222: 158.21228 | W222: 430.87504 | X222: 198.36075
A223: 45017 | B223: =SUM(C223,D223,E223,G223,H223,I223)+J223+F223 -> 91962.138 | C223: 54997.504 | D223: 3646.1377 | E223: 28224.968 | F223: 762.24748 | G223: 6.744 | H223: 257.9228 | I223: 4066.6148 | J223: 0 | K223: 142.436 | L223: 23.898 | M223: 30.156 | N223: 1.976 | O223: 0.049 | P223: 0.561 | Q223: 18.63 | R223: 388.10715 | S223: 152.91256 | T223: 936.19622 | U223: 385.84798 | V223: 137.63265 | W223: 461.12709 | X223: 218.5321
A224: 45047 | B224: =SUM(C224,D224,E224,G224,H224,I224)+J224+F224 -> 84919.379 | C224: 49740.465 | D224: 2988.6751 | E224: 27276.411 | F224: 713.19001 | G224: 7.8415 | H224: 244.1583 | I224: 3948.6378 | J224: 0 | K224: 126.612 | L224: 19.438 | M224: 29.837 | N224: 1.876 | O224: 0.058 | P224: 0.561 | Q224: 18.363 | R224: 395.00263 | S224: 154.37978 | T224: 914.6845 | U224: 380.37473 | V224: 135.19828 | W224: 436.58164 | X224: 215.48259
A225: 45078 | B225: =SUM(C225,D225,E225,G225,H225,I225)+J225+F225 -> 85992.992 | C225: 49138.822 | D225: 2979.3048 | E225: 28769.094 | F225: 710.99818 | G225: 4.8612 | H225: 272.2275 | I225: 4117.6844 | J225: 0 | K225: 117.358 | L225: 19.237 | M225: 29.878 | N225: 1.891 | O225: 0.038 | P225: 0.612 | Q225: 18.467 | R225: 420.90492 | S225: 155.38784 | T225: 963.23834 | U225: 376.12834 | V225: 128.14737 | W225: 444.81618 | X225: 223.40605
...

Sheet cash mesacny DvN
A1: Vybrané výdavky verejnej správy na mesačnej báze - hotovostná metodika (mil.)
A2: Mesiac | B2: Spolu výdavky na DvN (bez zúčtovania) | C2: Priemerná výška na 1 poberateľa (EUR) | D2: Počet poberateľov dávky v nezamestnanosti | E2: Refundované dávky do krajín EÚ | F2: Zúčtovanie dávok § 112 ods. 9 | G2: Záväzky z titulu vyplatených dávok do EÚ | H2: Prevod podľa § 68 ods.7,8 (ods. 6 z. pl. v roku 2004) | I2: Záväzky z NÚP | J2: Celková výška výdavkov ZFPvN
A3: 38353 | B3: =C3*D3/1000 -> 7.506005 | C3: 166.33069 | D3: 45.127 | E3: 0 | F3: 0 | G3: 0 | H3: 0 | I3: 0 | J3: =(B3+E3+F3+G3+H3+I3) -> 7.506005
A4: 38384 | B4: =C4*D4/1000 -> 8.455475 | C4: 171.13228 | D4: 49.409 | E4: 0 | F4: 0 | G4: 0 | H4: 0 | I4: 0 | J4: =(B4+E4+F4+G4+H4+I4) -> 8.455475
A5: 38412 | B5: =C5*D5/1000 -> 7.875806 | C5: 164.30864 | D5: 47.933 | E5: 0 | F5: 0 | G5: 0 | H5: 0.678011 | I5: 0 | J5: =(B5+E5+F5+G5+H5+I5) -> 8.553817
A6: 38443 | B6: =C6*D6/1000 -> 8.124375 | C6: 176.03517 | D6: 46.152 | E6: 0 | F6: 0 | G6: 0 | H6: 0.415451 | I6: -0.001427 | J6: =(B6+E6+F6+G6+H6+I6) -> 8.538399
A7: 38473 | B7: =C7*D7/1000 -> 7.042204 | C7: 166.50205 | D7: 42.295 | E7: 0 | F7: 0 | G7: 0 | H7: 0 | I7: 0.002888 | J7: =(B7+E7+F7+G7+H7+I7) -> 7.045092
A8: 38504 | B8: =C8*D8/1000 -> 6.768127 | C8: 174.49023 | D8: 38.788 | E8: 0 | F8: 0 | G8: 0 | H8: 0 | I8: -0.001357 | J8: =(B8+E8+F8+G8+H8+I8) -> 6.76677
A9: 38534 | B9: =C9*D9/1000 -> 6.236251 | C9: 177.3476 | D9: 35.164 | E9: 0 | F9: 0 | G9: 0 | H9: 0 | I9: 0 | J9: =(B9+E9+F9+G9+H9+I9) -> 6.236251
A10: 38565 | B10: =C10*D10/1000 -> 6.279918 | C10: 184.8938 | D10: 33.965 | E10: 0 | F10: 0 | G10: 0 | H10: 0 | I10: 0 | J10: =(B10+E10+F10+G10+H10+I10) -> 6.279918
A11: 38596 | B11: =C11*D11/1000 -> 6.214753 | C11: 190.0478 | D11: 32.701 | E11: 0 | F11: 0 | G11: 0 | H11: 0 | I11: 0 | J11: =(B11+E11+F11+G11+H11+I11) -> 6.214753
A12: 38626 | B12: =C12*D12/1000 -> 5.626369 | C12: 178.17934 | D12: 31.577 | E12: 0 | F12: 0 | G12: 0 | H12: 0 | I12: 0 | J12: =(B12+E12+F12+G12+H12+I12) -> 5.626369
A13: 38657 | B13: =C13*D13/1000 -> 5.522004 | C13: 185.47019 | D13: 29.773 | E13: 0 | F13: 0 | G13: 0 | H13: 0 | I13: 0 | J13: =(B13+E13+F13+G13+H13+I13) -> 5.522004
A14: 38687 | B14: =C14*D14/1000 -> 5.333639 | C14: 182.27808 | D14: 29.261 | E14: 0.00562 | F14: 0 | G14: 0 | H14: 0 | I14: 0 | J14: =(B14+E14+F14+G14+H14+I14) -> 5.339259
A15: 38718 | B15: =C15*D15/1000 -> 5.436842 | C15: 190.61256 | D15: 28.523 | E15: 0 | F15: 0 | G15: 0 | H15: 0 | I15: 0 | J15: =(B15+E15+F15+G15) -> 5.436842
A16: 38749 | B16: =C16*D16/1000 -> 6.330873 | C16: 192.91443 | D16: 32.817 | E16: 0 | F16: 0 | G16: 0 | H16: 0 | I16: 0 | J16: =(B16+E16+F16+G16) -> 6.330873
A17: 38777 | B17: =C17*D17/1000 -> 5.836505 | C17: 181.7603 | D17: 32.111 | E17: 0 | F17: 0 | G17: 0 | H17: 0 | I17: 0 | J17: =(B17+E17+F17+G17) -> 5.836505
A18: 38808 | B18: =C18*D18/1000 -> 6.11197 | C18: 195.67696 | D18: 31.235 | E18: 0 | F18: 0 | G18: 0 | H18: 0 | I18: 0 | J18: =(B18+E18+F18+G18) -> 6.11197
A19: 38838 | B19: =C19*D19/1000 -> 5.565559 | C19: 191.17092 | D19: 29.113 | E19: 0.000651 | F19: 0 | G19: 0 | H19: 0 | I19: 0 | J19: =(B19+E19+F19+G19) -> 5.56621
A20: 38869 | B20: =C20*D20/1000 -> 5.517709 | C20: 197.71066 | D20: 27.908 | E20: 0 | F20: 0 | G20: 0 | H20: 0 | I20: 0 | J20: =(B20+E20+F20+G20) -> 5.517709
A21: 38899 | B21: =C21*D21/1000 -> 5.129203 | C21: 199.38593 | D21: 25.725 | E21: 0 | F21: 0 | G21: 0 | H21: 0 | I21: 0 | J21: =(B21+E21+F21+G21) -> 5.129203
A22: 38930 | B22: =C22*D22/1000 -> 5.216013 | C22: 201.69417 | D22: 25.861 | E22: 0.000589 | F22: 0 | G22: 0 | H22: 0 | I22: 0 | J22: =(B22+E22+F22+G22) -> 5.216602
A23: 38961 | B23: =C23*D23/1000 -> 5.17269 | C23: 210.57154 | D23: 24.565 | E23: 0 | F23: 0 | G23: 0 | H23: 0 | I23: 0 | J23: =(B23+E23+F23+G23) -> 5.17269
A24: 38991 | B24: =C24*D24/1000 -> 4.580553 | C24: 197.50573 | D24: 23.192 | E24: 0 | F24: 0 | G24: 0 | H24: 0 | I24: 0 | J24: =(B24+E24+F24+G24) -> 4.580553
A25: 39022 | B25: =C25*D25/1000 -> 4.519893 | C25: 208.92544 | D25: 21.634 | E25: 0 | F25: 0 | G25: 0 | H25: 0 | I25: 0 | J25: =(B25+E25+F25+G25) -> 4.519893
A26: 39052 | B26: =C26*D26/1000 -> 4.56395 | C26: 217.67301 | D26: 20.967 | E26: 0 | F26: 0 | G26: 0 | H26: 0 | I26: 0 | J26: =(B26+E26+F26+G26) -> 4.56395
... A252: 45931 | B252: =C252*D252/1000 -> 30.431165 | C252: 742.49519 | D252: 40.985 | E252: -0.019895 | F252: -0.09991629 | G252: 0.15789861 | H252: 0 | I252: 0 | J252: =(B252+E252+F252+G252) -> 30.469253
A253: 45962 | B253: =C253*D253/1000 -> 31.085292 | C253: ='[3]V ZFPvN'!$D$19 -> 771.67272 | D253: 40.283 | E253: -0.03055696 | F253: -0.08898468 | G253: 0.02876371 | H253: 0 | I253: 0 | J253: =(B253+E253+F253+G253) -> 30.994514
A254: 45992 | B254: =C254*D254/1000 -> 30.747165 | C254: 753.1086 | D254: 40.827 | E254: 0.41567841 | F254: -0.05679381 | G254: -0.41577243 | H254: 0 | I254: 0 | J254: =(B254+E254+F254+G254) -> 30.690277
A255: 46023 | B255: =C255*D255/1000 -> 33.048551 | C255: 763.3165 | D255: 43.296 | E255: 0 | F255: -0.02533062 | G255: 0 | H255: 0 | I255: 0 | J255: =(B255+E255+F255+G255) -> 33.02322
A256: 46054 | B256: =C256*D256/1000 -> 36.112959 | C256: 781.37825 | D256: 46.217 | E256: 0 | F256: -0.16560456 | G256: 0 | H256: 0 | I256: 0 | J256: =(B256+E256+F256+G256) -> 35.947354
A257: 46082 | B257: =C257*D257/1000 -> 30.068869 | C257: 694.09454 | D257: 43.321 | E257: 0 | F257: -0.07688248 | G257: 0 | H257: 0 | I257: 0 | J257: =(B257+E257+F257+G257) -> 29.991987
A258: 46113 | B258: =C258*D258/1000 -> 30.116531 | C258: 730.39873 | D258: 41.233 | E258: -0.01789833 | F258: -0.10349365 | G258: 0.0241491 | H258: 0 | I258: 0 | J258: =(B258+E258+F258+G258) -> 30.019288
A259: 46143 | B259: =C259*D259/1000 -> 27.644097 | C259: 718.58843 | D259: 38.47 | E259: -0.00365271 | F259: -0.06338877 | G259: 0.00413553 | H259: 0 | I259: 0 | J259: =(B259+E259+F259+G259) -> 27.581191
A260: 46174 | B260: =C260*D260/1000 -> 26.848957 | C260: 708.78977 | D260: 37.88 | E260: 0 | F260: -0.08506542 | G260: 0.07771602 | H260: 0 | I260: 0 | J260: =(B260+E260+F260+G260) -> 26.841607
A261: 46204 | B261: =C261*D261/1000 -> 23.503645 | C261: 652.96973 | D261: 35.995 | E261: 0.43159198 | F261: -0.08584028 | G261: -0.38809676 | H261: 0 | I261: 0 | J261: =(B261+E261+F261+G261) -> 23.4613
A262: 46235 | B262: =C262*D262/1000 -> 0 | J262: =(B262+E262+F262+G262) -> 0
A263: 46266 | B263: =C263*D263/1000 -> 0 | J263: =(B263+E263+F263+G263) -> 0
A264: 46296 | B264: =C264*D264/1000 -> 0 | J264: =(B264+E264+F264+G264) -> 0
A265: 46327 | B265: =C265*D265/1000 -> 0 | J265: =(B265+E265+F265+G265) -> 0
...

Sheet cash mesacny SD
A1: Vybrané výdavky verejnej správy na mesačnej báze - hotovostná metodika (tis.)
A2: Mesiac | B2: Spolu výdavky na SD | C2: z toho celkové doplatky | D2: z toho doplatky za zníženie dôchodkového veku ženám vybraných ročníkov** | E2: rodičovský dôchodok | F2: 13. dôchodok ZFSP | G2: Počet vyplatených SD | H2: Počet novopriznaných SD (01-09P) | I2: Počet smrťou zaniknutých SD | J2: Priemerný SD* | K2: Priemerný SD novopriznaný (01-03P) | L2: Priemerný SD zaniknutý smrťou | M2: Počet výplatných termínov v mesiaci
A3: 39814 | B3: 274993 | C3: 4221.7074 | G3: 924.624 | H3: 1.369 | I3: na | J3: na | K3: na | L3: na
A4: 39845 | B4: 301302 | C4: 3741.8659 | G4: 925.673 | H4: 1.443 | I4: na | J4: na | K4: na | L4: na
A5: 39873 | B5: 278298 | C5: 4662.1888 | G5: 927.078 | H5: 1.475 | I5: na | J5: na | K5: na | L5: na
A6: 39904 | B6: 339114 | C6: 6357.4083 | G6: 926.435 | H6: 2.426 | I6: na | J6: na | K6: na | L6: na
A7: 39934 | B7: 252967 | C7: 6958.1292 | G7: 927.384 | H7: 2.257 | I7: na | J7: na | K7: na | L7: na
A8: 39965 | B8: 297653 | C8: 6260.9981 | G8: 928.421 | H8: 1.544 | I8: na | J8: na | K8: na | L8: na
A9: 39995 | B9: 322736 | C9: 6010.2297 | G9: 929.301 | H9: 2.082 | I9: na | J9: na | K9: na | L9: na
A10: 40026 | B10: 300694 | C10: 5049.2286 | G10: 930.218 | H10: 1.262 | I10: na | J10: na | K10: na | L10: na
A11: 40057 | B11: 276955 | C11: 3969.8415 | G11: 931.502 | H11: 1.052 | I11: na | J11: na | K11: na | L11: na
A12: 40087 | B12: 324958 | C12: 3801.9582 | G12: 930.4 | H12: 1.01 | I12: na | J12: na | K12: na | L12: na
A13: 40118 | B13: 278074 | C13: 3155.7022 | G13: 930.201 | H13: 1.003 | I13: na | J13: na | K13: na | L13: na
A14: 40148 | B14: 347639 | C14: 4727.2178 | G14: 931.795 | H14: 0.863 | I14: na | J14: na | K14: na | L14: na
... A38: 40878 | B38: 355271 | C38: 6113.5126 | G38: 957.633 | H38: 1.218 | I38: na | J38: na | K38: na | L38: na
A39: 40909 | B39: 320163 | C39: 5661.9801 | G39: 959.442 | H39: 1.957 | I39: na | J39: 348.04 | K39: na | L39: na
A40: 40940 | B40: 347188 | C40: 4338.6736 | G40: 958.522 | H40: 2.281 | I40: na | J40: 348.29 | K40: na | L40: na
A41: 40969 | B41: 366667 | C41: 4643.7708 | G41: 960.381 | H41: 2.334 | I41: na | J41: 348.53 | K41: na | L41: na
A42: 41000 | B42: 336997.12 | C42: 3656.5288 | G42: 962.951 | H42: 2.337 | I42: na | J42: 348.81 | K42: na | L42: na
A43: 41030 | B43: 330432.88 | C43: 3909.0788 | G43: 965.043 | H43: 2.309 | I43: na | J43: 349.03 | K43: na | L43: na
A44: 41061 | B44: 364832 | C44: 3914.5899 | G44: 967.344 | H44: 2.776 | I44: na | J44: 349.22 | K44: na | L44: na
A45: 41091 | B45: 318724 | C45: 3829.9302 | G45: 971.364 | H45: 2.317 | I45: na | J45: 349.36 | K45: na | L45: na
A46: 41122 | B46: 371457 | C46: 3707.2673 | G46: 972.297 | H46: 2.368 | I46: na | J46: 349.58 | K46: na | L46: na
A47: 41153 | B47: 322026 | C47: 3743.9548 | G47: 974.263 | H47: 2.505 | I47: na | J47: 349.78 | K47: na | L47: na
A48: 41183 | B48: 382873 | C48: 4644.9298 | G48: 975.951 | H48: 2.99 | I48: na | J48: 349.99 | K48: na | L48: na
A49: 41214 | B49: 353456 | C49: 4580.6655 | G49: 979.29 | H49: 2.664 | I49: na | J49: 350.16 | K49: na | L49: na
A50: 41244 | B50: 350924 | C50: 6246.8242 | G50: 980.863 | H50: 1.485 | I50: na | J50: 350.3 | K50: na | L50: na
... A62: 41609 | B62: 369714 | C62: 7164.3417 | G62: 988.277 | H62: 2.737 | I62: na | J62: 364.51 | K62: na | L62: na
A63: 41640 | B63: 384350 | C63: 9271.6734 | G63: 991.144 | H63: 3.32 | I63: na | J63: 373.09 | K63: 411.64 | L63: na
A64: 41671 | B64: 391127 | C64: 14745.596 | G64: 990.564 | H64: 3.839 | I64: na | J64: 373.45 | K64: 420.05 | L64: na
A65: 41699 | B65: 367466 | C65: 18977.252 | G65: 994.034 | H65: 4.826 | I65: na | J65: 373.46 | K65: 420.98 | L65: na
A66: 41730 | B66: 421868 | C66: 15592.167 | G66: 998.476 | H66: 4.722 | I66: na | J66: 373.43 | K66: 425.72 | L66: na
A67: 41760 | B67: 395627 | C67: 16208.483 | G67: 1001.751 | H67: 4.944 | I67: na | J67: 373.51 | K67: 418.35 | L67: na
A68: 41791 | B68: 369472 | C68: 13978.364 | G68: 1005.325 | H68: 5.324 | I68: na | J68: 373.58 | K68: 419.88 | L68: na
A69: 41821 | B69: 403434 | C69: 11217.666 | G69: 1009.143 | H69: 5.695 | I69: na | J69: 373.76 | K69: 417.5 | L69: na
A70: 41852 | B70: 411341 | C70: 7195.3423 | G70: 1012.093 | H70: 3.262 | I70: na | J70: 373.96 | K70: 429.81 | L70: na
A71: 41883 | B71: 365156 | C71: 8034.6404 | G71: 1014.044 | H71: 3.287 | I71: na | J71: 374.18 | K71: 449.61 | L71: na
A72: 41913 | B72: 423545 | C72: 8441.5406 | G72: 1014.615 | H72: 3.112 | I72: na | J72: 374.51 | K72: 467.41 | L72: na
A73: 41944 | B73: 366132 | C73: 6399.9397 | G73: 1017.497 | H73: 2.319 | I73: na | J73: 374.73 | K73: 478.07 | L73: na
A74: 41974 | B74: 422581 | C74: 5843.5903 | G74: 1018.814 | H74: 1.941 | I74: na | J74: 374.88 | K74: 476.06 | L74: na
...

Sheet cash mesacny PSD
A1: Vybrané výdavky verejnej správy na mesačnej báze - hotovostná metodika (tis.)
A2: Mesiac | B2: Spolu výdavky na PSD | C2: z toho celkové doplatky | D2: z toho doplatky za zníženie dôchodkového veku ženám vybraných ročníkov** | E2: Počet vyplatených PSD | F2: Počet novopriznaných PSD (01-09P) | G2: z toho novopriznaný po odpracovaní 40 rokov | H2: Počet smrťou zaniknutých PSD | I2: Priemerný PSD* | J2: Priemerný PSD novopriznaný (01-03P) | K2: Priemerný PSD zaniknutý smrťou | L2: Počet výplatných termínov v mesiaci
A3: 39814 | B3: 19778 | C3: 1300.3689 | E3: 58.987 | F3: 1.249 | H3: na | I3: na | J3: na | K3: na
A4: 39845 | B4: 19394 | C4: 745.31241 | E4: 52.737 | F4: 0.645 | H4: na | I4: na | J4: na | K4: na
A5: 39873 | B5: 17350 | C5: 3267.5841 | E5: 51.141 | F5: 2.503 | H5: na | I5: na | J5: na | K5: na
A6: 39904 | B6: 21632 | C6: 2968.2794 | E6: 52.591 | F6: 2.36 | H6: na | I6: na | J6: na | K6: na
A7: 39934 | B7: 16589 | C7: 2561.3248 | E7: 53.825 | F7: 1.887 | H7: na | I7: na | J7: na | K7: na
A8: 39965 | B8: 19586 | C8: 2467.0767 | E8: 54.245 | F8: 1.801 | H8: na | I8: na | J8: na | K8: na
A9: 39995 | B9: 21306 | C9: 2543.968 | E9: 54.842 | F9: 2.403 | H9: na | I9: na | J9: na | K9: na
A10: 40026 | B10: 20388 | C10: 2581.1242 | E10: 56.078 | F10: 2.106 | H10: na | I10: na | J10: na | K10: na
A11: 40057 | B11: 18988 | C11: 1960.5102 | E11: 56.596 | F11: 1.631 | H11: na | I11: na | J11: na | K11: na
A12: 40087 | B12: 22368 | C12: 1722.1698 | E12: 56.932 | F12: 1.709 | H12: na | I12: na | J12: na | K12: na
A13: 40118 | B13: 19294 | C13: 1502.9747 | E13: 57.447 | F13: 1.675 | H13: na | I13: na | J13: na | K13: na
A14: 40148 | B14: 23557 | C14: 2073.5431 | E14: 56.352 | F14: 1.643 | H14: na | I14: na | J14: na | K14: na
... A38: 40878 | B38: 12984 | C38: 1321.8082 | E38: 32.13 | F38: 0.861 | H38: na | I38: na | J38: na | K38: na
A39: 40909 | B39: 11156 | C39: 1535.9326 | E39: 30.577 | F39: 1.788 | H39: na | I39: 368.14 | J39: na | K39: na
A40: 40940 | B40: 11960 | C40: 1886.0838 | E40: 29.756 | F40: 1.958 | H40: na | I40: 368.9 | J40: na | K40: na
A41: 40969 | B41: 12427 | C41: 1477.6195 | E41: 29.391 | F41: 1.393 | H41: na | I41: 370.62 | J41: na | K41: na
A42: 41000 | B42: 11180.316 | C42: 1134.0882 | E42: 29.003 | F42: 1.317 | H42: na | I42: 371.64 | J42: na | K42: na
A43: 41030 | B43: 10548.684 | C43: 1215.3886 | E43: 27.986 | F43: 1.363 | H43: na | I43: 371.76 | J43: na | K43: na
A44: 41061 | B44: 11337 | C44: 1132.6132 | E44: 27.289 | F44: 1.525 | H44: na | I44: 372.28 | J44: na | K44: na
A45: 41091 | B45: 9573 | C45: 1071.359 | E45: 26.512 | F45: 1.018 | H45: na | I45: 372.66 | J45: na | K45: na
A46: 41122 | B46: 10778 | C46: 1208.883 | E46: 25.731 | F46: 1.522 | H46: na | I46: 373.11 | J46: na | K46: na
A47: 41153 | B47: 9143 | C47: 928.55726 | E47: 25.013 | F47: 1.063 | H47: na | I47: 374.49 | J47: na | K47: na
A48: 41183 | B48: 10709 | C48: 1118.9495 | E48: 24.944 | F48: 1.29 | H48: na | I48: 374.04 | J48: na | K48: na
A49: 41214 | B49: 9798 | C49: 1074.699 | E49: 24.927 | F49: 1.554 | H49: na | I49: 373.63 | J49: na | K49: na
A50: 41244 | B50: 9422 | C50: 983.38329 | E50: 24.404 | F50: 1.135 | H50: na | I50: 372.99 | J50: na | K50: na
... A62: 41609 | B62: 8723 | C62: 1074.9271 | E62: 21.935 | F62: 1.132 | H62: na | I62: 382.88 | J62: na | K62: na
A63: 41640 | B63: 8657 | C63: 1464.3024 | E63: 21.142 | F63: 1.69 | H63: na | I63: 391.66 | J63: 400.52 | K63: na
A64: 41671 | B64: 8924 | C64: 1527.9099 | E64: 21.755 | F64: 1.819 | H64: na | I64: 392.36 | J64: 417.91 | K64: na
A65: 41699 | B65: 8342 | C65: 1406.6853 | E65: 21.637 | F65: 1.518 | H65: na | I65: 393.53 | J65: 404.8 | K65: na
A66: 41730 | B66: 9376 | C66: 1023.5102 | E66: 21.272 | F66: 1.118 | H66: na | I66: 393.45 | J66: 380.07 | K66: na
A67: 41760 | B67: 8492 | C67: 1227.8558 | E67: 20.557 | F67: 1.176 | H67: na | I67: 392.08 | J67: 389.11 | K67: na
A68: 41791 | B68: 7686 | C68: 1189.3046 | E68: 20.137 | F68: 1.261 | H68: na | I68: 391.42 | J68: 390.2 | K68: na
A69: 41821 | B69: 8510 | C69: 1241.92 | E69: 20.443 | F69: 1.525 | H69: na | I69: 389.51 | J69: 387.57 | K69: na
A70: 41852 | B70: 8829 | C70: 1057.4402 | E70: 20.76 | F70: 1.193 | H70: na | I70: 387.51 | J70: 406.63 | K70: na
A71: 41883 | B71: 7783 | C71: 1351.3387 | E71: 20.802 | F71: 1.504 | H71: na | I71: 386.1 | J71: 403.51 | K71: na
A72: 41913 | B72: 9166 | C72: 1231.0189 | E72: 21.309 | F72: 1.52 | H72: na | I72: 384.63 | J72: 394.29 | K72: na
A73: 41944 | B73: 8023 | C73: 1089.5537 | E73: 21.565 | F73: 1.155 | H73: na | I73: 383.74 | J73: 400.28 | K73: na
A74: 41974 | B74: 9102 | C74: 1030.1543 | E74: 21.348 | F74: 1.012 | H74: na | I74: 382.54 | J74: 400.3 | K74: na
...

Sheet cash mesacny INV
A1: Vybrané výdavky verejnej správy na mesačnej báze - hotovostná metodika (tis.)
A2: Mesiac | B2: Spolu výdavky na INV | C2: z toho celkové doplatky | D2: 13. dôchodok ZFIP | E2: Počet vyplatených INV do 70 % | F2: Počet vyplatených INV nad 70 % | G2: Počet novopriznaných INV do 70 % (01-09P) | H2: Počet novopriznaných INV nad 70 % (01-09P) | I2: Počet smrťou zaniknutých INV do 70 % | J2: Počet smrťou zaniknutých INV nad 70 % | K2: Priemerný INV do 70 %* | L2: Priemerný INV nad 70 %* | M2: Priemerný INV do 70 % novopriznaný (01-03P) | N2: Priemerný INV nad 70 % novopriznaný (01-03P) | O2: Priemerný INV do 70 % zaniknutý smrťou | P2: Priemerný INV nad 70 % zaniknutý smrťou | Q2: Počet výplatných termínov v mesiaci
A3: 39814 | B3: 47847 | C3: 3529.6305 | E3: 84.886 | F3: 116.216 | G3: 1.058 | H3: 0.765 | I3: na | J3: na | K3: na | L3: na | M3: na | N3: na | O3: na | P3: na
A4: 39845 | B4: 52074 | C4: 2804.3876 | E4: 84.847 | F4: 115.734 | G4: 0.663 | H4: 0.452 | I4: na | J4: na | K4: na | L4: na | M4: na | N4: na | O4: na | P4: na
A5: 39873 | B5: 47989 | C5: 3221.1014 | E5: 84.899 | F5: 115.507 | G5: 0.724 | H5: 0.477 | I5: na | J5: na | K5: na | L5: na | M5: na | N5: na | O5: na | P5: na
A6: 39904 | B6: 58460 | C6: 3160.7478 | E6: 85.442 | F6: 115.586 | G6: 0.78 | H6: 0.477 | I6: na | J6: na | K6: na | L6: na | M6: na | N6: na | O6: na | P6: na
A7: 39934 | B7: 43534 | C7: 3695.3987 | E7: 85.597 | F7: 115.723 | G7: 0.923 | H7: 0.598 | I7: na | J7: na | K7: na | L7: na | M7: na | N7: na | O7: na | P7: na
A8: 39965 | B8: 51608 | C8: 4063.0141 | E8: 85.87 | F8: 115.863 | G8: 0.983 | H8: 0.676 | I8: na | J8: na | K8: na | L8: na | M8: na | N8: na | O8: na | P8: na
A9: 39995 | B9: 56028 | C9: 4395.013 | E9: 86.431 | F9: 116.26 | G9: 1.348 | H9: 0.814 | I9: na | J9: na | K9: na | L9: na | M9: na | N9: na | O9: na | P9: na
A10: 40026 | B10: 52143 | C10: 3495.7386 | E10: 86.604 | F10: 116.386 | G10: 0.974 | H10: 0.569 | I10: na | J10: na | K10: na | L10: na | M10: na | N10: na | O10: na | P10: na
A11: 40057 | B11: 47929 | C11: 3303.9828 | E11: 86.913 | F11: 116.383 | G11: 0.913 | H11: 0.521 | I11: na | J11: na | K11: na | L11: na | M11: na | N11: na | O11: na | P11: na
A12: 40087 | B12: 56165 | C12: 3282.374 | E12: 87.316 | F12: 116.103 | G12: 1.053 | H12: 0.581 | I12: na | J12: na | K12: na | L12: na | M12: na | N12: na | O12: na | P12: na
A13: 40118 | B13: 48196 | C13: 3125.1648 | E13: 87.837 | F13: 116.059 | G13: 0.999 | H13: 0.602 | I13: na | J13: na | K13: na | L13: na | M13: na | N13: na | O13: na | P13: na
A14: 40148 | B14: 60286 | C14: 4249.9966 | E14: 88.318 | F14: 116.06 | G14: 1.016 | H14: 0.632 | I14: na | J14: na | K14: na | L14: na | M14: na | N14: na | O14: na | P14: na
... A38: 40878 | B38: 62490 | C38: 4456.1941 | E38: 106.392 | F38: 116.79 | G38: 1.031 | H38: 0.492 | I38: na | J38: na | K38: na | L38: na | M38: na | N38: na | O38: na | P38: na
A39: 40909 | B39: 56012 | C39: 4033.5844 | E39: 106.905 | F39: 116.631 | G39: 1.76 | H39: 0.747 | I39: na | J39: na | K39: 187.82 | L39: 330.7 | M39: na | N39: na | O39: na | P39: na
A40: 40940 | B40: 60995 | C40: 4257.3642 | E40: 107.903 | F40: 116.522 | G40: 1.366 | H40: 0.599 | I40: na | J40: na | K40: 187.73 | L40: 330.92 | M40: na | N40: na | O40: na | P40: na
A41: 40969 | B41: 64466 | C41: 4372.1706 | E41: 108.317 | F41: 116.231 | G41: 1.457 | H41: 0.666 | I41: na | J41: na | K41: 187.68 | L41: 330.99 | M41: na | N41: na | O41: na | P41: na
A42: 41000 | B42: 58939.98 | C42: 3720.4999 | E42: 109.105 | F42: 116.263 | G42: 1.442 | H42: 0.602 | I42: na | J42: na | K42: 187.75 | L42: 331.08 | M42: na | N42: na | O42: na | P42: na
A43: 41030 | B43: 57406.02 | C43: 4005.7983 | E43: 109.745 | F43: 116.032 | G43: 1.471 | H43: 0.66 | I43: na | J43: na | K43: 187.73 | L43: 331.06 | M43: na | N43: na | O43: na | P43: na
A44: 41061 | B44: 63494 | C44: 3665.2024 | E44: 110.543 | F44: 115.86 | G44: 1.559 | H44: 0.637 | I44: na | J44: na | K44: 187.62 | L44: 331.2 | M44: na | N44: na | O44: na | P44: na
A45: 41091 | B45: 55261 | C45: 3454.4513 | E45: 111.223 | F45: 115.853 | G45: 1.236 | H45: 0.512 | I45: na | J45: na | K45: 187.58 | L45: 331.3 | M45: na | N45: na | O45: na | P45: na
A46: 41122 | B46: 64322 | C46: 3111.7446 | E46: 111.736 | F46: 115.426 | G46: 1.167 | H46: 0.505 | I46: na | J46: na | K46: 187.54 | L46: 331.2 | M46: na | N46: na | O46: na | P46: na
A47: 41153 | B47: 55490 | C47: 2786.6557 | E47: 112.074 | F47: 115.101 | G47: 1.033 | H47: 0.379 | I47: na | J47: na | K47: 187.5 | L47: 331.15 | M47: na | N47: na | O47: na | P47: na
A48: 41183 | B48: 65788 | C48: 3815.5559 | E48: 112.444 | F48: 114.744 | G48: 1.322 | H48: 0.592 | I48: na | J48: na | K48: 187.4 | L48: 331.09 | M48: na | N48: na | O48: na | P48: na
A49: 41214 | B49: 60665 | C49: 3969.6192 | E49: 113.063 | F49: 114.707 | G49: 1.86 | H49: 0.751 | I49: na | J49: na | K49: 187.33 | L49: 331.06 | M49: na | N49: na | O49: na | P49: na
A50: 41244 | B50: 60079 | C50: 4194.1883 | E50: 113.382 | F50: 114.419 | G50: 1.405 | H50: 0.533 | I50: na | J50: na | K50: 187.27 | L50: 330.97 | M50: na | N50: na | O50: na | P50: na
... A62: 41609 | B62: 61843 | C62: 4419.9747 | E62: 120.465 | F62: 111.082 | G62: 1.187 | H62: 0.557 | I62: na | J62: na | K62: 191.22 | L62: 340.33 | M62: na | N62: na | O62: na | P62: na
A63: 41640 | B63: 63760 | C63: 4662.8527 | E63: 120.725 | F63: 110.699 | G63: 1.289 | H63: 0.646 | I63: na | J63: na | K63: 195.53 | L63: 348.06 | M63: 183.6 | N63: 361.02 | O63: na | P63: na
A64: 41671 | B64: 63174 | C64: 3072.5687 | E64: 121.297 | F64: 110.124 | G64: 0.817 | H64: 0.388 | I64: na | J64: na | K64: 195.91 | L64: 348.23 | M64: 184.43 | N64: 346.44 | O64: na | P64: na
A65: 41699 | B65: 58651 | C65: 4022.2034 | E65: 121.439 | F65: 109.61 | G65: 1.182 | H65: 0.488 | I65: na | J65: na | K65: 195.4 | L65: 348.17 | M65: 190.88 | N65: 361.19 | O65: na | P65: na
A66: 41730 | B66: 67525 | C66: 3961.8599 | E66: 121.734 | F66: 109.155 | G66: 1.155 | H66: 0.552 | I66: na | J66: na | K66: 195.35 | L66: 348.21 | M66: 186.34 | N66: 359.17 | O66: na | P66: na
A67: 41760 | B67: 63270 | C67: 4706.3071 | E67: 122.046 | F67: 108.771 | G67: 1.283 | H67: 0.626 | I67: na | J67: na | K67: 195.26 | L67: 348.19 | M67: 180 | N67: 359.19 | O67: na | P67: na
A68: 41791 | B68: 59002 | C68: 5076.3195 | E68: 122.461 | F68: 108.376 | G68: 1.428 | H68: 0.721 | I68: na | J68: na | K68: 195.1 | L68: 348.18 | M68: 183.34 | N68: 350.26 | O68: na | P68: na
A69: 41821 | B69: 64797 | C69: 5257.0487 | E69: 123.006 | F69: 108.115 | G69: 1.786 | H69: 0.84 | I69: na | J69: na | K69: 195.05 | L69: 348.25 | M69: 181.3 | N69: 356.72 | O69: na | P69: na
A70: 41852 | B70: 65837 | C70: 3718.7621 | E70: 123.567 | F70: 107.908 | G70: 1.184 | H70: 0.531 | I70: na | J70: na | K70: 194.85 | L70: 348.2 | M70: 178.18 | N70: 353.06 | O70: na | P70: na
A71: 41883 | B71: 58009 | C71: 4415.9486 | E71: 123.953 | F71: 107.698 | G71: 1.582 | H71: 0.735 | I71: na | J71: na | K71: 194.69 | L71: 348.23 | M71: 183.27 | N71: 350.06 | O71: na | P71: na
A72: 41913 | B72: 67413 | C72: 4763.3844 | E72: 124.587 | F72: 107.436 | G72: 1.51 | H72: 0.717 | I72: na | J72: na | K72: 194.57 | L72: 348.08 | M72: 179.81 | N72: 349.08 | O72: na | P72: na
A73: 41944 | B73: 58192 | C73: 4635.1353 | E73: 125.268 | F73: 107.524 | G73: 1.53 | H73: 0.725 | I73: na | J73: na | K73: 194.38 | L73: 348.01 | M73: 182.62 | N73: 346.19 | O73: na | P73: na
A74: 41974 | B74: 67355 | C74: 4547.4525 | E74: 125.695 | F74: 107.314 | G74: 1.426 | H74: 0.628 | I74: na | J74: na | K74: 194.21 | L74: 347.89 | M74: 179.36 | N74: 356.4 | O74: na | P74: na
...

Sheet cash mesacny VD
A1: Vybrané výdavky verejnej správy na mesačnej báze - hotovostná metodika (tis.)
A2: Mesiac | B2: Spolu výdavky na VD | C2: Spolu výdavky na VDm | D2: z toho celkové doplatky | E2: Počet vyplatených VD | F2: Počet vyplatených VDm | G2: Počet novopriznaných VD (01-09P) | H2: Počet novopriznaných VDm (01-09P) | I2: Počet smrťou zaniknutých VD | J2: Počet smrťou zaniknutých VDm | K2: Priemerný VD* | L2: Priemerný VDm* | M2: Priemerný VD novopriznaný (01-03P) | N2: Priemerný VDm novopriznaný (01-03P) | O2: Priemerný VD zaniknutý smrťou | P2: Priemerný VDm zaniknutý smrťou | Q2: Počet výplatných termínov v mesiaci
A3: 39814 | B3: 38663 | C3: 2687 | D3: 1011.1724 | E3: 303.902 | F3: 33.911 | G3: 0.155 | H3: 0.05 | I3: na | J3: na | K3: na | L3: na | M3: na | N3: na | O3: na | P3: na
A4: 39845 | B4: 41888 | C4: 2933 | D4: 710.08633 | E4: 301.662 | F4: 33.676 | G4: 1.823 | H4: 0.605 | I4: na | J4: na | K4: na | L4: na | M4: na | N4: na | O4: na | P4: na
A5: 39873 | B5: 38675 | C5: 2724 | D5: 847.74566 | E5: 301.855 | F5: 33.811 | G5: 0.844 | H5: 0.315 | I5: na | J5: na | K5: na | L5: na | M5: na | N5: na | O5: na | P5: na
A6: 39904 | B6: 47164 | C6: 3330 | D6: 747.79736 | E6: 302.308 | F6: 34.086 | G6: 1.045 | H6: 0.387 | I6: na | J6: na | K6: na | L6: na | M6: na | N6: na | O6: na | P6: na
A7: 39934 | B7: 34854 | C7: 2463 | D7: 631.81394 | E7: 302.132 | F7: 34.218 | G7: 1.203 | H7: 0.405 | I7: na | J7: na | K7: na | L7: na | M7: na | N7: na | O7: na | P7: na
A8: 39965 | B8: 41104 | C8: 2925 | D8: 656.17604 | E8: 301.9 | F8: 34.304 | G8: 1.147 | H8: 0.394 | I8: na | J8: na | K8: na | L8: na | M8: na | N8: na | O8: na | P8: na
A9: 39995 | B9: 44366 | C9: 3184 | D9: 742.63641 | E9: 301.912 | F9: 34.523 | G9: 1.214 | H9: 0.4 | I9: na | J9: na | K9: na | L9: na | M9: na | N9: na | O9: na | P9: na
A10: 40026 | B10: 41334 | C10: 2969 | D10: 565.27596 | E10: 301.873 | F10: 34.538 | G10: 0.986 | H10: 0.308 | I10: na | J10: na | K10: na | L10: na | M10: na | N10: na | O10: na | P10: na
A11: 40057 | B11: 38084 | C11: 2757 | D11: 596.67278 | E11: 301.987 | F11: 34.596 | G11: 1.34 | H11: 0.476 | I11: na | J11: na | K11: na | L11: na | M11: na | N11: na | O11: na | P11: na
A12: 40087 | B12: 44698 | C12: 3245 | D12: 1075.5782 | E12: 301.662 | F12: 34.725 | G12: 1.394 | H12: 0.445 | I12: na | J12: na | K12: na | L12: na | M12: na | N12: na | O12: na | P12: na
A13: 40118 | B13: 38189 | C13: 2807 | D13: 773.16605 | E13: 302.002 | F13: 35.005 | G13: 1.353 | H13: 0.5 | I13: na | J13: na | K13: na | L13: na | M13: na | N13: na | O13: na | P13: na
A14: 40148 | B14: 47789 | C14: 3542 | D14: 759.1532 | E14: 302.238 | F14: 35.267 | G14: 1.192 | H14: 0.447 | I14: na | J14: na | K14: na | L14: na | M14: na | N14: na | O14: na | P14: na
... A38: 40878 | B38: 46544 | C38: 3911 | D38: 618.96805 | E38: 299.389 | F38: 37.986 | G38: 0.907 | H38: 0.301 | I38: na | J38: na | K38: na | L38: na | M38: na | N38: na | O38: na | P38: na
A39: 40909 | B39: 41699 | C39: 3543 | D39: 760.80518 | E39: 299.245 | F39: 38.043 | G39: 1.136 | H39: 0.381 | I39: na | J39: na | K39: 146.97 | L39: 95.83 | M39: na | N39: na | O39: na | P39: na
A40: 40940 | B40: 45225 | C40: 3842 | D40: 662.99068 | E40: 298.212 | F40: 37.991 | G40: 1.192 | H40: 0.43 | I40: na | J40: na | K40: 147.03 | L40: 96.14 | M40: na | N40: na | O40: na | P40: na
A41: 40969 | B41: 47575 | C41: 4056 | D41: 684.99117 | E41: 298.006 | F41: 38.08 | G41: 1.251 | H41: 0.464 | I41: na | J41: na | K41: 147.08 | L41: 96.37 | M41: na | N41: na | O41: na | P41: na
A42: 41000 | B42: 43675.328 | C42: 3738.5271 | D42: 696.10479 | E42: 297.924 | F42: 38.27 | G42: 1.213 | H42: 0.417 | I42: na | J42: na | K42: 147.09 | L42: 96.57 | M42: na | N42: na | O42: na | P42: na
A43: 41030 | B43: 42457.672 | C43: 3668.4729 | D43: 655.61029 | E43: 297.634 | F43: 38.359 | G43: 1.24 | H43: 0.345 | I43: na | J43: na | K43: 147.09 | L43: 96.67 | M43: na | N43: na | O43: na | P43: na
A44: 41061 | B44: 46846 | C44: 4042 | D44: 588.2538 | E44: 297.532 | F44: 38.375 | G44: 1.283 | H44: 0.446 | I44: na | J44: na | K44: 147.05 | L44: 96.72 | M44: na | N44: na | O44: na | P44: na
A45: 41091 | B45: 40681 | C45: 3519 | D45: 527.75271 | E45: 298.064 | F45: 38.598 | G45: 1.14 | H45: 0.392 | I45: na | J45: na | K45: 147.02 | L45: 96.76 | M45: na | N45: na | O45: na | P45: na
A46: 41122 | B46: 47254 | C46: 4092 | D46: 506.17819 | E46: 296.98 | F46: 38.455 | G46: 1.022 | H46: 0.364 | I46: na | J46: na | K46: 146.97 | L46: 96.82 | M46: na | N46: na | O46: na | P46: na
A47: 41153 | B47: 40771 | C47: 3554 | D47: 677.07182 | E47: 296.568 | F47: 38.471 | G47: 1.185 | H47: 0.397 | I47: na | J47: na | K47: 147.03 | L47: 96.97 | M47: na | N47: na | O47: na | P47: na
A48: 41183 | B48: 48442 | C48: 4236 | D48: 1093.1284 | E48: 296.799 | F48: 38.644 | G48: 1.366 | H48: 0.435 | I48: na | J48: na | K48: 147.11 | L48: 97.13 | M48: na | N48: na | O48: na | P48: na
A49: 41214 | B49: 44766 | C49: 3971 | D49: 880.57216 | E49: 297.727 | F49: 38.952 | G49: 1.239 | H49: 0.428 | I49: na | J49: na | K49: 147.2 | L49: 97.3 | M49: na | N49: na | O49: na | P49: na
A50: 41244 | B50: 44452 | C50: 3907 | D50: 535.58891 | E50: 297.828 | F50: 39.049 | G50: 0.9 | H50: 0.334 | I50: na | J50: na | K50: 147.25 | L50: 97.39 | M50: na | N50: na | O50: na | P50: na
... A62: 41609 | B62: 45860 | C62: 4237 | D62: 736.62853 | E62: 295.894 | F62: 39.918 | G62: 0.799 | H62: 0.267 | I62: na | J62: na | K62: 152.24 | L62: 102.68 | M62: na | N62: na | O62: na | P62: na
A63: 41640 | B63: 47208 | C63: 4457 | D63: 814.47373 | E63: 296.148 | F63: 40.082 | G63: 1.14 | H63: 0.391 | I63: na | J63: na | K63: 155.69 | L63: 105.72 | M63: 176.16 | N63: 118.07 | O63: na | P63: na
A64: 41671 | B64: 46836 | C64: 4462 | D64: 506.70965 | E64: 294.453 | F64: 39.868 | G64: 0.885 | H64: 0.285 | I64: na | J64: na | K64: 155.78 | L64: 106.07 | M64: 171.36 | N64: 115.51 | O64: na | P64: na
A65: 41699 | B65: 43548 | C65: 4259 | D65: 797.65642 | E65: 294.052 | F65: 39.861 | G65: 0.961 | H65: 0.317 | I65: na | J65: na | K65: 155.79 | L65: 106.2 | M65: 171.76 | N65: 123.02 | O65: na | P65: na
A66: 41730 | B66: 50264 | C66: 4881 | D66: 808.87002 | E66: 293.905 | F66: 39.909 | G66: 1.079 | H66: 0.367 | I66: na | J66: na | K66: 155.78 | L66: 106.28 | M66: 173.68 | N66: 116.09 | O66: na | P66: na
A67: 41760 | B67: 46906 | C67: 4517 | D67: 936.18885 | E67: 293.581 | F67: 39.893 | G67: 1.126 | H67: 0.395 | I67: na | J67: na | K67: 155.77 | L67: 106.34 | M67: 173.62 | N67: 114.95 | O67: na | P67: na
A68: 41791 | B68: 43714 | C68: 4249 | D68: 949.12053 | E68: 293.304 | F68: 39.961 | G68: 1.343 | H68: 0.461 | I68: na | J68: na | K68: 155.76 | L68: 106.31 | M68: 173 | N68: 113.09 | O68: na | P68: na
A69: 41821 | B69: 47934 | C69: 4598 | D69: 953.04357 | E69: 293.53 | F69: 40.162 | G69: 1.892 | H69: 0.64 | I69: na | J69: na | K69: 155.69 | L69: 106.29 | M69: 172.24 | N69: 112.48 | O69: na | P69: na
A70: 41852 | B70: 49025 | C70: 4659 | D70: 633.18605 | E70: 293.835 | F70: 40.32 | G70: 1.055 | H70: 0.326 | I70: na | J70: na | K70: 155.67 | L70: 106.19 | M70: 169.8 | N70: 119.88 | O70: na | P70: na
A71: 41883 | B71: 43394 | C71: 4186 | D71: 859.30944 | E71: 293.513 | F71: 40.313 | G71: 1.242 | H71: 0.417 | I71: na | J71: na | K71: 155.64 | L71: 106.24 | M71: 174.67 | N71: 115.64 | O71: na | P71: na
A72: 41913 | B72: 50189 | C72: 4824 | D72: 1388.171 | E72: 293.413 | F72: 40.409 | G72: 1.79 | H72: 0.579 | I72: na | J72: na | K72: 155.72 | L72: 106.36 | M72: 172.25 | N72: 111.45 | O72: na | P72: na
A73: 41944 | B73: 43653 | C73: 4227 | D73: 987.61424 | E73: 294.621 | F73: 40.829 | G73: 1.333 | H73: 0.447 | I73: na | J73: na | K73: 155.85 | L73: 106.42 | M73: 174.31 | N73: 120.52 | O73: na | P73: na
A74: 41974 | B74: 50274 | C74: 4907 | D74: 735.54642 | E74: 294.986 | F74: 40.96 | G74: 0.953 | H74: 0.298 | I74: na | J74: na | K74: 155.93 | L74: 106.51 | M74: 175.99 | N74: 119.19 | O74: na | P74: na
...

Sheet cash mesacny SIR a zuctovanie
A1: Vybrané výdavky verejnej správy na mesačnej báze - hotovostná metodika (tis.)
A2: Mesiac | B2: Spolu výdavky na SIR | C2: z toho celkové doplatky | D2: zúčtovanie dávok § 112, ods. 9 | E2: Počet výplatných termínov v mesiaci
A3: 39814 | B3: 3578 | C3: 477.05762 | D3: 0
A4: 39845 | B4: 3925 | C4: 467.30348 | D4: 26
A5: 39873 | B5: 3641 | C5: 396.83478 | D5: 27
A6: 39904 | B6: 4422 | C6: 294.58466 | D6: 21
A7: 39934 | B7: 3321 | C7: 326.71192 | D7: 27
A8: 39965 | B8: 3796 | C8: 337.60263 | D8: 18
A9: 39995 | B9: 3937 | C9: 332.41246 | D9: 12
A10: 40026 | B10: 3514 | C10: 356.92023 | D10: 27
A11: 40057 | B11: 2956 | C11: 267.79865 | D11: 19
A12: 40087 | B12: 3748 | C12: 989.06482 | D12: 204
A13: 40118 | B13: 3383 | C13: 613.2525 | D13: 34
A14: 40148 | B14: 4269 | C14: 468.27468 | D14: 20
... A146: 44166 | B146: 3574 | C146: 344.599 | D146: 92
A147: 44197 | B147: 2675 | C147: 568.9545 | D147: 22 | E147: 10
A148: 44228 | B148: 3217 | C148: 208.48623 | D148: 49 | E148: 12
A149: 44256 | B149: 3358 | C149: 254.35714 | D149: 52 | E149: 12
A150: 44287 | B150: 3280 | C150: 178.3798 | D150: 45 | E150: 13
A151: 44317 | B151: 2958 | C151: 276.28588 | D151: 66 | E151: 11
A152: 44348 | B152: 3219 | C152: 375.47984 | D152: 0 | E152: 12
A153: 44378 | B153: 3068 | C153: 366.39456 | D153: 141 | E153: 13
A154: 44409 | B154: 2959 | C154: 368.14066 | D154: 144 | E154: 12
A155: 44440 | B155: 2779 | C155: 407.99916 | D155: 189 | E155: 11
A156: 44470 | B156: 3365 | C156: 752.76013 | D156: 103 | E156: 13
A157: 44501 | B157: 3177 | C157: 846.022 | D157: 0 | E157: 11
A158: 44531 | B158: 3650 | C158: 726.88094 | D158: 132 | E158: 13
... A213: 46204 | B213: 4160 | C213: 364.49295 | D213: 96 | E213: 13
A214: 46235 | C214: 363.18563 | E214: 11
A215: 46266 | E215: 12
A216: 46296 | E216: 13
