Workbook

Sheet akrual rocny
A1: Vybrané výdavky verejnej správy na ročnej báze - akruálna metodika (ESA2010, v tis. eur)
B2: 2005 | C2: 2006 | D2: 2007 | E2: 2008 | F2: 2009 | G2: 2010 | H2: 2011 | I2: 2012 | J2: 2013 | K2: 2014 | L2: 2015 | M2: 2016 | N2: 2017 | O2: 2018 | P2: 2019 | Q2: 2020 | R2: 2021 | S2: 2022 | T2: 2023 | U2: 2024 | V2: 2025
A3: Vybrané výdavky SP spolu | B3: =B4+B15+B17 -> 3629563.8 | C3: =C4+C15+C17 -> 3998467 | D3: =D4+D15+D17 -> 4400161.7 | E3: =E4+E15+E17 -> 4778999.4 | F3: =F4+F15+F17 -> 5352303.7 | G3: =G4+G15+G17 -> 5583871.8 | H3: =H4+H15+H17 -> 5772058.4 | I3: =I4+I15+I17 -> 6068252.7 | ... V3: =V4+V15+V17 -> 13794117
A4: Nemocenské dávky | B4: =SUM(B5:B13) -> 157357.77 | C4: =SUM(C5:C13) -> 176686.06 | D4: =SUM(D5:D13) -> 200439.64 | E4: =SUM(E5:E13) -> 246616 | F4: =SUM(F5:F13) -> 316960.09 | G4: =SUM(G5:G13) -> 338785.07 | H4: =SUM(H5:H13) -> 381763.9 | I4: =SUM(I5:I13) -> 428458.69 | ... V4: =SUM(V5:V13) -> 1069920.2
A5: - z toho dávka nemocenské | B5: =SUM('cash mesacny NEM'!C4:C15) -> 113879.87 | C5: =SUM('cash mesacny NEM'!C16:C27) -> 129756.52 | D5: =SUM('cash mesacny NEM'!C28:C39) -> 147652.08 | E5: =SUM('cash mesacny NEM'!C40:C51) -> 183203.03 | F5: =SUM('cash mesacny NEM'!C52:C63) -> 240494.97 | G5: =SUM('cash mesacny NEM'!C64:C75) -> 252929.81 | H5: =SUM('cash mesacny NEM'!C76:C87) -> 263778.01 | I5: =SUM('cash mesacny NEM'!C88:C99) -> 289664.64 | J5: =SUM('cash mesacny NEM'!C100:C111) -> 264304.61 | K5: =SUM('cash mesacny NEM'!C112:C123) -> 254748.75 | L5: =SUM('cash mesacny NEM'!C124:C135) -> 278792.15 | M5: =SUM('cash mesacny NEM'!C136:C147) -> 310819.37 | N5: =SUM('cash mesacny NEM'!C148:C159) -> 350794.23 | O5: =SUM('cash mesacny NEM'!C160:C171) -> 390343.37 | P5: =SUM('cash mesacny NEM'!C172:C183) -> 440098.19 | Q5: =SUM('cash mesacny NEM'!C184:C195) -> 580305.12 | R5: =SUM('cash mesacny NEM'!C196:C207) -> 707278.7 | S5: =SUM('cash mesacny NEM'!C208:C219) -> 598455.59 | T5: =SUM('cash mesacny NEM'!C220:C231) -> 592599.26 | U5: =SUM('cash mesacny NEM'!C232:C243) -> 634397.1 | V5: =SUM('cash mesacny NEM'!C244:C255) -> 622314.05
A6: - z toho dávka ošetrovné | B6: =SUM('cash mesacny NEM'!D4:D15) -> 4520.7266 | C6: =SUM('cash mesacny NEM'!D16:D27) -> 5090.336 | D6: =SUM('cash mesacny NEM'!D28:D39) -> 6266.2836 | E6: =SUM('cash mesacny NEM'!D40:D51) -> 7408.9612 | F6: =SUM('cash mesacny NEM'!D52:D63) -> 8203.0253 | G6: =SUM('cash mesacny NEM'!D64:D75) -> 8843.6024 | H6: =SUM('cash mesacny NEM'!D76:D87) -> 10481.161 | I6: =SUM('cash mesacny NEM'!D88:D99) -> 9570.0595 | J6: =SUM('cash mesacny NEM'!D100:D111) -> 8987.9359 | K6: =SUM('cash mesacny NEM'!D112:D123) -> 8721.7676 | L6: =SUM('cash mesacny NEM'!D124:D135) -> 10516.321 | M6: =SUM('cash mesacny NEM'!D136:D147) -> 12163.15 | N6: =SUM('cash mesacny NEM'!D148:D159) -> 14806.934 | O6: =SUM('cash mesacny NEM'!D160:D171) -> 17223.835 | P6: =SUM('cash mesacny NEM'!D172:D183) -> 19880.748 | Q6: =SUM('cash mesacny NEM'!D184:D195) -> 154493.59 | R6: =SUM('cash mesacny NEM'!D196:D207) -> 63218.634 | S6: =SUM('cash mesacny NEM'!D208:D219) -> 39376.737 | T6: =SUM('cash mesacny NEM'!D220:D231) -> 35395.51 | U6: =SUM('cash mesacny NEM'!D232:D243) -> 36826.754 | V6: =SUM('cash mesacny NEM'!D244:D255) -> 41249.987
A7: - z toho dávka materské | B7: =SUM('cash mesacny NEM'!E4:E15) -> 38923.487 | C7: =SUM('cash mesacny NEM'!E16:E27) -> 41808.161 | D7: =SUM('cash mesacny NEM'!E28:E39) -> 46355.908 | E7: =SUM('cash mesacny NEM'!E40:E51) -> 55887.886 | F7: =SUM('cash mesacny NEM'!E52:E63) -> 67933.017 | G7: =SUM('cash mesacny NEM'!E64:E75) -> 76649.938 | H7: =SUM('cash mesacny NEM'!E76:E87) -> 107124.36 | I7: =SUM('cash mesacny NEM'!E88:E99) -> 128873.31 | J7: =SUM('cash mesacny NEM'!E100:E111) -> 126098.15 | K7: =SUM('cash mesacny NEM'!E112:E123) -> 117269.5 | L7: =SUM('cash mesacny NEM'!E124:E135) -> 125732.29 | M7: =SUM('cash mesacny NEM'!E136:E147) -> 150852.6 | N7: =SUM('cash mesacny NEM'!E148:E159) -> 199154.59 | O7: =SUM('cash mesacny NEM'!E160:E171) -> 253582.17 | P7: =SUM('cash mesacny NEM'!E172:E183) -> 299597.63 | Q7: =SUM('cash mesacny NEM'!E184:E195) -> 308528.23 | R7: =SUM('cash mesacny NEM'!E196:E207) -> 316354.37 | S7: =SUM('cash mesacny NEM'!E208:E219) -> 335682.81 | T7: =SUM('cash mesacny NEM'!E220:E231) -> 341281.28 | U7: =SUM('cash mesacny NEM'!E232:E243) -> 344406.16 | V7: =SUM('cash mesacny NEM'!E244:E255) -> 344270.74
A8: - z toho dávka otcovské | B8: n/a | C8: n/a | D8: n/a | E8: n/a | F8: n/a | G8: n/a | H8: n/a | I8: n/a | J8: n/a | K8: n/a | L8: n/a | M8: n/a | N8: n/a | O8: n/a | P8: n/a | Q8: n/a | R8: n/a | S8: n/a | T8: =SUM('cash mesacny NEM'!F220:F231) -> 8725.4444 | U8: =SUM('cash mesacny NEM'!F232:F243) -> 8894.0726 | V8: =SUM('cash mesacny NEM'!F244:F255) -> 8879.3138
A9: - z toho vyrovnávacia dávka | B9: =SUM('cash mesacny NEM'!G4:G15) -> 33.683828 | C9: =SUM('cash mesacny NEM'!G16:G27) -> 31.209985 | D9: =SUM('cash mesacny NEM'!G28:G39) -> 24.838711 | E9: =SUM('cash mesacny NEM'!G40:G51) -> 35.840437 | F9: =SUM('cash mesacny NEM'!G52:G63) -> 48.69354 | G9: =SUM('cash mesacny NEM'!G64:G75) -> 46.80317 | H9: =SUM('cash mesacny NEM'!G76:G87) -> 58.06362 | I9: =SUM('cash mesacny NEM'!G88:G99) -> 52.53157 | J9: =SUM('cash mesacny NEM'!G100:G111) -> 43.72269 | K9: =SUM('cash mesacny NEM'!G112:G123) -> 71.93841 | L9: =SUM('cash mesacny NEM'!G124:G135) -> 49.4137 | M9: =SUM('cash mesacny NEM'!G136:G147) -> 55.408074 | N9: =SUM('cash mesacny NEM'!G148:G159) -> 74.71488 | O9: =SUM('cash mesacny NEM'!G160:G171) -> 86.045 | P9: =SUM('cash mesacny NEM'!G172:G183) -> 83.6353 | Q9: =SUM('cash mesacny NEM'!G184:G195) -> 62.1373 | R9: =SUM('cash mesacny NEM'!G196:G207) -> 62.5433 | S9: =SUM('cash mesacny NEM'!G208:G219) -> 71.9693 | T9: =SUM('cash mesacny NEM'!G220:G231) -> 72.2582 | U9: =SUM('cash mesacny NEM'!G232:G243) -> 56.4922 | V9: =SUM('cash mesacny NEM'!G244:G255) -> 79.5999
A10: - z toho dlhodobé ošetrovné | B10: n/a | C10: n/a | D10: n/a | E10: n/a | F10: n/a | G10: n/a | H10: n/a | I10: n/a | J10: n/a | K10: n/a | L10: n/a | M10: n/a | N10: n/a | O10: n/a | P10: n/a | Q10: n/a | R10: =SUM('cash mesacny NEM'!H196:H207) -> 998.19165 | S10: =SUM('cash mesacny NEM'!H208:H219) -> 2248.4888 | T10: =SUM('cash mesacny NEM'!H220:H231) -> 3233.3752 | U10: =SUM('cash mesacny NEM'!H232:H243) -> 4305.0802 | V10: =SUM('cash mesacny NEM'!H244:H255) -> 5717.2835
A11: - z toho dávka tehotenské | B11: n/a | C11: n/a | D11: n/a | E11: n/a | F11: n/a | G11: n/a | H11: n/a | I11: n/a | J11: n/a | K11: n/a | L11: n/a | M11: n/a | N11: n/a | O11: n/a | P11: n/a | Q11: n/a | R11: =SUM('cash mesacny NEM'!I196:I207) -> 31962.819 | S11: =SUM('cash mesacny NEM'!I208:I219) -> 46644.88 | T11: =SUM('cash mesacny NEM'!I220:I231) -> 46849.292 | U11: =SUM('cash mesacny NEM'!I232:I243) -> 46152.668 | V11: =SUM('cash mesacny NEM'!I244:I255) -> 46117.172
A12: - z toho zúčtovanie dávok | B12: =SUM('cash mesacny NEM'!J4:J15) -> 0 | C12: =SUM('cash mesacny NEM'!J16:J27) -> -0.16109 | D12: =SUM('cash mesacny NEM'!J28:J39) -> -46.812554 | E12: =SUM('cash mesacny NEM'!J40:J51) -> -135.54265 | F12: =SUM('cash mesacny NEM'!J52:J63) -> -9.10271 | G12: =SUM('cash mesacny NEM'!J64:J75) -> -8.2245 | H12: =SUM('cash mesacny NEM'!J76:J87) -> -5.71133 | I12: =SUM('cash mesacny NEM'!J88:J99) -> 0.4362 | J12: =SUM('cash mesacny NEM'!J100:J111) -> 0 | K12: =SUM('cash mesacny NEM'!J112:J123) -> -0.00724 | L12: =SUM('cash mesacny NEM'!J124:J135) -> -3.75209 | M12: =SUM('cash mesacny NEM'!J136:J147) -> -4.83232 | N12: =SUM('cash mesacny NEM'!J148:J159) -> -18.3564 | O12: =SUM('cash mesacny NEM'!J160:J171) -> -11.79037 | P12: =SUM('cash mesacny NEM'!J172:J183) -> -2.2124 | Q12: =SUM('cash mesacny NEM'!J184:J195) -> -0.8967 | R12: =SUM('cash mesacny NEM'!J196:J207) -> -3.4722 | S12: =SUM('cash mesacny NEM'!J208:J219) -> -6.54591 | T12: =SUM('cash mesacny NEM'!J220:J231) -> 2.3238 | U12: =SUM('cash mesacny NEM'!J232:J243) -> -19.72462 | V12: =SUM('cash mesacny NEM'!J244:J255) -> -1.8432
A13: - z toho zúčtované v triede 1090 (výdavky Správneho fondu) | B13: 0 | C13: 0 | D13: 187.34263 | E13: 215.82398 | F13: 289.48554 | G13: 323.14665 | H13: 328.01446 | I13: 297.71225 | J13: 307.59068 | K13: 296.90501 | L13: 368.3966 | M13: 368.18728 | N13: 564.8626 | O13: 674.41428 | P13: 729.62144 | Q13: 814.14419 | R13: 616.01825 | S13: 1393.19 | T13: 1150.6208 | U13: 1324.9135 | V13: 1293.9321
A14: Dávka v nezamestnanosti | B14: =SUM('cash mesacny DvN'!J3:J14) -> 82.084112 | C14: =SUM('cash mesacny DvN'!J15:J26) -> 63.983 | D14: =SUM('cash mesacny DvN'!J27:J38) -> 59.615898 | E14: =E15+E16 -> 66.121344 | F14: =F15+F16 -> 172.42967 | G14: =G15+G16 -> 150.33907 | H14: =H15+H16 -> 163.3339 | I14: =I15+I16 -> 175.77322 | J14: =J15+J16 -> 174.3076 | K14: =K15+K16 -> 154.72125 | L14: =L15+L16 -> 158.6245 | ... V14: =V15+V16 -> 337.30121
A15: - z toho výdavky na dávku v nezamestnanosti | B15: =SUM('cash mesacny DvN'!B3:B14) -> 80.984926 | C15: =SUM('cash mesacny DvN'!B15:B26) -> 63.98176 | D15: =SUM('cash mesacny DvN'!B27:B38) -> 59.653716 | E15: =SUM('cash mesacny DvN'!B39:B50) -> 66.27343 | F15: =SUM('cash mesacny DvN'!B51:B62) -> 172.57856 | G15: =SUM('cash mesacny DvN'!B63:B74) -> 150.68194 | H15: =SUM('cash mesacny DvN'!B75:B86) -> 163.51325 | I15: =SUM('cash mesacny DvN'!B87:B98) -> 175.82758 | J15: =SUM('cash mesacny DvN'!B99:B110) -> 174.40691 | K15: =SUM('cash mesacny DvN'!B111:B122) -> 155.5968 | L15: =SUM('cash mesacny DvN'!B123:B134) -> 158.61966 | M15: =SUM('cash mesacny DvN'!B135:B146) -> 171.41084 | N15: =SUM('cash mesacny DvN'!B147:B158) -> 167.62064 | O15: =SUM('cash mesacny DvN'!B159:B170) -> 183.72278 | P15: =SUM('cash mesacny DvN'!B171:B182) -> 214.07334 | Q15: =SUM('cash mesacny DvN'!B183:B194) -> 329.09384 | R15: =SUM('cash mesacny DvN'!B195:B206) -> 290.2018 | S15: =SUM('cash mesacny DvN'!B207:B218) -> 239.39326 | T15: =SUM('cash mesacny DvN'!B219:B230) -> 268.12931 | U15: =SUM('cash mesacny DvN'!B231:B242) -> 296.41476 | V15: =SUM('cash mesacny DvN'!B243:B254) -> 336.5668
A16: - z toho zúčtovanie dávok+refundované dávky do krajín EÚ+záväzky z titulu vyplatených dávok do EÚ | B16: =B14-B15 -> 1.099186 | C16: =C14-C15 -> 0.00124 | D16: =D14-D15 -> -0.037818 | E16: =(SUM('cash mesacny DvN'!E39:E50)+SUM('cash mesacny DvN'!F39:F50)) -> -0.152086 | F16: =(SUM('cash mesacny DvN'!E51:E62)+SUM('cash mesacny DvN'!F51:F62)) -> -0.14888453 | G16: =(SUM('cash mesacny DvN'!E63:E74)+SUM('cash mesacny DvN'!F63:F74)) -> -0.34286591 | H16: =(SUM('cash mesacny DvN'!E75:E86)+SUM('cash mesacny DvN'!F75:F86)+SUM('cash mesacny DvN'!G75:G86)) -> -0.17934875 | I16: =(SUM('cash mesacny DvN'!E87:E98)+SUM('cash mesacny DvN'!F87:F98)+SUM('cash mesacny DvN'!G87:G98)) -> -0.05436567 | J16: =(SUM('cash mesacny DvN'!E99:E110)+SUM('cash mesacny DvN'!F99:F110)+SUM('cash mesacny DvN'!G99:G110)) -> -0.0993113 | K16: =(SUM('cash mesacny DvN'!E111:E122)+SUM('cash mesacny DvN'!F111:F122)+SUM('cash mesacny DvN'!G111:G122)) -> -0.87554162 | L16: =(SUM('cash mesacny DvN'!E123:E134)+SUM('cash mesacny DvN'!F123:F134)+SUM('cash mesacny DvN'!G123:G134)) -> 0.00483848 | M16: =(SUM('cash mesacny DvN'!E135:E146)+SUM('cash mesacny DvN'!F135:F146)+SUM('cash mesacny DvN'!G135:G146)) -> 0.21903128 | N16: =(SUM('cash mesacny DvN'!E147:E158)+SUM('cash mesacny DvN'!F147:F158)+SUM('cash mesacny DvN'!G147:G158)) -> 0.03481265 | O16: =(SUM('cash mesacny DvN'!E159:E170)+SUM('cash mesacny DvN'!F159:F170)+SUM('cash mesacny DvN'!G159:G170)) -> 0.02249897 | P16: =(SUM('cash mesacny DvN'!E171:E182)+SUM('cash mesacny DvN'!F171:F182)+SUM('cash mesacny DvN'!G171:G182)) -> 0.12121422 | Q16: =(SUM('cash mesacny DvN'!E183:E194)+SUM('cash mesacny DvN'!F183:F194)+SUM('cash mesacny DvN'!G183:G194)) -> 0.11769322 | R16: =SUM('cash mesacny DvN'!E195:G206) -> -0.36153628 | S16: =SUM('cash mesacny DvN'!E207:I218) -> -0.18289648 | T16: =SUM('cash mesacny DvN'!E219:I230) -> -0.63909875 | U16: =SUM('cash mesacny DvN'!E231:I242) -> -1.9556952 | V16: =SUM('cash mesacny DvN'!E243:E254) -> 0.73441067
A17: Dôchodkové dávky zo starobného a invalidného poistenia | B17: =SUM(B18:B21) -> 3472125 | C17: =SUM(C18:C21) -> 3821717 | D17: =SUM(D18:D21) -> 4199662.4 | E17: =SUM(E18:E21) -> 4532317.1 | F17: =SUM(F18:F21) -> 5035171 | G17: =SUM(G18:G21) -> 5244936 | H17: =SUM(H18:H21) -> 5390131 | I17: =SUM(I18:I21) -> 5639618.1 | ... V17: =SUM(V18:V21) -> 12723861
A18: - Základný fond starobného poistenia (hotovostný výdavok) | B18: 2958677.1 | C18: 3258170.3 | D18: 3568126.6 | E18: 3839895.7 | F18: 4265785 | G18: 4436637 | H18: 4547850 | I18: 4760341 | J18: 4992741 | K18: 5328096 | L18: 5501141 | M18: 5571328 | N18: 5838508 | O18: 6116494 | P18: 6412409 | Q18: 6788614 | R18: 7058191 | S18: 7302068 | T18: 9174841 | U18: 11256320 | V18: 11371868
A19: - Základný fond invalidného poistenia (hotovostný výdavok) | B19: 513447.92 | C19: 563546.67 | D19: 631535.79 | E19: 692421.36 | F19: 769386 | G19: 808299 | H19: 843229 | I19: 879489 | J19: 901454 | K19: 913914 | L19: 913340 | M19: 914066 | N19: 927753 | O19: 931103 | P19: 944499 | Q19: 970437 | R19: 958059 | S19: 968516 | T19: 1144925 | U19: 1375777 | V19: 1388334
A20: - imputácia výdavku zaplateného v roku t-1 patriaceho do t | B20: n/a | C20: n/a | D20: n/a | E20: n/a | F20: n/a | G20: n/a | H20: 37627.142 | I20: 38575.148 | J20: 38787.002 | K20: 38700.217 | L20: 39286.148 | M20: 96240.934 | N20: 37389.696 | O20: 37133.382 | P20: 37807.893 | Q20: 41699.062 | R20: 113473.29 | S20: 43319 | T20: 47326.836 | U20: 43112.888 | V20: 54553.765
A21: - imputácia výdavku zaplateného v roku t patriaceho do t+1 | B21: n/a | C21: n/a | D21: n/a | E21: n/a | F21: n/a | G21: n/a | H21: -38575.148 | I21: -38787.002 | J21: -38700.217 | K21: -39286.148 | L21: -96240.934 | M21: -37389.696 | N21: -37133.382 | O21: -37807.893 | P21: -41699.062 | Q21: -113473.29 | R21: -43319 | S21: -47326.836 | T21: -43112.888 | U21: -54553.765 | V21: -90895.09

Sheet cash mesacny NEM
A1: Vybrané výdavky verejnej správy na mesačnej báze - hotovostná metodika (tis.)
C2: Výdavky (tis. EUR) | K2: Počty vyplatených dávok | R2: Priemerná mesačná výška dávky (EUR)
A3: Mesiac | B3: Spolu | C3: Nemocenské | D3: Ošetrovné | E3: Materské | F3: Otcovské | G3: Vyrovnávacia dávka | H3: Dlhodobé ošetrovné | I3: Tehotenské | J3: Zúčtovanie dávok | K3: Nemocenské | L3: Ošetrovné | M3: Materské | N3: Otcovské | O3: Vyrovnávacia dávka | P3: Dlhodobé ošetrovné | Q3: Tehotenské | R3: Nemocenské | S3: Ošetrovné | T3: Materské | U3: Otcovské | V3: Vyrovnávacia dávka | W3: Dlhodobé ošetrovné | X3: Tehotenské
A4: 38353 | B4: =SUM(C4:G4)+J4 -> 13857.949 | C4: 10161.623 | D4: 499.08438 | E4: 3197.2419 | G4: 0 | J4: 0 | K4: 91.886 | L4: 13.899 | M4: 16.552 | O4: 0.082 | R4: 110.58946 | S4: 35.907934 | T4: 193.16348
A5: 38384 | B5: =SUM(C5:G5)+J5 -> 13833.706 | C5: 10241.348 | D5: 380.38014 | E5: 3209.7104 | G5: 2.2676426 | J5: 0 | K5: 101.11 | L5: 10.13 | M5: 15.314 | O5: 0.071 | R5: 101.28917 | S5: 37.549865 | T5: 209.59321 | V5: 31.938628
A6: 38412 | B6: =SUM(C6:G6)+J6 -> 13157.415 | C6: 10018.708 | D6: 418.64804 | E6: 2716.8018 | G6: 3.2571533 | J6: 0 | K6: 94.386 | L6: 10.612 | M6: 15.508 | O6: 0.094 | R6: 106.14612 | S6: 39.450438 | T6: 175.18711 | V6: 34.650567
A7: 38443 | B7: =SUM(C7:G7)+J7 -> 14762.073 | C7: 11286.835 | D7: 510.00943 | E7: 2962.5842 | G7: 2.6449578 | J7: 0 | K7: 99.701 | L7: 12.877 | M7: 14.769 | O7: 0.082 | R7: 113.20684 | S7: 39.60623 | T7: 200.59477 | V7: 32.255583
A8: 38473 | B8: =SUM(C8:G8)+J8 -> 13330.325 | C8: 9940.5518 | D8: 412.10154 | E8: 2974.5878 | G8: 3.0836819 | J8: 0 | K8: 86.498 | L8: 10.604 | M8: 15.11 | O8: 0.085 | R8: 114.92233 | S8: 38.862839 | T8: 196.8622 | V8: 36.27861
A9: 38504 | B9: =SUM(C9:G9)+J9 -> 13216.922 | C9: 9579.5845 | D9: 368.89341 | E9: 3262.8441 | G9: 5.5997809 | J9: 0 | K9: 78.991 | L9: 10.014 | M9: 15.525 | O9: 0.183 | R9: 121.27438 | S9: 36.837769 | T9: 210.16709 | V9: 30.599896
A10: 38534 | B10: =SUM(C10:G10)+J10 -> 11991.085 | C10: 8491.3831 | D10: 322.30167 | E10: 3175.5845 | G10: 1.8155414 | J10: 0 | K10: 67.737 | L10: 7.8 | M10: 16.248 | O10: 0.068 | R10: 125.35812 | S10: 41.320726 | T10: 195.44464 | V10: 26.699138
A11: 38565 | B11: =SUM(C11:G11)+J11 -> 12364.255 | C11: 8682.7408 | D11: 251.72804 | E11: 3426.8114 | G11: 2.9743411 | J11: 0 | K11: 64.063 | L11: 5.706 | M11: 16.282 | O11: 0.088 | R11: 135.53441 | S11: 44.116376 | T11: 210.46624 | V11: 33.799331
A12: 38596 | B12: =SUM(C12:G12)+J12 -> 12101.138 | C12: 8250.3115 | D12: 260.46979 | E12: 3588.1297 | G12: 2.2266149 | J12: 0 | K12: 61.148 | L12: 5.668 | M12: 18.408 | O12: 0.064 | R12: 134.92365 | S12: 45.954445 | T12: 194.9223 | V12: 34.790858
A13: 38626 | B13: =SUM(C13:G13)+J13 -> 12214.562 | C13: 8469.0075 | D13: 250.76622 | E13: 3492.614 | G13: 2.1747992 | J13: 0 | K13: 65.563 | L13: 6.29 | M13: 17.22 | O13: 0.072 | R13: 129.17358 | S13: 39.867443 | T13: 202.82311 | V13: 30.205544
A14: 38657 | B14: =SUM(C14:G14)+J14 -> 13355.963 | C14: 9389.0419 | D14: 414.70116 | E14: 3549.5612 | G14: 2.6589989 | J14: 0 | K14: 76.041 | L14: 10.197 | M14: 17.11 | O14: 0.045 | R14: 123.47341 | S14: 40.668937 | T14: 207.45536 | V14: 59.088864
A15: 38687 | B15: =SUM(C15:G15)+J15 -> 13172.376 | C15: 9368.737 | D15: 431.64278 | E15: 3367.0162 | G15: 4.980316 | J15: 0 | K15: 80.28 | L15: 10.345 | M15: 18.186 | O15: 0.082 | R15: 116.70076 | S15: 41.724773 | T15: 185.14331 | V15: 60.735561
A16: 38718 | B16: =SUM(C16:G16)+J16 -> 14173.715 | C16: 10362.575 | D16: 484.16839 | E16: 3324.2252 | G16: 2.74683 | J16: 0 | K16: 79.033 | L16: 11.091 | M16: 16.428 | O16: 0.062 | R16: 131.11706 | S16: 43.654169 | T16: 202.35118 | V16: 44.303709
... A195: 44166 | B195: =SUM(C195:G195)+J195 -> 91885.614 | C195: 63704.664 | D195: 3044.3746 | E195: 25129.256 | G195: 7.3196 | J195: 0 | K195: 232.849 | L195: 20.608 | M195: 32.051 | O195: 0.047 | R195: 274.37 | S195: 148.2 | T195: 784.52 | V195: 155.74
A196: 44197 | B196: =SUM(C196,D196,E196,G196)+J196 -> 96642.473 | C196: 67202.009 | D196: 3734.5607 | E196: 25703.174 | G196: 2.7294 | J196: 0 | K196: 229.471 | L196: 22.25 | M196: 31.981 | O196: 0.024 | R196: 294.01 | S196: 168.49 | T196: 804.31 | V196: 113.73
A197: 44228 | B197: =SUM(C197,D197,E197,G197)+J197 -> 110749.95 | C197: 72858.15 | D197: 12191.657 | E197: 25698.284 | G197: 1.8618 | J197: 0 | K197: 247.805 | L197: 52.48 | M197: 32.127 | O197: 0.016 | R197: 294.66 | S197: 233.19 | T197: 800.26 | V197: 116.36
A198: 44256 | B198: =SUM(C198,D198,E198,G198)+J198 -> 108664.99 | C198: 74686.67 | D198: 10702.195 | E198: 23270.423 | G198: 5.6988 | J198: 0 | K198: 259.956 | L198: 55.261 | M198: 31.561 | O198: 0.048 | R198: 288.59 | S198: 194.42 | T198: 738.03 | V198: 118.73
A199: 44287 | B199: =SUM(C199,D199,E199,G199)+J199 -> 113401.42 | C199: 79268.369 | D199: 8445.6876 | E199: 25682.474 | G199: 4.8919 | J199: 0 | K199: 248.966 | L199: 38.92 | M199: 31.35 | O199: 0.042 | R199: 319.08 | S199: 217.65 | T199: 819.74 | V199: 116.47
A200: 44317 | B200: =SUM(C200,D200,E200,G200,H200,I200)+J200 -> 97755.337 | C200: 63862.395 | D200: 5152.9878 | E200: 24993.751 | G200: 7.14062 | H200: 15.0487 | I200: 3724.0146 | J200: 0 | K200: 182.325 | L200: 23.892 | M200: 31.3 | O200: 0.051 | P200: 0.045 | Q200: 17.633 | R200: 351.36 | S200: 215.16 | T200: 798.58 | V200: 142.89 | W200: 334.42 | X200: 211.35
A201: 44348 | B201: =SUM(C201,D201,E201,G201,H201,I201)+J201 -> 85055.914 | C201: 51585.187 | D201: 2649.9328 | E201: 26276.277 | G201: 5.99228 | H201: 93.7536 | I201: 4444.7701 | J201: 0 | K201: 145.724 | L201: 16.213 | M201: 31.364 | O201: 0.033 | P201: 0.239 | Q201: 21.386 | R201: 355.08 | S201: 164.18 | T201: 837.93 | V201: 177.14 | W201: 392.5 | X201: 207.98
A202: 44378 | B202: =SUM(C202,D202,E202,G202,H202,I202)+J202 -> 77469.128 | C202: 44813.712 | D202: 2095.875 | E202: 26223.206 | G202: 7.4659 | H202: 136.4651 | I202: 4192.404 | J202: 0 | K202: 121.485 | L202: 11.905 | M202: 31.762 | O202: 0.048 | P202: 0.319 | Q202: 21.113 | R202: 370.06 | S202: 176.63 | T202: 826.11 | V202: 155.54 | W202: 427.79 | X202: 198.71
A203: 44409 | B203: =SUM(C203,D203,E203,G203,H203,I203)+J203 -> 78095.436 | C203: 43900.589 | D203: 2044.8719 | E203: 27852.637 | G203: 5.1234 | H203: 151.05546 | I203: 4144.6313 | J203: -3.4722 | K203: 115.337 | L203: 10.284 | M203: 32.368 | O203: 0.036 | P203: 0.354 | Q203: 20.367 | R203: 381.85 | S203: 199.58 | T203: 860.76 | V203: 142.32 | W203: 426.71 | X203: 203.68
A204: 44440 | B204: =SUM(C204,D204,E204,G204,H204,I204)+J204 -> 77806.127 | C204: 42701.183 | D204: 2637.3918 | E204: 28336.62 | G204: 3.5107 | H204: 136.96636 | I204: 3990.4555 | J204: 0 | K204: 114.76 | L204: 11.635 | M204: 32.901 | O204: 0.025 | P204: 0.35 | Q204: 19.69 | R204: 373.15 | S204: 227.33 | T204: 861.6 | V204: 140.43 | W204: 391.33 | X204: 202.84
A205: 44470 | B205: =SUM(C205,D205,E205,G205,H205,I205)+J205 -> 77626.023 | C205: 43474.86 | D205: 2940.0901 | E205: 27263.005 | G205: 7.62772 | H205: 134.62207 | I205: 3805.8181 | J205: 0 | K205: 127.411 | L205: 19.45 | M205: 32.692 | O205: 0.044 | P205: 0.338 | Q205: 19.325 | R205: 342.55 | S205: 151.75 | T205: 835.13 | V205: 176.66 | W205: 398.29 | X205: 197.14
A206: 44501 | B206: =SUM(C206,D206,E206,G206,H206,I206)+J206 -> 90817.115 | C206: 53491.697 | D206: 5138.1824 | E206: 28089.511 | G206: 7.62818 | H206: 159.92891 | I206: 3930.1675 | J206: 0 | K206: 168.486 | L206: 35.325 | M206: 32.35 | O206: 0.05 | P206: 0.378 | Q206: 19.641 | R206: 318 | S206: 145.88 | T206: 867.86 | V206: 149.65 | W206: 423.09 | X206: 200.2
A207: 44531 | B207: =SUM(C207,D207,E207,G207,H207,I207)+J207 -> 105787.87 | C207: 69433.878 | D207: 5485.2018 | E207: 26965.008 | G207: 2.8726 | H207: 170.35145 | I207: 3730.5579 | J207: 0 | K207: 243.557 | L207: 41.012 | M207: 32.125 | O207: 0.023 | P207: 0.396 | Q207: 19.038 | R207: 285.76 | S207: 134.27 | T207: 839.59 | V207: 124.9 | W207: 430.18 | X207: 196.13
A208: 44562 | B208: =SUM(C208,D208,E208,G208,H208,I208)+J208 -> 101193.35 | C208: 64946.596 | D208: 4672.3272 | E208: 27532.7 | G208: 2.2828 | H208: 176.87637 | I208: 3862.5723 | J208: 0 | K208: 215.399 | L208: 32.155 | M208: 32.008 | O208: 0.022 | P208: 0.412 | Q208: 19.235 | R208: 300.53101 | S208: 145.06231 | T208: 860.20261 | V208: 103.76364 | W208: 429.59993 | X208: 200.81619
A209: 44593 | B209: =SUM(C209,D209,E209,G209,H209,I209)+J209 -> 89501.354 | C209: 54189.701 | D209: 3742.3369 | E209: 27430.052 | G209: 1.9108 | H209: 170.53251 | I209: 3966.8206 | J209: 0 | K209: 162.328 | L209: 27.642 | M209: 31.897 | O209: 0.02 | P209: 0.409 | Q209: 19.649 | R209: 334.7674 | S209: 135.882 | T209: 860.18028 | V209: 95.54 | W209: 416.9499 | X209: 202.0374
A210: 44621 | B210: =SUM(C210,D210,E210,G210,H210,I210)+J210 -> 86486.364 | C210: 52886.706 | D210: 5202.2654 | E210: 24597.216 | G210: 5.2485 | H210: 159.2406 | I210: 3635.6875 | J210: 0 | K210: 184.402 | L210: 43.464 | M210: 31.008 | O210: 0.038 | P210: 0.397 | Q210: 19.231 | R210: 287.83679 | S210: 120.07968 | T210: 793.45635 | V210: 138.11842 | W210: 401.10982 | X210: 189.16895
A211: 44652 | B211: =SUM(C211,D211,E211,G211,H211,I211)+J211 -> 89634.928 | C211: 54436.454 | D211: 3673.5772 | E211: 27184.864 | G211: 4.3804 | H211: 192.204 | I211: 4145.7303 | J211: -2.28181 | K211: 168.02 | L211: 25.712 | M211: 31.079 | O211: 0.028 | P211: 0.453 | Q211: 20.119 | R211: 324.979 | S211: 143.47153 | T211: 874.98417 | V211: 156.44286 | W211: 424.29139 | X211: 206.24071
... A219: 44896 | B219: =SUM(C219,D219,E219,G219,H219,I219)+J219 -> 82675.732 | C219: 47021.056 | D219: 2966.3865 | E219: 28868.68 | G219: 5.3914 | H219: 227.069 | I219: 3587.1499 | J219: 0 | K219: 122.102 | L219: 21.055 | M219: 33.476 | O219: 0.029 | P219: 0.491 | Q219: 17.528 | R219: 386.29237 | S219: 141.2672 | T219: 862.63398 | V219: 185.91034 | W219: 462.46232 | X219: 204.94861
A220: 44927 | B220: =SUM(C220,D220,E220,G220,H220,I220)+J220+F220 -> 92041.245 | C220: 53740.704 | D220: 5330.6817 | E220: 28327.793 | F220: 599.43552 | G220: 9.7698 | H220: 246.8357 | I220: 3782.5982 | J220: 3.4272 | K220: 146.758 | L220: 35.368 | M220: 30.971 | N220: 1.686 | O220: 0.055 | P220: 0.534 | Q220: 17.977 | R220: 367.40787 | S220: 151.0558 | T220: 915.05089 | U220: 355.69081 | V220: 177.63273 | W220: 462.72266 | X220: 210.87907
A221: 44958 | B221: =SUM(C221,D221,E221,G221,H221,I221)+J221+F221 -> 90106.222 | C221: 54501.527 | D221: 2382.668 | E221: 28251.9 | F221: 796.00737 | G221: 6.2698 | H221: 237.8395 | I221: 3930.0104 | J221: 0 | K221: 146.271 | L221: 16.059 | M221: 30.94 | N221: 2.066 | O221: 0.039 | P221: 0.544 | Q221: 18.609 | R221: 373.82993 | S221: 148.7655 | T221: 913.30515 | U221: 385.36772 | V221: 160.7641 | W221: 437.20496 | X221: 211.41849
A222: 44986 | B222: =SUM(C222,D222,E222,G222,H222,I222)+J222+F222 -> 84249.831 | C222: 50805.746 | D222: 3341.0659 | E222: 25499.893 | F222: 681.50905 | G222: 9.0181 | H222: 239.9974 | I222: 3672.6017 | J222: 0 | K222: 138.333 | L222: 22.584 | M222: 30.14 | N222: 1.853 | O222: 0.057 | P222: 0.557 | Q222: 18.537 | R222: 368.62812 | S222: 148.31127 | T222: 846.39347 | U222: 367.93695 | V222: 158.21228 | W222: 430.87504 | X222: 198.36075
A223: 45017 | B223: =SUM(C223,D223,E223,G223,H223,I223)+J223+F223 -> 91962.138 | C223: 54997.504 | D223: 3646.1377 | E223: 28224.968 | F223: 762.24748 | G223: 6.744 | H223: 257.9228 | I223: 4066.6148 | J223: 0 | K223: 142.436 | L223: 23.898 | M223: 30.156 | N223: 1.976 | O223: 0.049 | P223: 0.561 | Q223: 18.63 | R223: 388.10715 | S223: 152.91256 | T223: 936.19622 | U223: 385.84798 | V223: 137.63265 | W223: 461.12709 | X223: 218.5321
A224: 45047 | B224: =SUM(C224,D224,E224,G224,H224,I224)+J224+F224 -> 84919.379 | C224: 49740.465 | D224: 2988.6751 | E224: 27276.411 | F224: 713.19001 | G224: 7.8415 | H224: 244.1583 | I224: 3948.6378 | J224: 0 | K224: 126.612 | L224: 19.438 | M224: 29.837 | N224: 1.876 | O224: 0.058 | P224: 0.561 | Q224: 18.363 | R224: 395.00263 | S224: 154.37978 | T224: 914.6845 | U224: 380.37473 | V224: 135.19828 | W224: 436.58164 | X224: 215.48259
A225: 45078 | B225: =SUM(C225,D225,E225,G225,H225,I225)+J225+F225 -> 85992.992 | C225: 49138.822 | D225: 2979.3048 | E225: 28769.094 | F225: 710.99818 | G225: 4.8612 | H225: 272.2275 | I225: 4117.6844 | J225: 0 | K225: 117.358 | L225: 19.237 | M225: 29.878 | N225: 1.891 | O225: 0.038 | P225: 0.612 | Q225: 18.467 | R225: 420.90492 | S225: 155.38784 | T225: 963.23834 | U225: 376.12834 | V225: 128.14737 | W225: 444.81618 | X225: 223.40605
A226: 45108 | B226: =SUM(C226,D226,E226,G226,H226,I226)+J226+F226 -> 83372.971 | C226: 46725.968 | D226: 2965.2764 | E226: 28706.828 | F226: 736.12501 | G226: 3.9712 | H226: 287.406 | I226: 3947.3963 | J226: 0 | K226: 114.921 | L226: 18.791 | M226: 30.109 | N226: 1.932 | O226: 0.039 | P226: 0.632 | Q226: 18.152 | R226: 408.7687 | S226: 158.26743 | T226: 953.75522 | U226: 381.147 | V226: 101.82564 | W226: 455.25997 | X226: 218.07783
A227: 45139 | B227: =SUM(C227,D227,E227,G227,H227,I227)+J227+F227 -> 83987.31 | C227: 46266.849 | D227: 2345.2923 | E227: 30262.383 | F227: 770.90503 | G227: 7.0352 | H227: 318.1994 | I227: 4016.6463 | J227: 0 | K227: 108.384 | L227: 12.668 | M227: 30.67 | N227: 2.08 | O227: 0.05 | P227: 0.687 | Q227: 17.936 | R227: 429.43209 | S227: 186.00022 | T227: 987.35847 | U227: 370.87115 | V227: 140.704 | W227: 463.42591 | X227: 224.66082
A228: 45170 | B228: =SUM(C228,D228,E228,G228,H228,I228)+J228+F228 -> 82528.418 | C228: 44904.452 | D228: 2326.673 | E228: 30211.077 | F228: 818.64352 | G228: 2.8043 | H228: 294.71531 | I228: 3970.0531 | J228: 0 | K228: 103.976 | L228: 11.216 | M228: 30.449 | N228: 2.01 | O228: 0.025 | P228: 0.652 | Q228: 17.722 | R228: 434.3119 | S228: 208.11148 | T228: 992.88742 | U228: 407.57319 | V228: 116.484 | W228: 453.72486 | X228: 225.04048
A229: 45200 | B229: =SUM(C229,D229,E229,G229,H229,I229)+J229+F229 -> 78796.269 | C229: 43613.086 | D229: 1674.3873 | E229: 28638.92 | F229: 767.51107 | G229: 6.7798 | H229: 279.85039 | I229: 3815.7347 | J229: 0 | K229: 108.17 | L229: 10.86 | M229: 30.001 | N229: 1.961 | O229: 0.054 | P229: 0.675 | Q229: 17.448 | R229: 405.37928 | S229: 154.64258 | T229: 954.95423 | U229: 391.5333 | V229: 125.55185 | W229: 415.38932 | X229: 219.55915
A230: 45231 | B230: =SUM(C230,D230,E230,G230,H230,I230)+J230+F230 -> 86563.14 | C230: 49476.637 | D230: 2956.8496 | E230: 29244.133 | F230: 724.14211 | G230: 3.9636 | H230: 270.4908 | I230: 3888.0275 | J230: -1.1034 | K230: 126.432 | L230: 18.712 | M230: 29.493 | N230: 1.957 | O230: 0.033 | P230: 0.632 | Q230: 17.239 | R230: 393.17501 | S230: 158.36202 | T230: 991.90741 | U230: 370.1556 | V230: 120.10909 | W230: 431.39114 | X230: 226.44952
A231: 45261 | B231: =SUM(C231,D231,E231,G231,H231,I231)+J231+F231 -> 83638.825 | C231: 48687.498 | D231: 2458.4978 | E231: 27867.881 | F231: 644.73001 | G231: 3.1997 | H231: 283.7321 | I231: 3693.2865 | J231: 0 | K231: 123.694 | L231: 16.504 | M231: 29.031 | N231: 1.664 | O231: 0.027 | P231: 0.639 | Q231: 16.786 | R231: 398.53123 | S231: 149.90272 | T231: 960.37389 | U231: 387.63498 | V231: 118.50741 | W231: 444.0252 | X231: 221.19891
... A255: 45992 | B255: =SUM(C255,D255,E255,G255,H255,I255)+J255+F255 -> 85973.352 | C255: 50532.718 | D255: 2566.5953 | E255: 27981.006 | F255: 675.02341 | G255: 2.5611 | H255: 572.7607 | I255: 3642.9792 | J255: -0.2908 | K255: 109.988 | L255: 14.09 | M255: 24.602 | N255: 1.526 | O255: 0.025 | P255: 1.076 | Q255: 14.071 | R255: 454.86 | S255: 182.6 | T255: 1137.6626 | U255: 442.47 | V255: 102.44 | W255: 532.31 | X255: 259.7
A256: 46023 | B256: =SUM(C256,D256,E256,G256,H256,I256)+J256+F256 -> 91017.643 | C256: 54146.671 | D256: 3347.8896 | E256: 28505.923 | F256: 619.35703 | G256: 3.1134 | H256: 548.25826 | I256: 3846.4309 | J256: 0 | K256: 110.578 | L256: 17.08 | M256: 24.436 | N256: 1.323 | O256: 0.026 | P256: 0.969 | Q256: 14.556 | R256: 491.75 | S256: 196.49 | T256: =('[1]V ZFNP'!B39*'[1]V ZFNP'!B28-'[1]V ZFNP'!B40*'[1]V ZFNP'!B29)/('[1]V ZFNP'!B28-'[1]V ZFNP'!B29) -> 1167.1182 | U256: 468.37 | V256: 119.75 | W256: 566.07 | X256: 265.19
A257: 46054 | B257: =SUM(C257,D257,E257,G257,H257,I257)+J257+F257 -> 88241.932 | C257: 51226.579 | D257: 3101.8503 | E257: 28466.039 | F257: 890.14806 | G257: 3.7613 | H257: 575.30624 | I257: 3978.924 | J257: -0.6759 | K257: 104.887 | L257: 16.598 | M257: 24.542 | N257: 1.667 | O257: 0.04 | P257: 1.038 | Q257: 15.022 | R257: 490.85419 | S257: 187.11315 | T257: 1160.074 | U257: 534.06641 | V257: 94.0325 | W257: 555.04214 | X257: 265.52181
A258: 46082 | B258: =SUM(C258,D258,E258,G258,H258,I258)+J258+F258 -> 84252.673 | C258: 49516.426 | D258: 4040.9186 | E258: 25745.083 | F258: 737.20739 | G258: 8.6596 | H258: 558.0461 | I258: 3647.8136 | J258: -1.4811 | K258: 106.253 | L258: 21.923 | M258: 24.12 | N258: 1.576 | O258: 0.044 | P258: 1.069 | Q258: 14.663 | R258: 468.2 | S258: 184.75 | T258: 1068.0901 | U258: 468.08 | V258: 196.81 | W258: 522.03 | X258: 249.52
A259: 46113 | B259: =SUM(C259,D259,E259,G259,H259,I259)+J259+F259 -> 90926.28 | C259: 53425.652 | D259: 3499.7896 | E259: 28494.491 | F259: 803.95324 | G259: 7.9078 | H259: 617.8109 | I259: 4076.6757 | J259: 0 | K259: 105.325 | L259: 18.635 | M259: 24.103 | N259: 1.714 | O259: 0.031 | P259: 1.103 | Q259: 14.915 | R259: 509.43 | S259: 188.28 | T259: 1182.9666 | U259: 469.36 | V259: 255.09 | W259: 560.51 | X259: 274.08
A260: 46143 | B260: =SUM(C260,D260,E260,G260,H260,I260)+J260+F260 -> 86012.125 | C260: 49977.769 | D260: 2864.6463 | E260: 27771.924 | F260: 740.55808 | G260: 9.9155 | H260: 588.5387 | I260: 4058.7736 | J260: 0 | K260: 95.652 | L260: 15.434 | M260: 24.031 | N260: 1.562 | O260: 0.045 | P260: 1.069 | Q260: 15.033 | R260: 525.61 | S260: 186.2 | T260: 1155.6707 | U260: 474.24 | V260: 220.34 | W260: 550.55 | X260: 271.02
A261: 46174 | B261: =SUM(C261,D261,E261,G261,H261,I261)+J261+F261 -> 87745.927 | C261: 50038.456 | D261: 2868.5543 | E261: 29265.661 | F261: 749.57821 | G261: 8.9552 | H261: 644.8164 | I261: 4169.906 | J261: 0 | K261: 91.355 | L261: 17.455 | M261: 23.997 | N261: 1.535 | O261: 0.038 | P261: 1.111 | Q261: 14.848 | R261: ='[2]rok 2026'!$G$34 -> 549.9209 | S261: ='[2]rok 2026'!$G$35 -> 164.63076 | T261: 1220.2058 | U261: 488.58 | V261: 235.66 | W261: 580.7 | X261: 281.66
A262: 46204 | B262: =SUM(C262,D262,E262,G262,H262,I262)+J262+F262 -> 84155.54 | C262: 47214.352 | D262: 2541.2834 | E262: 28955.801 | F262: 745.84085 | G262: 9.7244 | H262: 660.78104 | I262: 4027.7569 | J262: 0 | K262: 88.492 | L262: 12.467 | M262: 24.198 | N262: 1.538 | O262: 0.038 | P262: 1.179 | Q262: 14.645 | R262: 535.83243 | S262: 204.22634 | T262: 1196.8559 | U262: 485.03778 | V262: 255.90526 | W262: 560.4589 | X262: 276.06686
A263: 46235 | B263: =SUM(C263,D263,E263,G263,H263,I263)+J263+F263 -> 0
A264: 46266 | B264: =SUM(C264,D264,E264,G264,H264,I264)+J264+F264 -> 0
A265: 46296 | B265: =SUM(C265,D265,E265,G265,H265,I265)+J265+F265 -> 0
A266: 46327 | B266: =SUM(C266,D266,E266,G266,H266,I266)+J266+F266 -> 0
A267: 46357 | B267: =SUM(C267,D267,E267,G267,H267,I267)+J267+F267 -> 0

Sheet cash mesacny DvN
A1: Vybrané výdavky verejnej správy na mesačnej báze - hotovostná metodika (mil.)
A2: Mesiac | B2: Spolu výdavky na DvN (bez zúčtovania) | C2: Priemerná výška na 1 poberateľa (EUR) | D2: Počet poberateľov dávky v nezamestnanosti | E2: Refundované dávky do krajín EÚ | F2: Zúčtovanie dávok § 112 ods. 9 | G2: Záväzky z titulu vyplatených dávok do EÚ | H2: Prevod podľa § 68 ods.7,8 (ods. 6 z. pl. v roku 2004) | I2: Záväzky z NÚP | J2: Celková výška výdavkov ZFPvN
A3: 38353 | B3: =C3*D3/1000 -> 7.506005 | C3: 166.33069 | D3: 45.127 | E3: 0 | F3: 0 | G3: 0 | H3: 0 | I3: 0 | J3: =(B3+E3+F3+G3+H3+I3) -> 7.506005
A4: 38384 | B4: =C4*D4/1000 -> 8.455475 | C4: 171.13228 | D4: 49.409 | E4: 0 | F4: 0 | G4: 0 | H4: 0 | I4: 0 | J4: =(B4+E4+F4+G4+H4+I4) -> 8.455475
A5: 38412 | B5: =C5*D5/1000 -> 7.875806 | C5: 164.30864 | D5: 47.933 | E5: 0 | F5: 0 | G5: 0 | H5: 0.678011 | I5: 0 | J5: =(B5+E5+F5+G5+H5+I5) -> 8.553817
A6: 38443 | B6: =C6*D6/1000 -> 8.124375 | C6: 176.03517 | D6: 46.152 | E6: 0 | F6: 0 | G6: 0 | H6: 0.415451 | I6: -0.001427 | J6: =(B6+E6+F6+G6+H6+I6) -> 8.538399
A7: 38473 | B7: =C7*D7/1000 -> 7.042204 | C7: 166.50205 | D7: 42.295 | E7: 0 | F7: 0 | G7: 0 | H7: 0 | I7: 0.002888 | J7: =(B7+E7+F7+G7+H7+I7) -> 7.045092
A8: 38504 | B8: =C8*D8/1000 -> 6.768127 | C8: 174.49023 | D8: 38.788 | E8: 0 | F8: 0 | G8: 0 | H8: 0 | I8: -0.001357 | J8: =(B8+E8+F8+G8+H8+I8) -> 6.76677
A9: 38534 | B9: =C9*D9/1000 -> 6.236251 | C9: 177.3476 | D9: 35.164 | E9: 0 | F9: 0 | G9: 0 | H9: 0 | I9: 0 | J9: =(B9+E9+F9+G9+H9+I9) -> 6.236251
A10: 38565 | B10: =C10*D10/1000 -> 6.279918 | C10: 184.8938 | D10: 33.965 | E10: 0 | F10: 0 | G10: 0 | H10: 0 | I10: 0 | J10: =(B10+E10+F10+G10+H10+I10) -> 6.279918
A11: 38596 | B11: =C11*D11/1000 -> 6.214753 | C11: 190.0478 | D11: 32.701 | E11: 0 | F11: 0 | G11: 0 | H11: 0 | I11: 0 | J11: =(B11+E11+F11+G11+H11+I11) -> 6.214753
A12: 38626 | B12: =C12*D12/1000 -> 5.626369 | C12: 178.17934 | D12: 31.577 | E12: 0 | F12: 0 | G12: 0 | H12: 0 | I12: 0 | J12: =(B12+E12+F12+G12+H12+I12) -> 5.626369
A13: 38657 | B13: =C13*D13/1000 -> 5.522004 | C13: 185.47019 | D13: 29.773 | E13: 0 | F13: 0 | G13: 0 | H13: 0 | I13: 0 | J13: =(B13+E13+F13+G13+H13+I13) -> 5.522004
A14: 38687 | B14: =C14*D14/1000 -> 5.333639 | C14: 182.27808 | D14: 29.261 | E14: 0.00562 | F14: 0 | G14: 0 | H14: 0 | I14: 0 | J14: =(B14+E14+F14+G14+H14+I14) -> 5.339259
A15: 38718 | B15: =C15*D15/1000 -> 5.436842 | C15: 190.61256 | D15: 28.523 | E15: 0 | F15: 0 | G15: 0 | H15: 0 | I15: 0 | J15: =(B15+E15+F15+G15) -> 5.436842
A16: 38749 | B16: =C16*D16/1000 -> 6.330873 | C16: 192.91443 | D16: 32.817 | E16: 0 | F16: 0 | G16: 0 | H16: 0 | I16: 0 | J16: =(B16+E16+F16+G16) -> 6.330873
A17: 38777 | B17: =C17*D17/1000 -> 5.836505 | C17: 181.7603 | D17: 32.111 | E17: 0 | F17: 0 | G17: 0 | H17: 0 | I17: 0 | J17: =(B17+E17+F17+G17) -> 5.836505
A18: 38808 | B18: =C18*D18/1000 -> 6.11197 | C18: 195.67696 | D18: 31.235 | E18: 0 | F18: 0 | G18: 0 | H18: 0 | I18: 0 | J18: =(B18+E18+F18+G18) -> 6.11197
A19: 38838 | B19: =C19*D19/1000 -> 5.565559 | C19: 191.17092 | D19: 29.113 | E19: 0.000651 | F19: 0 | G19: 0 | H19: 0 | I19: 0 | J19: =(B19+E19+F19+G19) -> 5.56621
A20: 38869 | B20: =C20*D20/1000 -> 5.517709 | C20: 197.71066 | D20: 27.908 | E20: 0 | F20: 0 | G20: 0 | H20: 0 | I20: 0 | J20: =(B20+E20+F20+G20) -> 5.517709
A21: 38899 | B21: =C21*D21/1000 -> 5.129203 | C21: 199.38593 | D21: 25.725 | E21: 0 | F21: 0 | G21: 0 | H21: 0 | I21: 0 | J21: =(B21+E21+F21+G21) -> 5.129203
A22: 38930 | B22: =C22*D22/1000 -> 5.216013 | C22: 201.69417 | D22: 25.861 | E22: 0.000589 | F22: 0 | G22: 0 | H22: 0 | I22: 0 | J22: =(B22+E22+F22+G22) -> 5.216602
A23: 38961 | B23: =C23*D23/1000 -> 5.17269 | C23: 210.57154 | D23: 24.565 | E23: 0 | F23: 0 | G23: 0 | H23: 0 | I23: 0 | J23: =(B23+E23+F23+G23) -> 5.17269
A24: 38991 | B24: =C24*D24/1000 -> 4.580553 | C24: 197.50573 | D24: 23.192 | E24: 0 | F24: 0 | G24: 0 | H24: 0 | I24: 0 | J24: =(B24+E24+F24+G24) -> 4.580553
A25: 39022 | B25: =C25*D25/1000 -> 4.519893 | C25: 208.92544 | D25: 21.634 | E25: 0 | F25: 0 | G25: 0 | H25: 0 | I25: 0 | J25: =(B25+E25+F25+G25) -> 4.519893
A26: 39052 | B26: =C26*D26/1000 -> 4.56395 | C26: 217.67301 | D26: 20.967 | E26: 0 | F26: 0 | G26: 0 | H26: 0 | I26: 0 | J26: =(B26+E26+F26+G26) -> 4.56395
... A252: 45931 | B252: =C252*D252/1000 -> 30.431165 | C252: 742.49519 | D252: 40.985 | E252: -0.019895 | F252: -0.09991629 | G252: 0.15789861 | H252: 0 | I252: 0 | J252: =(B252+E252+F252+G252) -> 30.469253
A253: 45962 | B253: =C253*D253/1000 -> 31.085292 | C253: ='[3]V ZFPvN'!$D$19 -> 771.67272 | D253: 40.283 | E253: -0.03055696 | F253: -0.08898468 | G253: 0.02876371 | H253: 0 | I253: 0 | J253: =(B253+E253+F253+G253) -> 30.994514
A254: 45992 | B254: =C254*D254/1000 -> 30.747165 | C254: 753.1086 | D254: 40.827 | E254: 0.41567841 | F254: -0.05679381 | G254: -0.41577243 | H254: 0 | I254: 0 | J254: =(B254+E254+F254+G254) -> 30.690277
A255: 46023 | B255: =C255*D255/1000 -> 33.048551 | C255: 763.3165 | D255: 43.296 | E255: 0 | F255: -0.02533062 | G255: 0 | H255: 0 | I255: 0 | J255: =(B255+E255+F255+G255) -> 33.02322
A256: 46054 | B256: =C256*D256/1000 -> 36.112959 | C256: 781.37825 | D256: 46.217 | E256: 0 | F256: -0.16560456 | G256: 0 | H256: 0 | I256: 0 | J256: =(B256+E256+F256+G256) -> 35.947354
A257: 46082 | B257: =C257*D257/1000 -> 30.068869 | C257: 694.09454 | D257: 43.321 | E257: 0 | F257: -0.07688248 | G257: 0 | H257: 0 | I257: 0 | J257: =(B257+E257+F257+G257) -> 29.991987
A258: 46113 | B258: =C258*D258/1000 -> 30.116531 | C258: 730.39873 | D258: 41.233 | E258: -0.01789833 | F258: -0.10349365 | G258: 0.0241491 | H258: 0 | I258: 0 | J258: =(B258+E258+F258+G258) -> 30.019288
A259: 46143 | B259: =C259*D259/1000 -> 27.644097 | C259: 718.58843 | D259: 38.47 | E259: -0.00365271 | F259: -0.06338877 | G259: 0.00413553 | H259: 0 | I259: 0 | J259: =(B259+E259+F259+G259) -> 27.581191
A260: 46174 | B260: =C260*D260/1000 -> 26.848957 | C260: 708.78977 | D260: 37.88 | E260: 0 | F260: -0.08506542 | G260: 0.07771602 | H260: 0 | I260: 0 | J260: =(B260+E260+F260+G260) -> 26.841607
A261: 46204 | B261: =C261*D261/1000 -> 23.503645 | C261: 652.96973 | D261: 35.995 | E261: 0.43159198 | F261: -0.08584028 | G261: -0.38809676 | H261: 0 | I261: 0 | J261: =(B261+E261+F261+G261) -> 23.4613
A262: 46235 | B262: =C262*D262/1000 -> 0 | J262: =(B262+E262+F262+G262) -> 0
A263: 46266 | B263: =C263*D263/1000 -> 0 | J263: =(B263+E263+F263+G263) -> 0
A264: 46296 | B264: =C264*D264/1000 -> 0 | J264: =(B264+E264+F264+G264) -> 0
A265: 46327 | B265: =C265*D265/1000 -> 0 | J265: =(B265+E265+F265+G265) -> 0
A266: 46357 | B266: =C266*D266/1000 -> 0 | J266: =(B266+E266+F266+G266) -> 0

Sheet cash mesacny SD
A1: Vybrané výdavky verejnej správy na mesačnej báze - hotovostná metodika (tis.)
A2: Mesiac | B2: Spolu výdavky na SD | C2: z toho celkové doplatky | D2: z toho doplatky za zníženie dôchodkového veku ženám vybraných ročníkov** | E2: rodičovský dôchodok | F2: 13. dôchodok ZFSP | G2: Počet vyplatených SD | H2: Počet novopriznaných SD (01-09P) | I2: Počet smrťou zaniknutých SD | J2: Priemerný SD* | K2: Priemerný SD novopriznaný (01-03P) | L2: Priemerný SD zaniknutý smrťou | M2: Počet výplatných termínov v mesiaci
A3: 39814 | B3: 274993 | C3: 4221.7074 | G3: 924.624 | H3: 1.369 | I3: na | J3: na | K3: na | L3: na
A4: 39845 | B4: 301302 | C4: 3741.8659 | G4: 925.673 | H4: 1.443 | I4: na | J4: na | K4: na | L4: na
A5: 39873 | B5: 278298 | C5: 4662.1888 | G5: 927.078 | H5: 1.475 | I5: na | J5: na | K5: na | L5: na
A6: 39904 | B6: 339114 | C6: 6357.4083 | G6: 926.435 | H6: 2.426 | I6: na | J6: na | K6: na | L6: na
A7: 39934 | B7: 252967 | C7: 6958.1292 | G7: 927.384 | H7: 2.257 | I7: na | J7: na | K7: na | L7: na
A8: 39965 | B8: 297653 | C8: 6260.9981 | G8: 928.421 | H8: 1.544 | I8: na | J8: na | K8: na | L8: na
A9: 39995 | B9: 322736 | C9: 6010.2297 | G9: 929.301 | H9: 2.082 | I9: na | J9: na | K9: na | L9: na
A10: 40026 | B10: 300694 | C10: 5049.2286 | G10: 930.218 | H10: 1.262 | I10: na | J10: na | K10: na | L10: na
A11: 40057 | B11: 276955 | C11: 3969.8415 | G11: 931.502 | H11: 1.052 | I11: na | J11: na | K11: na | L11: na
A12: 40087 | B12: 324958 | C12: 3801.9582 | G12: 930.4 | H12: 1.01 | I12: na | J12: na | K12: na | L12: na
A13: 40118 | B13: 278074 | C13: 3155.7022 | G13: 930.201 | H13: 1.003 | I13: na | J13: na | K13: na | L13: na
A14: 40148 | B14: 347639 | C14: 4727.2178 | G14: 931.795 | H14: 0.863 | I14: na | J14: na | K14: na | L14: na
... A38: 40878 | B38: 355271 | C38: 6113.5126 | G38: 957.633 | H38: 1.218 | I38: na | J38: na | K38: na | L38: na
A39: 40909 | B39: 320163 | C39: 5661.9801 | G39: 959.442 | H39: 1.957 | I39: na | J39: 348.04 | K39: na | L39: na
A40: 40940 | B40: 347188 | C40: 4338.6736 | G40: 958.522 | H40: 2.281 | I40: na | J40: 348.29 | K40: na | L40: na
A41: 40969 | B41: 366667 | C41: 4643.7708 | G41: 960.381 | H41: 2.334 | I41: na | J41: 348.53 | K41: na | L41: na
A42: 41000 | B42: 336997.12 | C42: 3656.5288 | G42: 962.951 | H42: 2.337 | I42: na | J42: 348.81 | K42: na | L42: na
A43: 41030 | B43: 330432.88 | C43: 3909.0788 | G43: 965.043 | H43: 2.309 | I43: na | J43: 349.03 | K43: na | L43: na
A44: 41061 | B44: 364832 | C44: 3914.5899 | G44: 967.344 | H44: 2.776 | I44: na | J44: 349.22 | K44: na | L44: na
A45: 41091 | B45: 318724 | C45: 3829.9302 | G45: 971.364 | H45: 2.317 | I45: na | J45: 349.36 | K45: na | L45: na
A46: 41122 | B46: 371457 | C46: 3707.2673 | G46: 972.297 | H46: 2.368 | I46: na | J46: 349.58 | K46: na | L46: na
A47: 41153 | B47: 322026 | C47: 3743.9548 | G47: 974.263 | H47: 2.505 | I47: na | J47: 349.78 | K47: na | L47: na
A48: 41183 | B48: 382873 | C48: 4644.9298 | G48: 975.951 | H48: 2.99 | I48: na | J48: 349.99 | K48: na | L48: na
A49: 41214 | B49: 353456 | C49: 4580.6655 | G49: 979.29 | H49: 2.664 | I49: na | J49: 350.16 | K49: na | L49: na
A50: 41244 | B50: 350924 | C50: 6246.8242 | G50: 980.863 | H50: 1.485 | I50: na | J50: 350.3 | K50: na | L50: na
... A62: 41609 | B62: 369714 | C62: 7164.3417 | G62: 988.277 | H62: 2.737 | I62: na | J62: 364.51 | K62: na | L62: na
A63: 41640 | B63: 384350 | C63: 9271.6734 | G63: 991.144 | H63: 3.32 | I63: na | J63: 373.09 | K63: 411.64 | L63: na
A64: 41671 | B64: 391127 | C64: 14745.596 | G64: 990.564 | H64: 3.839 | I64: na | J64: 373.45 | K64: 420.05 | L64: na
A65: 41699 | B65: 367466 | C65: 18977.252 | G65: 994.034 | H65: 4.826 | I65: na | J65: 373.46 | K65: 420.98 | L65: na
A66: 41730 | B66: 421868 | C66: 15592.167 | G66: 998.476 | H66: 4.722 | I66: na | J66: 373.43 | K66: 425.72 | L66: na
A67: 41760 | B67: 395627 | C67: 16208.483 | G67: 1001.751 | H67: 4.944 | I67: na | J67: 373.51 | K67: 418.35 | L67: na
A68: 41791 | B68: 369472 | C68: 13978.364 | G68: 1005.325 | H68: 5.324 | I68: na | J68: 373.58 | K68: 419.88 | L68: na
A69: 41821 | B69: 403434 | C69: 11217.666 | G69: 1009.143 | H69: 5.695 | I69: na | J69: 373.76 | K69: 417.5 | L69: na
A70: 41852 | B70: 411341 | C70: 7195.3423 | G70: 1012.093 | H70: 3.262 | I70: na | J70: 373.96 | K70: 429.81 | L70: na
A71: 41883 | B71: 365156 | C71: 8034.6404 | G71: 1014.044 | H71: 3.287 | I71: na | J71: 374.18 | K71: 449.61 | L71: na
A72: 41913 | B72: 423545 | C72: 8441.5406 | G72: 1014.615 | H72: 3.112 | I72: na | J72: 374.51 | K72: 467.41 | L72: na
A73: 41944 | B73: 366132 | C73: 6399.9397 | G73: 1017.497 | H73: 2.319 | I73: na | J73: 374.73 | K73: 478.07 | L73: na
A74: 41974 | B74: 422581 | C74: 5843.5903 | G74: 1018.814 | H74: 1.941 | I74: na | J74: 374.88 | K74: 476.06 | L74: na
... A110: 43070 | B110: 461065 | C110: 7632.1657 | G110: 1064.393 | H110: 3.344 | I110: na | J110: 402.6 | K110: 502.25 | L110: na
A111: 43101 | B111: 425415 | C111: 11092.329 | G111: 1066.257 | H111: 3.634 | I111: 3.883 | J111: 412.25 | K111: 467.86 | L111: 379.58
A112: 43132 | B112: 452121 | C112: 5994.1981 | G112: 1063.885 | H112: 2.749 | I112: 3.515 | J112: 412.98 | K112: 470.15 | L112: 381.95
A113: 43160 | B113: 480203 | C113: 8657.9167 | G113: 1064.569 | H113: 2.917 | I113: 3.846 | J113: 413.48 | K113: 496.12 | L113: 376.95
A114: 43191 | B114: 455566 | C114: 8522.2008 | G114: 1064.099 | H114: 2.923 | I114: 3.714 | J114: 414.47 | K114: 533.42 | L114: 379
A115: 43221 | B115: 435580 | C115: 9664.6725 | G115: 1064.259 | H115: 3.301 | I115: 3.313 | J115: 415.09 | K115: 523.05 | L115: 385.67
A116: 43252 | B116: 476721 | C116: 8588.3964 | G116: 1064.322 | H116: 2.019 | I116: 3.128 | J116: 415.79 | K116: 497.18 | L116: 386.22
A117: 43282 | B117: 429107 | C117: 8087.6124 | G117: 1064.355 | H117: 1.221 | I117: 3.077 | J117: 416.34 | K117: 515.81 | L117: 386.88
A118: 43313 | B118: 487731 | C118: 7920.436 | G118: 1063.943 | H118: 1.54 | I118: 3.227 | J118: 417 | K118: 536.56 | L118: 388.33
A119: 43344 | B119: 426819 | C119: 8340.4801 | G119: 1063.687 | H119: 2.171 | I119: 3.009 | J119: 417.64 | K119: 543.63 | L119: 390.62
A120: 43374 | B120: 489823 | C120: 7561.5002 | G120: 1063.912 | H120: 3.164 | I120: 3.396 | J120: 418.25 | K120: 546.97 | L120: 390.28
A121: 43405 | B121: 458558 | C121: 6980.9963 | G121: 1066.844 | H121: 3.327 | I121: 3.294 | J121: 418.51 | K121: 521.49 | L121: 389.61
A122: 43435 | B122: 455098 | C122: 6464.9442 | G122: 1069.255 | H122: 2.346 | I122: 2.842 | J122: 418.69 | K122: 492.44 | L122: 386.52
... A146: 44166 | B146: 590946 | C146: 5857.0932 | G146: 1093.195 | H146: 2.35 | I146: 4.931 | J146: 458 | K146: 578.17 | L146: 423.53
A147: 44197 | B147: 439183 | C147: 18554.364 | D147: 0 | G147: 1094.184 | H147: 2.494 | I147: 6.428 | J147: 468.95 | K147: 556.92 | L147: 433.58 | M147: 10
A148: 44228 | B148: 517542 | C148: 6462.411 | D148: 0.53038244 | G148: 1085.427 | H148: 1.688 | I148: 5.478 | J148: 469.76 | K148: 562.04 | L148: 438.3 | M148: 12
A149: 44256 | B149: 531649 | C149: 14477.293 | D149: 2.1419151 | G149: 1083.038 | H149: 3.765 | I149: 7.163 | J149: 470.07 | K149: 579.3 | L149: 437.66 | M149: 12
A150: 44287 | B150: 548608 | C150: 15246.54 | D150: 2.5137753 | G150: 1080.271 | H150: 4.182 | I150: 5.528 | J150: 471.22 | K150: 592.27 | L150: 434.85 | M150: 13
A151: 44317 | B151: 502958 | C151: 20460.594 | D151: 3.0965046 | G151: 1081.483 | H151: 5.313 | I151: 3.894 | J151: 471.87 | K151: 586.74 | L151: 427.55 | M151: 11
A152: 44348 | B152: 578885 | C152: 59422.844 | D152: 41.592481 | G152: 1084.226 | H152: 6.017 | I152: 3.673 | J152: 472.66 | K152: 580.89 | L152: 432.54 | M152: 12
A153: 44378 | B153: 563505 | C153: 20009.932 | D153: 5.980596 | G153: 1087.176 | H153: 4.529 | I153: 3.241 | J153: 473.29 | K153: 582.04 | L153: 434.62 | M153: 13
A154: 44409 | B154: 534038 | C154: 14765.677 | D154: 2.1940106 | G154: 1090.935 | H154: 4.98 | I154: 3.302 | J154: 473.87 | K154: 577.89 | L154: 434.15 | M154: 12
A155: 44440 | B155: 513206 | C155: 14881.524 | D155: 0.82562048 | G155: 1091.31 | H155: 4.781 | I155: 3.445 | J155: 474.32 | K155: 592.64 | L155: 436.09 | M155: 11
A156: 44470 | B156: 561207 | C156: 16160.219 | D156: 0.55340242 | G156: 1092.782 | H156: 5.42 | I156: 3.938 | J156: 474.75 | K156: 575.21 | L156: 431.67 | M156: 13
A157: 44501 | B157: 505125 | C157: 12614.788 | D157: 0.30103363 | G157: 1095.027 | H157: 4.262 | I157: 4.764 | J157: 474.96 | K157: 563.62 | L157: 436.45 | M157: 11
A158: 44531 | B158: 562380 | C158: 11409.871 | D158: 0.2656398 | G158: 1096.225 | H158: 2.647 | I158: 6.17 | J158: 475.49 | K158: 545.68 | L158: 432.1 | M158: 13
A159: 44562 | B159: 515384 | C159: 15585.162 | G159: 1096.396 | H159: 3.641 | I159: 5.102 | J159: 481.32 | K159: 556.1 | L159: 432.87 | M159: 11
A160: 44593 | B160: 538119 | C160: 9685.894 | G160: 1090.307 | H160: 3.493 | I160: 4.313 | J160: 482.23 | K160: 584.35 | L160: 431.72 | M160: 12
A161: 44621 | B161: 549398 | C161: 12820.701 | G161: 1091.552 | H161: 3.562 | I161: 4.617 | J161: 482.62 | K161: 620.39 | L161: 433.79 | M161: 12
A162: 44652 | B162: 566845 | C162: 11598.478 | G162: 1091.009 | H162: 2.908 | I162: 3.986 | J162: 483.85 | K162: 606.85 | L162: 436.7 | M162: 13
A163: 44682 | B163: 519419 | C163: 14744.612 | G163: 1092.38 | H163: 7.211 | I163: 3.561 | J163: 484.49 | K163: 601.93 | L163: 444.72 | M163: 11
A164: 44713 | B164: 556366 | C164: 13496.328 | G164: 1096.369 | H164: 5.763 | I164: 3.397 | J164: 484.98 | K164: 597.33 | L164: 441.02 | M164: 12
A165: 44743 | B165: 541858 | C165: 9856.265 | G165: 1099.296 | H165: 3.708 | I165: 3.43 | J165: 486.12 | K165: 597.21 | L165: 449.59 | M165: 12
A166: 44774 | B166: 576284 | C166: 9485.676 | G166: 1099.287 | H166: 3.81 | I166: 3.444 | J166: 486.12 | K166: 601.81 | L166: 444.21 | M166: 13
A167: 44805 | B167: 550438 | C167: 10453.507 | G167: 1100.429 | H167: 4.146 | I167: 3.576 | J167: 486.58 | K167: 606.22 | L167: 449.12 | M167: 12
A168: 44835 | B168: 554864 | C168: 11260.915 | G168: 1102.36 | H168: 4.57 | I168: 3.667 | J168: 487.06 | K168: 612.76 | L168: 441.07 | M168: 12
A169: 44866 | B169: 523539 | C169: 9922.518 | G169: 1104.225 | H169: 4.039 | I169: 3.423 | J169: 487.36 | K169: 597.63 | L169: 444.7 | M169: 11
A170: 44896 | B170: 583008 | C170: 9048.733 | G170: 1104.304 | H170: 2.423 | I170: 3.699 | J170: 487.75 | K170: 607.45 | L170: 447.28 | M170: 13
... A172: 44958 | B172: 619189 | C172: 8489.2363 | G172: 1100.987 | H172: 2.606 | I172: 3.56 | J172: 542.85 | K172: 620.84 | L172: 491.81 | M172: 12
A173: 44986 | B173: 651037 | C173: 11883.149 | E173: 213 | G173: 1102.878 | H173: 2.94 | I173: 4.089 | J173: 543.13 | K173: 688.83 | L173: 495.55 | M173: 13
A174: 45017 | B174: 623393 | C174: 10176.967 | E174: 14477 | G174: 1102.785 | H174: 3.297 | I174: 3.173 | J174: 544.42 | K174: 730.05 | L174: 493.66 | M174: 12
A175: 45047 | B175: 594457 | C175: 13262.749 | E175: 247426 | G175: 1104.323 | H175: 5.041 | I175: 3.473 | J175: 545.12 | K175: 710.27 | L175: 494.6 | M175: 11
A176: 45078 | B176: 657677 | C176: 12050.994 | E176: 7668 | G176: 1106.488 | H176: 4.581 | I176: 3.242 | J176: 545.92 | K176: 712.93 | L176: 504.13 | M176: 13
A177: 45108 | B177: 598870 | C177: 8858.4721 | E177: 2346 | G177: 1110.234 | H177: 2.061 | I177: 2.947 | J177: 546.33 | K177: 776.04 | L177: 558.93 | M177: 11
A178: 45139 | B178: 874898 | C178: 112249.55 | E178: 6613 | G178: 1112.078 | H178: 5.041 | I178: 3.267 | J178: 604.66 | K178: 795.78 | L178: 548.1 | M178: 14
A179: 45170 | B179: 640627 | C179: 12888.385 | E179: 3449 | G179: 1111.698 | H179: 4.612 | I179: 3.215 | J179: 606.18 | K179: 783.41 | L179: 557.8 | M179: 11
A180: 45200 | B180: 708077 | C180: 13737.656 | E180: 2753 | G180: 1114.611 | H180: 4.331 | I180: 3.376 | J180: 609.22 | K180: 779.24 | L180: 551.67 | M180: 12
A181: 45231 | B181: 675544 | C181: 12709.625 | E181: 780 | G181: 1116.955 | H181: 3.146 | I181: 3.705 | J181: 609.75 | K181: 787.7 | L181: 558.56 | M181: 11
A182: 45261 | B182: 728611 | C182: 11621.197 | E182: 343 | G182: 1118.242 | H182: 2.519 | I182: 3.118 | J182: 610.3 | K182: 815.3 | L182: 553.62 | M182: 13
A183: 45292 | B183: 703113 | C183: 23755.829 | E183: 315 | G183: 1118.247 | H183: 3.88 | I183: 5.013 | J183: 631.47 | K183: 835.24 | L183: 578.21 | M183: 11
A184: 45323 | B184: 735080 | C184: 10874.524 | E184: 210 | G184: 1113.744 | H184: 3.054 | I184: 3.713 | J184: 632.97 | K184: 816.64 | L184: 580.61 | M184: 12
... A192: 45566 | B192: 864896 | C192: 39590.304 | E192: 1801 | G192: 1129.519 | H192: 4.203 | I192: 3.969 | J192: 640.29 | K192: 765.22 | L192: 581.97 | M192: 14
A193: 45597 | B193: 674157 | C193: 10684.29 | E193: 308 | F193: 46390 | G193: 1133.049 | H193: 3.575 | I193: 3.397 | J193: 641.92 | K193: 758.23 | L193: 580.13 | M193: 11
A194: 45627 | B194: 748385 | C194: 9076.71 | E194: 232 | F194: 679140 | G194: 1134.69 | H194: 2.015 | I194: 2.963 | J194: 642.35 | K194: 769.61 | L194: 582.47 | M194: 12
A195: 45658 | B195: 773320 | C195: 15993.349 | E195: 148 | F195: 3515 | G195: 1136.638 | H195: 3.362 | I195: 4.478 | J195: 656.22 | K195: 784.14 | L195: 585.86 | M195: 12
A196: 45689 | B196: 767952 | C196: 9920.2962 | E196: 104 | F196: 3873 | G196: 1133.706 | H196: 2.71 | I196: 3.659 | J196: 657.43 | K196: 797.3 | L196: 598.41 | M196: 12
A197: 45717 | B197: 737202 | C197: 13382.639 | E197: 67 | F197: 1533 | G197: 1134.102 | H197: 3.042 | I197: 3.674 | J197: 658.04 | K197: 707.64 | L197: 586.34 | M197: 11
A198: 45748 | B198: 807357 | C198: 9123.2813 | E198: 64 | F198: 1842 | G198: 1134.148 | H198: 3.139 | I198: 3.466 | J198: 659.2 | K198: 674.05 | L198: 589.16 | M198: 13
A199: 45778 | B199: 768930 | C199: 6702.446 | E199: 34 | F199: 2032 | G199: 1134.81 | H199: 2.675 | I199: 3.465 | J199: 659.52 | K199: 631.46 | L199: 594.79 | M199: 12
A200: 45809 | B200: 743599 | C200: 14211.331 | E200: 34 | F200: 488 | G200: 1135.298 | H200: 2.329 | I200: 3.103 | J200: 659.91 | K200: 664.51 | L200: 595.51 | M200: 11
...

Sheet cash mesacny PSD
A1: Vybrané výdavky verejnej správy na mesačnej báze - hotovostná metodika (tis.)
A2: Mesiac | B2: Spolu výdavky na PSD | C2: z toho celkové doplatky | D2: z toho doplatky za zníženie dôchodkového veku ženám vybraných ročníkov** | E2: Počet vyplatených PSD | F2: Počet novopriznaných PSD (01-09P) | G2: z toho novopriznaný po odpracovaní 40 rokov | H2: Počet smrťou zaniknutých PSD | I2: Priemerný PSD* | J2: Priemerný PSD novopriznaný (01-03P) | K2: Priemerný PSD zaniknutý smrťou | L2: Počet výplatných termínov v mesiaci
A3: 39814 | B3: 19778 | C3: 1300.3689 | E3: 58.987 | F3: 1.249 | H3: na | I3: na | J3: na | K3: na
A4: 39845 | B4: 19394 | C4: 745.31241 | E4: 52.737 | F4: 0.645 | H4: na | I4: na | J4: na | K4: na
A5: 39873 | B5: 17350 | C5: 3267.5841 | E5: 51.141 | F5: 2.503 | H5: na | I5: na | J5: na | K5: na
A6: 39904 | B6: 21632 | C6: 2968.2794 | E6: 52.591 | F6: 2.36 | H6: na | I6: na | J6: na | K6: na
A7: 39934 | B7: 16589 | C7: 2561.3248 | E7: 53.825 | F7: 1.887 | H7: na | I7: na | J7: na | K7: na
A8: 39965 | B8: 19586 | C8: 2467.0767 | E8: 54.245 | F8: 1.801 | H8: na | I8: na | J8: na | K8: na
A9: 39995 | B9: 21306 | C9: 2543.968 | E9: 54.842 | F9: 2.403 | H9: na | I9: na | J9: na | K9: na
A10: 40026 | B10: 20388 | C10: 2581.1242 | E10: 56.078 | F10: 2.106 | H10: na | I10: na | J10: na | K10: na
A11: 40057 | B11: 18988 | C11: 1960.5102 | E11: 56.596 | F11: 1.631 | H11: na | I11: na | J11: na | K11: na
A12: 40087 | B12: 22368 | C12: 1722.1698 | E12: 56.932 | F12: 1.709 | H12: na | I12: na | J12: na | K12: na
A13: 40118 | B13: 19294 | C13: 1502.9747 | E13: 57.447 | F13: 1.675 | H13: na | I13: na | J13: na | K13: na
A14: 40148 | B14: 23557 | C14: 2073.5431 | E14: 56.352 | F14: 1.643 | H14: na | I14: na | J14: na | K14: na
... A38: 40878 | B38: 12984 | C38: 1321.8082 | E38: 32.13 | F38: 0.861 | H38: na | I38: na | J38: na | K38: na
A39: 40909 | B39: 11156 | C39: 1535.9326 | E39: 30.577 | F39: 1.788 | H39: na | I39: 368.14 | J39: na | K39: na
A40: 40940 | B40: 11960 | C40: 1886.0838 | E40: 29.756 | F40: 1.958 | H40: na | I40: 368.9 | J40: na | K40: na
A41: 40969 | B41: 12427 | C41: 1477.6195 | E41: 29.391 | F41: 1.393 | H41: na | I41: 370.62 | J41: na | K41: na
A42: 41000 | B42: 11180.316 | C42: 1134.0882 | E42: 29.003 | F42: 1.317 | H42: na | I42: 371.64 | J42: na | K42: na
A43: 41030 | B43: 10548.684 | C43: 1215.3886 | E43: 27.986 | F43: 1.363 | H43: na | I43: 371.76 | J43: na | K43: na
A44: 41061 | B44: 11337 | C44: 1132.6132 | E44: 27.289 | F44: 1.525 | H44: na | I44: 372.28 | J44: na | K44: na
A45: 41091 | B45: 9573 | C45: 1071.359 | E45: 26.512 | F45: 1.018 | H45: na | I45: 372.66 | J45: na | K45: na
A46: 41122 | B46: 10778 | C46: 1208.883 | E46: 25.731 | F46: 1.522 | H46: na | I46: 373.11 | J46: na | K46: na
A47: 41153 | B47: 9143 | C47: 928.55726 | E47: 25.013 | F47: 1.063 | H47: na | I47: 374.49 | J47: na | K47: na
A48: 41183 | B48: 10709 | C48: 1118.9495 | E48: 24.944 | F48: 1.29 | H48: na | I48: 374.04 | J48: na | K48: na
A49: 41214 | B49: 9798 | C49: 1074.699 | E49: 24.927 | F49: 1.554 | H49: na | I49: 373.63 | J49: na | K49: na
A50: 41244 | B50: 9422 | C50: 983.38329 | E50: 24.404 | F50: 1.135 | H50: na | I50: 372.99 | J50: na | K50: na
... A62: 41609 | B62: 8723 | C62: 1074.9271 | E62: 21.935 | F62: 1.132 | H62: na | I62: 382.88 | J62: na | K62: na
A63: 41640 | B63: 8657 | C63: 1464.3024 | E63: 21.142 | F63: 1.69 | H63: na | I63: 391.66 | J63: 400.52 | K63: na
A64: 41671 | B64: 8924 | C64: 1527.9099 | E64: 21.755 | F64: 1.819 | H64: na | I64: 392.36 | J64: 417.91 | K64: na
A65: 41699 | B65: 8342 | C65: 1406.6853 | E65: 21.637 | F65: 1.518 | H65: na | I65: 393.53 | J65: 404.8 | K65: na
A66: 41730 | B66: 9376 | C66: 1023.5102 | E66: 21.272 | F66: 1.118 | H66: na | I66: 393.45 | J66: 380.07 | K66: na
A67: 41760 | B67: 8492 | C67: 1227.8558 | E67: 20.557 | F67: 1.176 | H67: na | I67: 392.08 | J67: 389.11 | K67: na
A68: 41791 | B68: 7686 | C68: 1189.3046 | E68: 20.137 | F68: 1.261 | H68: na | I68: 391.42 | J68: 390.2 | K68: na
A69: 41821 | B69: 8510 | C69: 1241.92 | E69: 20.443 | F69: 1.525 | H69: na | I69: 389.51 | J69: 387.57 | K69: na
A70: 41852 | B70: 8829 | C70: 1057.4402 | E70: 20.76 | F70: 1.193 | H70: na | I70: 387.51 | J70: 406.63 | K70: na
A71: 41883 | B71: 7783 | C71: 1351.3387 | E71: 20.802 | F71: 1.504 | H71: na | I71: 386.1 | J71: 403.51 | K71: na
A72: 41913 | B72: 9166 | C72: 1231.0189 | E72: 21.309 | F72: 1.52 | H72: na | I72: 384.63 | J72: 394.29 | K72: na
A73: 41944 | B73: 8023 | C73: 1089.5537 | E73: 21.565 | F73: 1.155 | H73: na | I73: 383.74 | J73: 400.28 | K73: na
A74: 41974 | B74: 9102 | C74: 1030.1543 | E74: 21.348 | F74: 1.012 | H74: na | I74: 382.54 | J74: 400.3 | K74: na
... A110: 43070 | B110: 8034 | C110: 1023.1377 | E110: 16.467 | F110: 0.744 | H110: na | I110: 403.25 | J110: 412.84 | K110: na
A111: 43101 | B111: 7233 | C111: 1086.514 | E111: 15.966 | F111: 1.007 | H111: 0.034 | I111: 409.37 | J111: 433.44 | K111: 386.21
A112: 43132 | B112: 8582 | C112: 1605.2314 | E112: 16.654 | F112: 1.434 | H112: 0.022 | I112: 409.61 | J112: 456.93 | K112: 384.19
A113: 43160 | B113: 9105 | C113: 1543.3749 | E113: 17.286 | F113: 1.316 | H113: 0.031 | I113: 411.87 | J113: 455.43 | K113: 369.09
A114: 43191 | B114: 7911 | C114: 751.6426 | E114: 17.228 | F114: 0.544 | H114: 0.022 | I114: 412.26 | J114: 426.33 | K114: 417.76
A115: 43221 | B115: 7476 | C115: 860.94148 | E115: 16.733 | F115: 0.843 | H115: 0.016 | I115: 411.11 | J115: 437.06 | K115: 372.75
A116: 43252 | B116: 8043 | C116: 867.19424 | E116: 16.462 | F116: 1.004 | H116: 0.017 | I116: 409.67 | J116: 415.3 | K116: 387.57
A117: 43282 | B117: 7006 | C117: 742.93325 | E117: 16.331 | F117: 0.764 | H117: 0.02 | I117: 407.3 | J117: 416.92 | K117: 338.35
A118: 43313 | B118: 7892 | C118: 860.8866 | E118: 16.059 | F118: 0.812 | H118: 0.015 | I118: 406.26 | J118: 437.59 | K118: 361.31
A119: 43344 | B119: 7420 | C119: 1308.6223 | E119: 15.892 | F119: 1.126 | H119: 0.026 | I119: 405.53 | J119: 433.31 | K119: 344.93
A120: 43374 | B120: 8381 | C120: 1510.567 | E120: 15.682 | F120: 1.501 | H120: 0.018 | I120: 407.5 | J120: 428.89 | K120: 368.81
A121: 43405 | B121: 7561 | C121: 1134.405 | E121: 15.489 | F121: 1.239 | H121: 0.016 | I121: 407.94 | J121: 414.97 | K121: 400.91
A122: 43435 | B122: 7158 | C122: 1071.784 | E122: 14.879 | F122: 0.765 | H122: 0.02 | I122: 407.9 | J122: 416.75 | K122: 363.48
... A146: 44166 | B146: 7660 | C146: 883.72313 | E146: 12.203 | F146: 0.613 | H146: 0.017 | I146: 470.47 | J146: 514.79 | K146: 410.18
A147: 44197 | B147: 5533 | C147: 1555.6666 | E147: 11.72 | F147: 0.467 | H147: 0.017 | I147: 482.72 | J147: 533.13 | K147: 485.18 | L147: 10
A148: 44228 | B148: 6715 | C148: 837.49063 | E148: 11.984 | F148: 0.355 | H148: 0.023 | I148: 483.72 | J148: 559.04 | K148: 445.83 | L148: 12
A149: 44256 | B149: 7895 | C149: 1894.8394 | E149: 11.917 | F149: 1.281 | H149: 0.023 | I149: 486.95 | J149: 586.17 | K149: 524.73 | L149: 12
A150: 44287 | B150: 7751 | C150: 1537.3943 | E150: 12.024 | F150: 0.807 | H150: 0.035 | I150: 490.41 | J150: 545.31 | K150: 439.22 | L150: 13
A151: 44317 | B151: 7367 | C151: 1762.1353 | E151: 11.953 | F151: 1.094 | H151: 0.013 | I151: 490.72 | J151: 509.54 | K151: 387.88 | L151: 11
A152: 44348 | B152: 7700 | C152: 1772.0179 | E152: 11.798 | F152: 1.106 | H152: 0.018 | I152: 490.08 | J152: 505.71 | K152: 467.44 | L152: 12
A153: 44378 | B153: 8269 | C153: 1401.1582 | D153: 867.18838 | E153: 11.917 | F153: 0.783 | H153: 0.01 | I153: 489.04 | J153: 501.12 | K153: 495.65 | L153: 13
A154: 44409 | B154: 6954 | C154: 1802.5836 | D154: 21.19735 | E154: 10.271 | F154: 1.172 | H154: 0.012 | I154: 494.57 | J154: 508.67 | K154: 419.53 | L154: 12
A155: 44440 | B155: 7479 | C155: 2149.6695 | D155: 43.88592 | E155: 10.958 | F155: 1.448 | H155: 0.012 | I155: 497.54 | J155: 507.91 | K155: 420.95 | L155: 11
A156: 44470 | B156: 8303 | C156: 2107.6775 | D156: 62.47077 | E156: 11.711 | F156: 1.371 | H156: 0.021 | I156: 498.58 | J156: 508.33 | K156: 410.63 | L156: 13
A157: 44501 | B157: 7410 | C157: 1906.1804 | D157: 33.70188 | E157: 11.545 | F157: 1.257 | H157: 0.015 | I157: 496.94 | J157: 506.57 | K157: 488.75 | L157: 11
A158: 44531 | B158: 8368 | C158: 1998.115 | D158: 7.58318 | E158: 11.992 | F158: 0.937 | H158: 0.021 | I158: 495.75 | J158: 514.27 | K158: 439.02 | L158: 13
A159: 44562 | B159: 7223 | C159: 1811.6286 | E159: 11.409 | F159: 1.098 | H159: 0.026 | I159: 500.39 | J159: 511.31 | K159: 451.68 | L159: 11
A160: 44593 | B160: 8064 | C160: 1818.203 | E160: 12.332 | F160: 1.418 | H160: 0.016 | I160: 500.17 | J160: 563.06 | K160: 484.11 | L160: 12
A161: 44621 | B161: 7770 | C161: 1326.5303 | E161: 12.429 | F161: 0.973 | H161: 0.025 | I161: 503.63 | J161: 554.03 | K161: 456.42 | L161: 12
A162: 44652 | B162: 7628 | C162: 1142.9274 | E162: 12.212 | F162: 0.683 | H162: 0.021 | I162: 504.77 | J162: 543.34 | K162: 422.91 | L162: 13
A163: 44682 | B163: 7303 | C163: 1532.948 | E163: 11.891 | F163: 1.362 | H163: 0.02 | I163: 502.91 | J163: 532.84 | K163: 455.43 | L163: 11
A164: 44713 | B164: 7484 | C164: 1415.2509 | E164: 11.806 | F164: 1.159 | H164: 0.012 | I164: 501.87 | J164: 519.13 | K164: 402.37 | L164: 12
A165: 44743 | B165: 6790 | C165: 1046.8394 | E165: 11.446 | F165: 0.724 | H165: 0.016 | I165: 500.28 | J165: 520.49 | K165: 408 | L165: 12
A166: 44774 | B166: 7554 | C166: 1385.9541 | E166: 11.582 | F166: 1.106 | H166: 0.007 | I166: 497.33 | J166: 536.4 | K166: 482.62 | L166: 13
A167: 44805 | B167: 7351 | C167: 1394.5422 | E167: 11.77 | F167: 1.115 | H167: 0.014 | I167: 498.79 | J167: 539.54 | K167: 567.37 | L167: 12
A168: 44835 | B168: 7458 | C168: 1487.0812 | E168: 11.77 | F168: 1.108 | H168: 0.011 | I168: 499.36 | J168: 551.08 | K168: 359.82 | L168: 12
A169: 44866 | B169: 7280 | C169: 1394.3861 | E169: 12.112 | F169: 0.981 | H169: 0.012 | I169: 503.3 | J169: 537.82 | K169: 487.26 | L169: 11
A170: 44896 | B170: 8428 | C170: 1740.3408 | E170: 12.311 | F170: 0.858 | H170: 0.019 | I170: 507.75 | J170: 538.31 | K170: 500.53 | L170: 13
A171: 44927 | B171: 8048 | C171: 1576.7026 | E171: 12.061 | F171: 0.962 | G171: 0 | H171: 0.025 | I171: 566.92 | J171: 616.4 | K171: 512.72 | L171: 11
A172: 44958 | B172: 11241 | C172: 3718.6541 | E172: 12.981 | F172: 2.052 | G172: 0.887 | H172: 0.011 | I172: 568.74 | J172: 721.66 | K172: 481.17 | L172: 12
A173: 44986 | B173: 11018 | C173: 2225.0818 | E173: 13.993 | F173: 1.497 | G173: 0.801 | H173: 0.016 | I173: 589.48 | J173: 687.14 | K173: 514.43 | L173: 13
A174: 45017 | B174: 10164 | C174: 1623.8718 | E174: 13.986 | F174: 0.93 | G174: 0.568 | H174: 0.008 | I174: 595.02 | J174: 665.09 | K174: 542.9 | L174: 12
A175: 45047 | B175: 10119 | C175: 2175.7838 | E175: 13.884 | F175: 1.392 | G175: 0.943 | H175: 0.015 | I175: 599.27 | J175: 675.68 | K175: 635.13 | L175: 11
A176: 45078 | B176: 10823 | C176: 1850.4825 | E176: 13.899 | F176: 1.119 | G176: 0.741 | H176: 0.01 | I176: 604.2 | J176: 678.25 | K176: 510.76 | L176: 13
A177: 45108 | B177: 9053 | C177: 1061.3842 | E177: 13.589 | F177: 0.386 | G177: 0.249 | H177: 0.009 | I177: 607.83 | J177: 693.23 | K177: 575.24 | L177: 11
A178: 45139 | B178: 15174 | C178: 5381.1133 | E178: 12.88 | F178: 1.803 | G178: 1.33 | H178: 0.019 | I178: 673.61 | J178: 738.99 | K178: 633.42 | L178: 14
A179: 45170 | B179: 12557 | C179: 3430.4502 | E179: 14.303 | F179: 2.029 | G179: 1.514 | H179: 0.014 | I179: 681.88 | J179: 754.47 | K179: 732.1 | L179: 11
A180: 45200 | B180: 14416 | C180: 3864.1874 | E180: 15.072 | F180: 1.872 | G180: 1.435 | H180: 0.01 | I180: 687.06 | J180: 744.12 | K180: 634.69 | L180: 12
A181: 45231 | B181: 14601 | C181: 4470.859 | E181: 14.964 | F181: 1.692 | G181: 1.309 | H181: 0.013 | I181: 691.67 | J181: 759.87 | K181: 630.55 | L181: 11
A182: 45261 | B182: 17389 | C182: 6043.8781 | E182: 15.427 | F182: 2.03 | G182: 1.589 | H182: 0.017 | I182: 697.53 | J182: 754.72 | K182: 615.31 | L182: 13
... A213: 46204 | B213: 20956 | C213: 1060.1662 | E213: 25.855 | F213: 0.622 | G213: 0.076 | H213: 0.023 | I213: 732.96 | J213: 696.53 | K213: 762.66 | L213: 13
A214: 46235 | C214: 1098.4235 | E214: 25.372 | F214: 0.632 | G214: 0.092 | H214: 0.015 | I214: 729.37 | J214: 711.49 | K214: 673.32 | L214: 11
A215: 46266 | L215: 12
A216: 46296 | L216: 13
A217: 46327 | L217: 11
A218: 46357 | L218: 14
A228: Legenda: | B228: 01-03P - dôchodok priznaný k nároku, po nároku, obnovená výplata dôchodku na základe žiadosti.
B229: 01-09P - 01-03P + dodatočne kategórie: priznaný dôchodok aj zo silového rezortu, čiastkový dôchodok (dôchodca poberá aj dôchodok zo zahraničia, žiada alebo bude žiadať o dôchodok zo zahraničia), adresa bydliska je v zahraničí.
A230: * | B230: Priemerný dôchodok predstavuje aritmetický priemer sólo a kráteného dôchodku.
A231: ** | B231: Doplatky nemusia predstavovať skutočné náklady na legislatívnu zmenu. Pri priznaní dôchodku sa započítal priamo doplatok k dôchodku a v evidencii SP nebolo možné doplatok oddeliť.

Sheet cash mesacny INV
A1: Vybrané výdavky verejnej správy na mesačnej báze - hotovostná metodika (tis.)
A2: Mesiac | B2: Spolu výdavky na INV | C2: z toho celkové doplatky | D2: 13. dôchodok ZFIP | E2: Počet vyplatených INV do 70 % | F2: Počet vyplatených INV nad 70 % | G2: Počet novopriznaných INV do 70 % (01-09P) | H2: Počet novopriznaných INV nad 70 % (01-09P) | I2: Počet smrťou zaniknutých INV do 70 % | J2: Počet smrťou zaniknutých INV nad 70 % | K2: Priemerný INV do 70 %* | L2: Priemerný INV nad 70 %* | M2: Priemerný INV do 70 % novopriznaný (01-03P) | N2: Priemerný INV nad 70 % novopriznaný (01-03P) | O2: Priemerný INV do 70 % zaniknutý smrťou | P2: Priemerný INV nad 70 % zaniknutý smrťou | Q2: Počet výplatných termínov v mesiaci
A3: 39814 | B3: 47847 | C3: 3529.6305 | E3: 84.886 | F3: 116.216 | G3: 1.058 | H3: 0.765 | I3: na | J3: na | K3: na | L3: na | M3: na | N3: na | O3: na | P3: na
A4: 39845 | B4: 52074 | C4: 2804.3876 | E4: 84.847 | F4: 115.734 | G4: 0.663 | H4: 0.452 | I4: na | J4: na | K4: na | L4: na | M4: na | N4: na | O4: na | P4: na
A5: 39873 | B5: 47989 | C5: 3221.1014 | E5: 84.899 | F5: 115.507 | G5: 0.724 | H5: 0.477 | I5: na | J5: na | K5: na | L5: na | M5: na | N5: na | O5: na | P5: na
A6: 39904 | B6: 58460 | C6: 3160.7478 | E6: 85.442 | F6: 115.586 | G6: 0.78 | H6: 0.477 | I6: na | J6: na | K6: na | L6: na | M6: na | N6: na | O6: na | P6: na
A7: 39934 | B7: 43534 | C7: 3695.3987 | E7: 85.597 | F7: 115.723 | G7: 0.923 | H7: 0.598 | I7: na | J7: na | K7: na | L7: na | M7: na | N7: na | O7: na | P7: na
A8: 39965 | B8: 51608 | C8: 4063.0141 | E8: 85.87 | F8: 115.863 | G8: 0.983 | H8: 0.676 | I8: na | J8: na | K8: na | L8: na | M8: na | N8: na | O8: na | P8: na
A9: 39995 | B9: 56028 | C9: 4395.013 | E9: 86.431 | F9: 116.26 | G9: 1.348 | H9: 0.814 | I9: na | J9: na | K9: na | L9: na | M9: na | N9: na | O9: na | P9: na
A10: 40026 | B10: 52143 | C10: 3495.7386 | E10: 86.604 | F10: 116.386 | G10: 0.974 | H10: 0.569 | I10: na | J10: na | K10: na | L10: na | M10: na | N10: na | O10: na | P10: na
A11: 40057 | B11: 47929 | C11: 3303.9828 | E11: 86.913 | F11: 116.383 | G11: 0.913 | H11: 0.521 | I11: na | J11: na | K11: na | L11: na | M11: na | N11: na | O11: na | P11: na
A12: 40087 | B12: 56165 | C12: 3282.374 | E12: 87.316 | F12: 116.103 | G12: 1.053 | H12: 0.581 | I12: na | J12: na | K12: na | L12: na | M12: na | N12: na | O12: na | P12: na
A13: 40118 | B13: 48196 | C13: 3125.1648 | E13: 87.837 | F13: 116.059 | G13: 0.999 | H13: 0.602 | I13: na | J13: na | K13: na | L13: na | M13: na | N13: na | O13: na | P13: na
A14: 40148 | B14: 60286 | C14: 4249.9966 | E14: 88.318 | F14: 116.06 | G14: 1.016 | H14: 0.632 | I14: na | J14: na | K14: na | L14: na | M14: na | N14: na | O14: na | P14: na
... A38: 40878 | B38: 62490 | C38: 4456.1941 | E38: 106.392 | F38: 116.79 | G38: 1.031 | H38: 0.492 | I38: na | J38: na | K38: na | L38: na | M38: na | N38: na | O38: na | P38: na
A39: 40909 | B39: 56012 | C39: 4033.5844 | E39: 106.905 | F39: 116.631 | G39: 1.76 | H39: 0.747 | I39: na | J39: na | K39: 187.82 | L39: 330.7 | M39: na | N39: na | O39: na | P39: na
A40: 40940 | B40: 60995 | C40: 4257.3642 | E40: 107.903 | F40: 116.522 | G40: 1.366 | H40: 0.599 | I40: na | J40: na | K40: 187.73 | L40: 330.92 | M40: na | N40: na | O40: na | P40: na
A41: 40969 | B41: 64466 | C41: 4372.1706 | E41: 108.317 | F41: 116.231 | G41: 1.457 | H41: 0.666 | I41: na | J41: na | K41: 187.68 | L41: 330.99 | M41: na | N41: na | O41: na | P41: na
A42: 41000 | B42: 58939.98 | C42: 3720.4999 | E42: 109.105 | F42: 116.263 | G42: 1.442 | H42: 0.602 | I42: na | J42: na | K42: 187.75 | L42: 331.08 | M42: na | N42: na | O42: na | P42: na
A43: 41030 | B43: 57406.02 | C43: 4005.7983 | E43: 109.745 | F43: 116.032 | G43: 1.471 | H43: 0.66 | I43: na | J43: na | K43: 187.73 | L43: 331.06 | M43: na | N43: na | O43: na | P43: na
A44: 41061 | B44: 63494 | C44: 3665.2024 | E44: 110.543 | F44: 115.86 | G44: 1.559 | H44: 0.637 | I44: na | J44: na | K44: 187.62 | L44: 331.2 | M44: na | N44: na | O44: na | P44: na
A45: 41091 | B45: 55261 | C45: 3454.4513 | E45: 111.223 | F45: 115.853 | G45: 1.236 | H45: 0.512 | I45: na | J45: na | K45: 187.58 | L45: 331.3 | M45: na | N45: na | O45: na | P45: na
A46: 41122 | B46: 64322 | C46: 3111.7446 | E46: 111.736 | F46: 115.426 | G46: 1.167 | H46: 0.505 | I46: na | J46: na | K46: 187.54 | L46: 331.2 | M46: na | N46: na | O46: na | P46: na
A47: 41153 | B47: 55490 | C47: 2786.6557 | E47: 112.074 | F47: 115.101 | G47: 1.033 | H47: 0.379 | I47: na | J47: na | K47: 187.5 | L47: 331.15 | M47: na | N47: na | O47: na | P47: na
A48: 41183 | B48: 65788 | C48: 3815.5559 | E48: 112.444 | F48: 114.744 | G48: 1.322 | H48: 0.592 | I48: na | J48: na | K48: 187.4 | L48: 331.09 | M48: na | N48: na | O48: na | P48: na
A49: 41214 | B49: 60665 | C49: 3969.6192 | E49: 113.063 | F49: 114.707 | G49: 1.86 | H49: 0.751 | I49: na | J49: na | K49: 187.33 | L49: 331.06 | M49: na | N49: na | O49: na | P49: na
A50: 41244 | B50: 60079 | C50: 4194.1883 | E50: 113.382 | F50: 114.419 | G50: 1.405 | H50: 0.533 | I50: na | J50: na | K50: 187.27 | L50: 330.97 | M50: na | N50: na | O50: na | P50: na
... A62: 41609 | B62: 61843 | C62: 4419.9747 | E62: 120.465 | F62: 111.082 | G62: 1.187 | H62: 0.557 | I62: na | J62: na | K62: 191.22 | L62: 340.33 | M62: na | N62: na | O62: na | P62: na
A63: 41640 | B63: 63760 | C63: 4662.8527 | E63: 120.725 | F63: 110.699 | G63: 1.289 | H63: 0.646 | I63: na | J63: na | K63: 195.53 | L63: 348.06 | M63: 183.6 | N63: 361.02 | O63: na | P63: na
A64: 41671 | B64: 63174 | C64: 3072.5687 | E64: 121.297 | F64: 110.124 | G64: 0.817 | H64: 0.388 | I64: na | J64: na | K64: 195.91 | L64: 348.23 | M64: 184.43 | N64: 346.44 | O64: na | P64: na
A65: 41699 | B65: 58651 | C65: 4022.2034 | E65: 121.439 | F65: 109.61 | G65: 1.182 | H65: 0.488 | I65: na | J65: na | K65: 195.4 | L65: 348.17 | M65: 190.88 | N65: 361.19 | O65: na | P65: na
A66: 41730 | B66: 67525 | C66: 3961.8599 | E66: 121.734 | F66: 109.155 | G66: 1.155 | H66: 0.552 | I66: na | J66: na | K66: 195.35 | L66: 348.21 | M66: 186.34 | N66: 359.17 | O66: na | P66: na
A67: 41760 | B67: 63270 | C67: 4706.3071 | E67: 122.046 | F67: 108.771 | G67: 1.283 | H67: 0.626 | I67: na | J67: na | K67: 195.26 | L67: 348.19 | M67: 180 | N67: 359.19 | O67: na | P67: na
A68: 41791 | B68: 59002 | C68: 5076.3195 | E68: 122.461 | F68: 108.376 | G68: 1.428 | H68: 0.721 | I68: na | J68: na | K68: 195.1 | L68: 348.18 | M68: 183.34 | N68: 350.26 | O68: na | P68: na
A69: 41821 | B69: 64797 | C69: 5257.0487 | E69: 123.006 | F69: 108.115 | G69: 1.786 | H69: 0.84 | I69: na | J69: na | K69: 195.05 | L69: 348.25 | M69: 181.3 | N69: 356.72 | O69: na | P69: na
A70: 41852 | B70: 65837 | C70: 3718.7621 | E70: 123.567 | F70: 107.908 | G70: 1.184 | H70: 0.531 | I70: na | J70: na | K70: 194.85 | L70: 348.2 | M70: 178.18 | N70: 353.06 | O70: na | P70: na
A71: 41883 | B71: 58009 | C71: 4415.9486 | E71: 123.953 | F71: 107.698 | G71: 1.582 | H71: 0.735 | I71: na | J71: na | K71: 194.69 | L71: 348.23 | M71: 183.27 | N71: 350.06 | O71: na | P71: na
A72: 41913 | B72: 67413 | C72: 4763.3844 | E72: 124.587 | F72: 107.436 | G72: 1.51 | H72: 0.717 | I72: na | J72: na | K72: 194.57 | L72: 348.08 | M72: 179.81 | N72: 349.08 | O72: na | P72: na
A73: 41944 | B73: 58192 | C73: 4635.1353 | E73: 125.268 | F73: 107.524 | G73: 1.53 | H73: 0.725 | I73: na | J73: na | K73: 194.38 | L73: 348.01 | M73: 182.62 | N73: 346.19 | O73: na | P73: na
A74: 41974 | B74: 67355 | C74: 4547.4525 | E74: 125.695 | F74: 107.314 | G74: 1.426 | H74: 0.628 | I74: na | J74: na | K74: 194.21 | L74: 347.89 | M74: 179.36 | N74: 356.4 | O74: na | P74: na
... A110: 43070 | B110: 67610 | C110: 4952.7771 | E110: 138.937 | F110: 96.769 | G110: 1.11 | H110: 0.438 | I110: na | J110: na | K110: 197.49 | L110: 358.56 | M110: 193.34 | N110: 390.78 | O110: na | P110: na
A111: 43101 | B111: 61427 | C111: 5276.4747 | E111: 138.736 | F111: 96.414 | G111: 1.211 | H111: 0.479 | I111: 0.115 | J111: 0.407 | K111: 201.41 | L111: 365.51 | M111: 199.02 | N111: 387.67 | O111: 196.43 | P111: 379.27
A112: 43132 | B112: 64918 | C112: 4113.5543 | E112: 139.203 | F112: 95.909 | G112: 1.029 | H112: 0.418 | I112: 0.087 | J112: 0.382 | K112: 201.3 | L112: 365.8 | M112: 205.06 | N112: 400.64 | O112: 205.52 | P112: 371.58
A113: 43160 | B113: 68328 | C113: 3837.2785 | E113: 139.333 | F113: 95.573 | G113: 0.841 | H113: 0.335 | I113: 0.092 | J113: 0.396 | K113: 201.27 | L113: 365.99 | M113: 199.49 | N113: 382.44 | O113: 204.18 | P113: 373.72
A114: 43191 | B114: 65499 | C114: 5120.7035 | E114: 139.603 | F114: 95.58 | G114: 1.294 | H114: 0.56 | I114: 0.096 | J114: 0.389 | K114: 201.33 | L114: 366.32 | M114: 206.34 | N114: 402.69 | O114: 198.24 | P114: 364.42
A115: 43221 | B115: 63561 | C115: 6043.8107 | E115: 140.475 | F115: 95.752 | G115: 1.586 | H115: 0.691 | I115: 0.112 | J115: 0.349 | K115: 201.41 | L115: 366.77 | M115: 204.84 | N115: 396.89 | O115: 212.12 | P115: 374.18
A116: 43252 | B116: 69048 | C116: 5163.3115 | E116: 141.106 | F116: 95.61 | G116: 1.741 | H116: 0.65 | I116: 0.097 | J116: 0.366 | K116: 201.35 | L116: 366.88 | M116: 206.33 | N116: 417 | O116: 204.17 | P116: 390.96
A117: 43282 | B117: 61269 | C117: 4572.379 | E117: 141.921 | F117: 95.609 | G117: 1.298 | H117: 0.479 | I117: 0.086 | J117: 0.332 | K117: 201.26 | L117: 366.97 | M117: 203.97 | N117: 419.24 | O117: 221.08 | P117: 384.82
A118: 43313 | B118: 69456 | C118: 3961.7293 | E118: 142.457 | F118: 95.36 | G118: 1.058 | H118: 0.363 | I118: 0.07 | J118: 0.363 | K118: 201.21 | L118: 366.97 | M118: 202.09 | N118: 417.67 | O118: 202.11 | P118: 385.27
A119: 43344 | B119: 60726 | C119: 4160.8549 | E119: 142.624 | F119: 95.091 | G119: 0.983 | H119: 0.422 | I119: 0.089 | J119: 0.313 | K119: 201.13 | L119: 366.92 | M119: 205.51 | N119: 410.98 | O119: 217.03 | P119: 383.26
A120: 43374 | B120: 70635 | C120: 5434.3803 | E120: 142.771 | F120: 94.721 | G120: 1.309 | H120: 0.491 | I120: 0.111 | J120: 0.348 | K120: 201.1 | L120: 366.92 | M120: 210.88 | N120: 412.85 | O120: 209.66 | P120: 386.56
A121: 43405 | B121: 65795 | C121: 4994.4788 | E121: 143.078 | F121: 94.623 | G121: 1.419 | H121: 0.51 | I121: 0.088 | J121: 0.326 | K121: 201.09 | L121: 366.85 | M121: 208.97 | N121: 422.24 | O121: 218.35 | P121: 388.62
A122: 43435 | B122: 65136 | C122: 5059.5576 | E122: 143.231 | F122: 94.385 | G122: 0.968 | H122: 0.353 | I122: 0.067 | J122: 0.257 | K122: 201 | L122: 366.74 | M122: 205.72 | N122: 431.83 | O122: 209.95 | P122: 386.19
... A146: 44166 | B146: 78390 | C146: 3997.494 | E146: 145.407 | F146: 88.054 | G146: 1.05 | H146: 0.342 | I146: 0.096 | J146: 0.405 | K146: 214.88 | L146: 393.4 | M146: 243.59 | N146: 477.62 | O146: 237.62 | P146: 417.44
A147: 44197 | B147: 57107 | C147: 9007.751 | E147: 145.236 | F147: 87.593 | G147: 0.925 | H147: 0.303 | I147: 0.167 | J147: 0.51 | K147: 220.73 | L147: 403.78 | M147: 249.95 | N147: 511.21 | O147: 232.01 | P147: 412.39 | Q147: 10
A148: 44228 | B148: 67823 | C148: 3548.518 | E148: 145.72 | F148: 86.806 | G148: 0.519 | H148: 0.198 | I148: 0.171 | J148: 0.48 | K148: 220.96 | L148: 404.16 | M148: 249.99 | N148: 539.75 | O148: 259.27 | P148: 405.38 | Q148: 12
A149: 44256 | B149: 68605 | C149: 3442.2757 | E149: 145.488 | F149: 86.253 | G149: 0.766 | H149: 0.309 | I149: 0.196 | J149: 0.565 | K149: 220.97 | L149: 404.19 | M149: 246.09 | N149: 505.92 | O149: 237.5 | P149: 420.7 | Q149: 12
A150: 44287 | B150: 70435 | C150: 4244.149 | E150: 144.769 | F150: 85.588 | G150: 0.743 | H150: 0.281 | I150: 0.166 | J150: 0.474 | K150: 220.97 | L150: 404.32 | M150: 257.96 | N150: 539.24 | O150: 230.81 | P150: 416.55 | Q150: 13
A151: 44317 | B151: 64995 | C151: 5791.782 | E151: 144.187 | F151: 85.049 | G151: 1.111 | H151: 0.408 | I151: 0.124 | J151: 0.383 | K151: 221.17 | L151: 404.56 | M151: 261.43 | N151: 529.99 | O151: 217.15 | P151: 417.5 | Q151: 11
A152: 44348 | B152: 69908 | C152: 7036.159 | E152: 143.751 | F152: 84.564 | G152: 1.316 | H152: 0.464 | I152: 0.115 | J152: 0.362 | K152: 221.54 | L152: 404.88 | M152: 251 | N152: 528.43 | O152: 220.37 | P152: 424.43 | Q152: 12
A153: 44378 | B153: 72653 | C153: 6307.8935 | E153: 143.728 | F153: 84.282 | G153: 1.249 | H153: 0.447 | I153: 0.092 | J153: 0.319 | K153: 221.9 | L153: 405.33 | M153: 253.11 | N153: 527.64 | O153: 213.75 | P153: 434.5 | Q153: 13
A154: 44409 | B154: 67905 | C154: 5198.8825 | E154: 143.787 | F154: 84.091 | G154: 1.327 | H154: 0.492 | I154: 0.107 | J154: 0.323 | K154: 222.15 | L154: 405.74 | M154: 245.77 | N154: 518.35 | O154: 230.42 | P154: 414.83 | Q154: 12
A155: 44440 | B155: 65366 | C155: 5450.321 | E155: 144.043 | F155: 84.177 | G155: 1.34 | H155: 0.521 | I155: 0.095 | J155: 0.327 | K155: 222.42 | L155: 406.38 | M155: 254.47 | N155: 512.32 | O155: 242.33 | P155: 431.64 | Q155: 11
A156: 44470 | B156: 71234 | C156: 5087.241 | E156: 144.3 | F156: 84.353 | G156: 1.097 | H156: 0.391 | I156: 0.124 | J156: 0.385 | K156: 222.65 | L156: 406.86 | M156: 246.29 | N156: 501.86 | O156: 217.09 | P156: 413.79 | Q156: 13
A157: 44501 | B157: 64103 | C157: 5108.199 | E157: 144.012 | F157: 84.047 | G157: 1.082 | H157: 0.424 | I157: 0.144 | J157: 0.442 | K157: 222.65 | L157: 406.89 | M157: 253.72 | N157: 520.91 | O157: 238.18 | P157: 415.49 | Q157: 11
A158: 44531 | B158: 72532 | C158: 6561.0655 | E158: 143.783 | F158: 83.643 | G158: 1.187 | H158: 0.44 | I158: 0.187 | J158: 0.492 | K158: 222.83 | L158: 407.13 | M158: 267.6 | N158: 501.4 | O158: 247.06 | P158: 419.05 | Q158: 13
... A192: 45566 | B192: 105648 | C192: 13103.346 | E192: 138.276 | F192: 79.475 | G192: 1.437 | H192: 0.54 | I192: 0.086 | J192: 0.352 | K192: 303.94 | L192: 554.51 | M192: 352.99 | N192: 767.73 | O192: 301.09 | P192: 559.23 | Q192: 14
A193: 45597 | B193: 80881 | C193: 10616.948 | D193: 6502 | E193: 138.507 | F193: 79.53 | G193: 1.289 | H193: 0.539 | I193: 0.081 | J193: 0.313 | K193: 304.68 | L193: 555.32 | M193: 343.37 | N193: 700.85 | O193: 351.52 | P193: 591.67 | Q193: 11
A194: 45627 | B194: 87931 | C194: 8108.3837 | D194: 90987 | E194: 138.526 | F194: 79.449 | G194: 0.94 | H194: 0.369 | I194: 0.068 | J194: 0.227 | K194: 305.2 | L194: 555.72 | M194: 343.15 | N194: 726.82 | O194: 286.67 | P194: 596.02 | Q194: 12
A195: 45658 | B195: 92513 | C195: 10705.098 | D195: 676 | E195: 138.523 | F195: 79.313 | G195: 1.075 | H195: 0.42 | I195: 0.114 | J195: 0.381 | K195: 312 | L195: 567.76 | M195: 350.39 | N195: 752.34 | O195: 334.17 | P195: 583.2 | Q195: 12
A196: 45689 | B196: 89676 | C196: 7632.5533 | D196: 596 | E196: 138.669 | F196: 79.071 | G196: 0.856 | H196: 0.373 | I196: 0.077 | J196: 0.321 | K196: 312.93 | L196: 569.13 | M196: 348.85 | N196: 719.99 | O196: 331.91 | P196: 587.96 | Q196: 12
A197: 45717 | B197: 88707 | C197: 11215.389 | D197: 702 | E197: 138.145 | F197: 79.202 | G197: 1.306 | H197: 0.537 | I197: 0.095 | J197: 0.336 | K197: 313.28 | L197: 569.81 | M197: 356.39 | N197: 725.19 | O197: 294.6 | P197: 576.11 | Q197: 11
A198: 45748 | B198: 97269 | C198: 11463.586 | D198: 584 | E198: 138.652 | F198: 79.453 | G198: 1.407 | H198: 0.58 | I198: 0.065 | J198: 0.341 | K198: 314.1 | L198: 570.76 | M198: 346.94 | N198: 729 | O198: 303.69 | P198: 602.01 | Q198: 13
A199: 45778 | B199: 92335 | C199: 10223.031 | D199: 453 | E199: 138.906 | F199: 79.361 | G199: 1.375 | H199: 0.567 | I199: 0.088 | J199: 0.334 | K199: 314.84 | L199: 571.45 | M199: 342.18 | N199: 711.85 | O199: 317.41 | P199: 582.94 | Q199: 12
A200: 45809 | B200: 88202 | C200: 10030.777 | D200: 352 | E200: 139.178 | F200: 79.28 | G200: 1.191 | H200: 0.47 | I200: 0.088 | J200: 0.283 | K200: 315.53 | L200: 571.97 | M200: 333.73 | N200: 707.88 | O200: 320.75 | P200: 587.27 | Q200: 11
A201: 45839 | B201: 93005 | C201: 9808.6653 | D201: 285 | E201: 139.508 | F201: 79.178 | G201: 1.235 | H201: 0.473 | I201: 0.091 | J201: 0.331 | K201: 315.97 | L201: 572.12 | M201: 342.49 | N201: 707.68 | O201: 300.53 | P201: 590.73 | Q201: 12
A202: 45870 | B202: 88756 | C202: 6692.5805 | D202: 185 | E202: 139.757 | F202: 79.159 | G202: 0.806 | H202: 0.307 | I202: 0.065 | J202: 0.277 | K202: 316.57 | L202: 572.26 | M202: 331.77 | N202: 692.46 | O202: 314.35 | P202: 585.98 | Q202: 12
A203: 45901 | B203: 90235 | C203: 7896.6408 | D203: 177 | E203: 139.866 | F203: 78.921 | G203: 0.925 | H203: 0.369 | I203: 0.082 | J203: 0.284 | K203: 316.8 | L203: 572.49 | M203: 330.53 | N203: 704.11 | O203: 338.4 | P203: 592.21 | Q203: 12
A204: 45931 | B204: 96428 | C204: 8274.9263 | D204: 183 | E204: 139.846 | F204: 78.742 | G204: 1.053 | H204: 0.426 | I204: 0.087 | J204: 0.381 | K204: 317.02 | L204: 572.49 | M204: 336.89 | N204: 689.77 | O204: 293.39 | P204: 586.81 | Q204: 13
... A213: 46204 | B213: 97231 | C213: 9287.0337 | D213: 376 | E213: 141.305 | F213: 77.449 | G213: 1.249 | H213: 0.596 | I213: 0.101 | J213: 0.342 | K213: 330.12 | L213: 595.33 | M213: 340.81 | N213: 714.47 | O213: 327.2 | P213: 605.02 | Q213: 13
A214: 46235 | C214: 7301.6923 | E214: 141.372 | F214: 77.298 | G214: 0.995 | H214: 0.415 | I214: 0.072 | J214: 0.273 | K214: 330.14 | L214: 595.59 | M214: 361.36 | N214: 746.52 | O214: 305.38 | P214: 594.14 | Q214: 11
A215: 46266 | Q215: 12
A216: 46296 | Q216: 13
A217: 46327 | Q217: 11
A218: 46357 | Q218: 14
A220: Legenda: | B220: 01-03P - dôchodok priznaný k nároku, po nároku, obnovená výplata dôchodku na základe žiadosti.
B221: 01-09P - 01-03P + dodatočne kategórie: priznaný dôchodok aj zo silového rezortu, čiastkový dôchodok (dôchodca poberá aj dôchodok zo zahraničia, žiada alebo bude žiadať o dôchodok zo zahraničia), adresa bydliska je v zahraničí.
A222: * | B222: Priemerný dôchodok predstavuje aritmetický priemer sólo a kráteného dôchodku.

Sheet cash mesacny VD
A1: Vybrané výdavky verejnej správy na mesačnej báze - hotovostná metodika (tis.)
A2: Mesiac | B2: Spolu výdavky na VD | C2: Spolu výdavky na VDm | D2: z toho celkové doplatky | E2: Počet vyplatených VD | F2: Počet vyplatených VDm | G2: Počet novopriznaných VD (01-09P) | H2: Počet novopriznaných VDm (01-09P) | I2: Počet smrťou zaniknutých VD | J2: Počet smrťou zaniknutých VDm | K2: Priemerný VD* | L2: Priemerný VDm* | M2: Priemerný VD novopriznaný (01-03P) | N2: Priemerný VDm novopriznaný (01-03P) | O2: Priemerný VD zaniknutý smrťou | P2: Priemerný VDm zaniknutý smrťou | Q2: Počet výplatných termínov v mesiaci
A3: 39814 | B3: 38663 | C3: 2687 | D3: 1011.1724 | E3: 303.902 | F3: 33.911 | G3: 0.155 | H3: 0.05 | I3: na | J3: na | K3: na | L3: na | M3: na | N3: na | O3: na | P3: na
A4: 39845 | B4: 41888 | C4: 2933 | D4: 710.08633 | E4: 301.662 | F4: 33.676 | G4: 1.823 | H4: 0.605 | I4: na | J4: na | K4: na | L4: na | M4: na | N4: na | O4: na | P4: na
A5: 39873 | B5: 38675 | C5: 2724 | D5: 847.74566 | E5: 301.855 | F5: 33.811 | G5: 0.844 | H5: 0.315 | I5: na | J5: na | K5: na | L5: na | M5: na | N5: na | O5: na | P5: na
A6: 39904 | B6: 47164 | C6: 3330 | D6: 747.79736 | E6: 302.308 | F6: 34.086 | G6: 1.045 | H6: 0.387 | I6: na | J6: na | K6: na | L6: na | M6: na | N6: na | O6: na | P6: na
A7: 39934 | B7: 34854 | C7: 2463 | D7: 631.81394 | E7: 302.132 | F7: 34.218 | G7: 1.203 | H7: 0.405 | I7: na | J7: na | K7: na | L7: na | M7: na | N7: na | O7: na | P7: na
A8: 39965 | B8: 41104 | C8: 2925 | D8: 656.17604 | E8: 301.9 | F8: 34.304 | G8: 1.147 | H8: 0.394 | I8: na | J8: na | K8: na | L8: na | M8: na | N8: na | O8: na | P8: na
A9: 39995 | B9: 44366 | C9: 3184 | D9: 742.63641 | E9: 301.912 | F9: 34.523 | G9: 1.214 | H9: 0.4 | I9: na | J9: na | K9: na | L9: na | M9: na | N9: na | O9: na | P9: na
A10: 40026 | B10: 41334 | C10: 2969 | D10: 565.27596 | E10: 301.873 | F10: 34.538 | G10: 0.986 | H10: 0.308 | I10: na | J10: na | K10: na | L10: na | M10: na | N10: na | O10: na | P10: na
A11: 40057 | B11: 38084 | C11: 2757 | D11: 596.67278 | E11: 301.987 | F11: 34.596 | G11: 1.34 | H11: 0.476 | I11: na | J11: na | K11: na | L11: na | M11: na | N11: na | O11: na | P11: na
A12: 40087 | B12: 44698 | C12: 3245 | D12: 1075.5782 | E12: 301.662 | F12: 34.725 | G12: 1.394 | H12: 0.445 | I12: na | J12: na | K12: na | L12: na | M12: na | N12: na | O12: na | P12: na
A13: 40118 | B13: 38189 | C13: 2807 | D13: 773.16605 | E13: 302.002 | F13: 35.005 | G13: 1.353 | H13: 0.5 | I13: na | J13: na | K13: na | L13: na | M13: na | N13: na | O13: na | P13: na
A14: 40148 | B14: 47789 | C14: 3542 | D14: 759.1532 | E14: 302.238 | F14: 35.267 | G14: 1.192 | H14: 0.447 | I14: na | J14: na | K14: na | L14: na | M14: na | N14: na | O14: na | P14: na
... A38: 40878 | B38: 46544 | C38: 3911 | D38: 618.96805 | E38: 299.389 | F38: 37.986 | G38: 0.907 | H38: 0.301 | I38: na | J38: na | K38: na | L38: na | M38: na | N38: na | O38: na | P38: na
A39: 40909 | B39: 41699 | C39: 3543 | D39: 760.80518 | E39: 299.245 | F39: 38.043 | G39: 1.136 | H39: 0.381 | I39: na | J39: na | K39: 146.97 | L39: 95.83 | M39: na | N39: na | O39: na | P39: na
A40: 40940 | B40: 45225 | C40: 3842 | D40: 662.99068 | E40: 298.212 | F40: 37.991 | G40: 1.192 | H40: 0.43 | I40: na | J40: na | K40: 147.03 | L40: 96.14 | M40: na | N40: na | O40: na | P40: na
A41: 40969 | B41: 47575 | C41: 4056 | D41: 684.99117 | E41: 298.006 | F41: 38.08 | G41: 1.251 | H41: 0.464 | I41: na | J41: na | K41: 147.08 | L41: 96.37 | M41: na | N41: na | O41: na | P41: na
A42: 41000 | B42: 43675.328 | C42: 3738.5271 | D42: 696.10479 | E42: 297.924 | F42: 38.27 | G42: 1.213 | H42: 0.417 | I42: na | J42: na | K42: 147.09 | L42: 96.57 | M42: na | N42: na | O42: na | P42: na
A43: 41030 | B43: 42457.672 | C43: 3668.4729 | D43: 655.61029 | E43: 297.634 | F43: 38.359 | G43: 1.24 | H43: 0.345 | I43: na | J43: na | K43: 147.09 | L43: 96.67 | M43: na | N43: na | O43: na | P43: na
A44: 41061 | B44: 46846 | C44: 4042 | D44: 588.2538 | E44: 297.532 | F44: 38.375 | G44: 1.283 | H44: 0.446 | I44: na | J44: na | K44: 147.05 | L44: 96.72 | M44: na | N44: na | O44: na | P44: na
A45: 41091 | B45: 40681 | C45: 3519 | D45: 527.75271 | E45: 298.064 | F45: 38.598 | G45: 1.14 | H45: 0.392 | I45: na | J45: na | K45: 147.02 | L45: 96.76 | M45: na | N45: na | O45: na | P45: na
A46: 41122 | B46: 47254 | C46: 4092 | D46: 506.17819 | E46: 296.98 | F46: 38.455 | G46: 1.022 | H46: 0.364 | I46: na | J46: na | K46: 146.97 | L46: 96.82 | M46: na | N46: na | O46: na | P46: na
A47: 41153 | B47: 40771 | C47: 3554 | D47: 677.07182 | E47: 296.568 | F47: 38.471 | G47: 1.185 | H47: 0.397 | I47: na | J47: na | K47: 147.03 | L47: 96.97 | M47: na | N47: na | O47: na | P47: na
A48: 41183 | B48: 48442 | C48: 4236 | D48: 1093.1284 | E48: 296.799 | F48: 38.644 | G48: 1.366 | H48: 0.435 | I48: na | J48: na | K48: 147.11 | L48: 97.13 | M48: na | N48: na | O48: na | P48: na
A49: 41214 | B49: 44766 | C49: 3971 | D49: 880.57216 | E49: 297.727 | F49: 38.952 | G49: 1.239 | H49: 0.428 | I49: na | J49: na | K49: 147.2 | L49: 97.3 | M49: na | N49: na | O49: na | P49: na
A50: 41244 | B50: 44452 | C50: 3907 | D50: 535.58891 | E50: 297.828 | F50: 39.049 | G50: 0.9 | H50: 0.334 | I50: na | J50: na | K50: 147.25 | L50: 97.39 | M50: na | N50: na | O50: na | P50: na
... A62: 41609 | B62: 45860 | C62: 4237 | D62: 736.62853 | E62: 295.894 | F62: 39.918 | G62: 0.799 | H62: 0.267 | I62: na | J62: na | K62: 152.24 | L62: 102.68 | M62: na | N62: na | O62: na | P62: na
A63: 41640 | B63: 47208 | C63: 4457 | D63: 814.47373 | E63: 296.148 | F63: 40.082 | G63: 1.14 | H63: 0.391 | I63: na | J63: na | K63: 155.69 | L63: 105.72 | M63: 176.16 | N63: 118.07 | O63: na | P63: na
A64: 41671 | B64: 46836 | C64: 4462 | D64: 506.70965 | E64: 294.453 | F64: 39.868 | G64: 0.885 | H64: 0.285 | I64: na | J64: na | K64: 155.78 | L64: 106.07 | M64: 171.36 | N64: 115.51 | O64: na | P64: na
A65: 41699 | B65: 43548 | C65: 4259 | D65: 797.65642 | E65: 294.052 | F65: 39.861 | G65: 0.961 | H65: 0.317 | I65: na | J65: na | K65: 155.79 | L65: 106.2 | M65: 171.76 | N65: 123.02 | O65: na | P65: na
A66: 41730 | B66: 50264 | C66: 4881 | D66: 808.87002 | E66: 293.905 | F66: 39.909 | G66: 1.079 | H66: 0.367 | I66: na | J66: na | K66: 155.78 | L66: 106.28 | M66: 173.68 | N66: 116.09 | O66: na | P66: na
A67: 41760 | B67: 46906 | C67: 4517 | D67: 936.18885 | E67: 293.581 | F67: 39.893 | G67: 1.126 | H67: 0.395 | I67: na | J67: na | K67: 155.77 | L67: 106.34 | M67: 173.62 | N67: 114.95 | O67: na | P67: na
A68: 41791 | B68: 43714 | C68: 4249 | D68: 949.12053 | E68: 293.304 | F68: 39.961 | G68: 1.343 | H68: 0.461 | I68: na | J68: na | K68: 155.76 | L68: 106.31 | M68: 173 | N68: 113.09 | O68: na | P68: na
A69: 41821 | B69: 47934 | C69: 4598 | D69: 953.04357 | E69: 293.53 | F69: 40.162 | G69: 1.892 | H69: 0.64 | I69: na | J69: na | K69: 155.69 | L69: 106.29 | M69: 172.24 | N69: 112.48 | O69: na | P69: na
A70: 41852 | B70: 49025 | C70: 4659 | D70: 633.18605 | E70: 293.835 | F70: 40.32 | G70: 1.055 | H70: 0.326 | I70: na | J70: na | K70: 155.67 | L70: 106.19 | M70: 169.8 | N70: 119.88 | O70: na | P70: na
A71: 41883 | B71: 43394 | C71: 4186 | D71: 859.30944 | E71: 293.513 | F71: 40.313 | G71: 1.242 | H71: 0.417 | I71: na | J71: na | K71: 155.64 | L71: 106.24 | M71: 174.67 | N71: 115.64 | O71: na | P71: na
A72: 41913 | B72: 50189 | C72: 4824 | D72: 1388.171 | E72: 293.413 | F72: 40.409 | G72: 1.79 | H72: 0.579 | I72: na | J72: na | K72: 155.72 | L72: 106.36 | M72: 172.25 | N72: 111.45 | O72: na | P72: na
A73: 41944 | B73: 43653 | C73: 4227 | D73: 987.61424 | E73: 294.621 | F73: 40.829 | G73: 1.333 | H73: 0.447 | I73: na | J73: na | K73: 155.85 | L73: 106.42 | M73: 174.31 | N73: 120.52 | O73: na | P73: na
A74: 41974 | B74: 50274 | C74: 4907 | D74: 735.54642 | E74: 294.986 | F74: 40.96 | G74: 0.953 | H74: 0.298 | I74: na | J74: na | K74: 155.93 | L74: 106.51 | M74: 175.99 | N74: 119.19 | O74: na | P74: na
... A110: 43070 | B110: 50709 | C110: 5701 | D110: 986.71554 | E110: 294.914 | F110: 47.147 | G110: 0.705 | H110: 0.241 | I110: na | J110: na | K110: 162.64 | L110: 110.84 | M110: 195.58 | N110: 130.55 | O110: na | P110: na
A111: 43101 | B111: 46493 | C111: 5245 | D111: 926.59299 | E111: 294.941 | F111: 47.263 | G111: 1.264 | H111: 0.452 | I111: 1.546 | J111: 0.408 | K111: 165.88 | L111: 113.73 | M111: 189.79 | N111: 124.54 | O111: 154.01 | P111: 97.41
A112: 43132 | B112: 49294 | C112: 5550 | D112: 608.69554 | E112: 293.469 | F112: 47.028 | G112: 0.993 | H112: 0.353 | I112: 1.397 | J112: 0.365 | K112: 166.06 | L112: 114.08 | M112: 187.01 | N112: 125.96 | O112: 153.18 | P112: 99.85
A113: 43160 | B113: 52007 | C113: 5887 | D113: 695.90533 | E113: 292.996 | F113: 47.015 | G113: 0.935 | H113: 0.364 | I113: 1.572 | J113: 0.416 | K113: 166.09 | L113: 114.16 | M113: 187.99 | N113: 121.34 | O113: 150.63 | P113: 101.18
A114: 43191 | B114: 49186 | C114: 5569 | D114: 801.3549 | E114: 292.398 | F114: 46.956 | G114: 1.003 | H114: 0.398 | I114: 1.5 | J114: 0.396 | K114: 166.14 | L114: 114.2 | M114: 189.48 | N114: 125.52 | O114: 152.02 | P114: 103.83
A115: 43221 | B115: 47020 | C115: 5387 | D115: 1097.6453 | E115: 292.342 | F115: 47.118 | G115: 1.856 | H115: 0.633 | I115: 1.208 | J115: 0.337 | K115: 166.14 | L115: 114.26 | M115: 186.89 | N115: 127.79 | O115: 152.74 | P115: 101.1
A116: 43252 | B116: 51577 | C116: 5866 | D116: 889.17423 | E116: 292.795 | F116: 47.346 | G116: 1.987 | H116: 0.746 | I116: 1.158 | J116: 0.312 | K116: 166.24 | L116: 114.35 | M116: 191.18 | N116: 120.23 | O116: 152.77 | P116: 97.37
A117: 43282 | B117: 46158 | C117: 5285 | D117: 764.34256 | E117: 293.143 | F117: 47.621 | G117: 1.282 | H117: 0.501 | I117: 1.16 | J117: 0.306 | K117: 166.24 | L117: 114.37 | M117: 195.62 | N117: 125.55 | O117: 152.7 | P117: 98.64
A118: 43313 | B118: 52417 | C118: 6009 | D118: 639.59266 | E118: 293.099 | F118: 47.773 | G118: 0.872 | H118: 0.308 | I118: 1.235 | J118: 0.319 | K118: 166.19 | L118: 114.43 | M118: 197.06 | N118: 126.51 | O118: 155.78 | P118: 104.65
A119: 43344 | B119: 45869 | C119: 5282 | D119: 688.83347 | E119: 292.655 | F119: 47.737 | G119: 1.224 | H119: 0.432 | I119: 1.152 | J119: 0.321 | K119: 166.17 | L119: 114.39 | M119: 196.75 | N119: 125.04 | O119: 152.43 | P119: 99.63
A120: 43374 | B120: 52859 | C120: 6144 | D120: 1392.3981 | E120: 292.616 | F120: 47.829 | G120: 1.583 | H120: 0.564 | I120: 1.26 | J120: 0.365 | K120: 166.27 | L120: 114.54 | M120: 197.56 | N120: 130.54 | O120: 149.59 | P120: 98.74
A121: 43405 | B121: 49565 | C121: 5791 | D121: 1385.6587 | E121: 293.473 | F121: 48.147 | G121: 1.56 | H121: 0.577 | I121: 1.272 | J121: 0.316 | K121: 166.41 | L121: 114.7 | M121: 202.27 | N121: 126.95 | O121: 152.42 | P121: 106.02
A122: 43435 | B122: 49197 | C122: 5700 | D122: 780.36834 | E122: 294.053 | F122: 48.348 | G122: 0.64 | H122: 0.217 | I122: 1.143 | J122: 0.267 | K122: 166.58 | L122: 114.79 | M122: 201.96 | N122: 126.89 | O122: 157.95 | P122: 100.44
... A146: 44166 | B146: 61066 | C146: 7403 | D146: 479.37428 | E146: 290.68 | F146: 49.915 | G146: 0.333 | H146: 0.104 | I146: 1.641 | J146: 0.447 | K146: 178.51 | L146: 124.25 | M146: 257.22 | N146: 181.96 | O146: 159.5 | P146: 109.04
A147: 44197 | B147: 44880 | C147: 5444 | D147: 1131.9592 | E147: 290.536 | F147: 49.867 | G147: 0.8 | H147: 0.261 | I147: 2.402 | J147: 0.622 | K147: 183.37 | L147: 127.89 | M147: 227.82 | N147: 140.65 | O147: 165.78 | P147: 113.54 | Q147: 10
A148: 44228 | B148: 52933 | C148: 6439 | D148: 451.15338 | E148: 286.656 | F148: 48.854 | G148: 0.8 | H148: 0.275 | I148: 1.999 | J148: 0.552 | K148: 183.75 | L148: 128.39 | M148: 208.03 | N148: 139.66 | O148: 167.37 | P148: 111.25 | Q148: 12
A149: 44256 | B149: 53746 | C149: 6500 | D149: 573.09025 | E149: 285.542 | F149: 48.605 | G149: 1.556 | H149: 0.536 | I149: 2.394 | J149: 0.639 | K149: 183.91 | L149: 128.63 | M149: 216.63 | N149: 142.76 | O149: 169.76 | P149: 110.8 | Q149: 12
A150: 44287 | B150: 55037 | C150: 6664 | D150: 655.55131 | E150: 284.59 | F150: 48.488 | G150: 1.041 | H150: 0.363 | I150: 1.843 | J150: 0.522 | K150: 184.04 | L150: 128.8 | M150: 216.66 | N150: 143.56 | O150: 170.97 | P150: 112.39 | Q150: 13
A151: 44317 | B151: 50172 | C151: 6126 | D151: 1083.9641 | E151: 284.43 | F151: 48.503 | G151: 2.139 | H151: 0.683 | I151: 1.404 | J151: 0.369 | K151: 184.11 | L151: 128.88 | M151: 219.82 | N151: 139.64 | O151: 168.2 | P151: 110.89 | Q151: 11
A152: 44348 | B152: 53934 | C152: 6654 | D152: 1549.2749 | E152: 285.447 | F152: 48.87 | G152: 2.638 | H152: 0.876 | I152: 1.33 | J152: 0.347 | K152: 184.29 | L152: 128.96 | M152: 226.19 | N152: 141.32 | O152: 170.62 | P152: 114.12 | Q152: 12
A153: 44378 | B153: 57090 | C153: 7075 | D153: 1360.6319 | E153: 287.045 | F153: 49.52 | G153: 2.208 | H153: 0.751 | I153: 1.194 | J153: 0.289 | K153: 184.54 | L153: 129.12 | M153: 231.4 | N153: 144.98 | O153: 166.92 | P153: 114.03 | Q153: 13
A154: 44409 | B154: 53994 | C154: 6715 | D154: 1028.2894 | E154: 287.87 | F154: 49.935 | G154: 2.12 | H154: 0.818 | I154: 1.186 | J154: 0.362 | K154: 184.79 | L154: 129.24 | M154: 229.27 | N154: 147.91 | O154: 162.73 | P154: 116.65 | Q154: 12
A155: 44440 | B155: 51795 | C155: 6470 | D155: 1008.4819 | E155: 287.936 | F155: 50.13 | G155: 1.627 | H155: 0.599 | I155: 1.309 | J155: 0.362 | K155: 184.84 | L155: 129.31 | M155: 228.38 | N155: 147.91 | O155: 171.31 | P155: 119.83 | Q155: 11
A156: 44470 | B156: 56656 | C156: 7072 | D156: 1335.7867 | E156: 288.317 | F156: 50.295 | G156: 1.742 | H156: 0.603 | I156: 1.469 | J156: 0.431 | K156: 184.9 | L156: 129.34 | M156: 223.47 | N156: 145.58 | O156: 168.82 | P156: 115.14 | Q156: 13
A157: 44501 | B157: 51123 | C157: 6400 | D157: 1162.6447 | E157: 288.526 | F157: 50.391 | G157: 1.335 | H157: 0.49 | I157: 1.772 | J157: 0.461 | K157: 184.92 | L157: 129.35 | M157: 228.51 | N157: 148.19 | O157: 166.12 | P157: 113.82 | Q157: 11
A158: 44531 | B158: 56843 | C158: 7144 | D158: 940.15913 | E158: 288.423 | F158: 50.459 | G158: 0.566 | H158: 0.203 | I158: 2.232 | J158: 0.569 | K158: 185.08 | L158: 129.55 | M158: 249.84 | N158: 170.08 | O158: 169.28 | P158: 112.88 | Q158: 13
... A213: 46204 | B213: 79632 | C213: 11078 | D213: 757.95277 | E213: 286.788 | F213: 55.23 | G213: 1.306 | H213: 0.465 | I213: 1.248 | J213: 0.375 | K213: 264.42 | L213: 187.94 | M213: 326.97 | N213: 216.86 | O213: 237.41 | P213: 168.74 | Q213: 13
A214: 46235 | D214: 549.55392 | E214: 286.709 | F214: 55.278 | G214: 0.939 | H214: 0.334 | I214: 1.176 | J214: 0.329 | K214: 264.61 | L214: 188.23 | M214: 316.96 | N214: 212.28 | O214: 235.75 | P214: 169.02 | Q214: 11
A215: 46266 | Q215: 12
A216: 46296 | Q216: 13
A217: 46327 | Q217: 11
A218: 46357 | Q218: 14
A223: Legenda: | B223: 01-03P - dôchodok priznaný k nároku, po nároku, obnovená výplata dôchodku na základe žiadosti.
B224: 01-09P - 01-03P + dodatočne kategórie: priznaný dôchodok aj zo silového rezortu, čiastkový dôchodok (dôchodca poberá aj dôchodok zo zahraničia, žiada alebo bude žiadať o dôchodok zo zahraničia), adresa bydliska je v zahraničí.
A225: * | B225: Priemerný dôchodok predstavuje aritmetický priemer sólo a kráteného dôchodku.

Sheet cash mesacny SIR a zuctovanie
A1: Vybrané výdavky verejnej správy na mesačnej báze - hotovostná metodika (tis.)
A2: Mesiac | B2: Spolu výdavky na SIR | C2: z toho celkové doplatky | D2: zúčtovanie dávok § 112, ods. 9 | E2: Počet výplatných termínov v mesiaci
A3: 39814 | B3: 3578 | C3: 477.05762 | D3: 0
A4: 39845 | B4: 3925 | C4: 467.30348 | D4: 26
A5: 39873 | B5: 3641 | C5: 396.83478 | D5: 27
A6: 39904 | B6: 4422 | C6: 294.58466 | D6: 21
A7: 39934 | B7: 3321 | C7: 326.71192 | D7: 27
A8: 39965 | B8: 3796 | C8: 337.60263 | D8: 18
A9: 39995 | B9: 3937 | C9: 332.41246 | D9: 12
A10: 40026 | B10: 3514 | C10: 356.92023 | D10: 27
A11: 40057 | B11: 2956 | C11: 267.79865 | D11: 19
A12: 40087 | B12: 3748 | C12: 989.06482 | D12: 204
A13: 40118 | B13: 3383 | C13: 613.2525 | D13: 34
A14: 40148 | B14: 4269 | C14: 468.27468 | D14: 20
... A146: 44166 | B146: 3574 | C146: 344.599 | D146: 92
A147: 44197 | B147: 2675 | C147: 568.9545 | D147: 22 | E147: 10
A148: 44228 | B148: 3217 | C148: 208.48623 | D148: 49 | E148: 12
A149: 44256 | B149: 3358 | C149: 254.35714 | D149: 52 | E149: 12
A150: 44287 | B150: 3280 | C150: 178.3798 | D150: 45 | E150: 13
A151: 44317 | B151: 2958 | C151: 276.28588 | D151: 66 | E151: 11
A152: 44348 | B152: 3219 | C152: 375.47984 | D152: 0 | E152: 12
A153: 44378 | B153: 3068 | C153: 366.39456 | D153: 141 | E153: 13
A154: 44409 | B154: 2959 | C154: 368.14066 | D154: 144 | E154: 12
A155: 44440 | B155: 2779 | C155: 407.99916 | D155: 189 | E155: 11
A156: 44470 | B156: 3365 | C156: 752.76013 | D156: 103 | E156: 13
A157: 44501 | B157: 3177 | C157: 846.022 | D157: 0 | E157: 11
A158: 44531 | B158: 3650 | C158: 726.88094 | D158: 132 | E158: 13
... A213: 46204 | B213: 4160 | C213: 364.49295 | D213: 96 | E213: 13
A214: 46235 | C214: 363.18563 | E214: 11
A215: 46266 | E215: 12
A216: 46296 | E216: 13
A217: 46327 | E217: 11
A218: 46357 | E218: 14
